Workbook
Name BEC: '[1]Validation Lists'!$F$2:$F$230
Name BEC: '[2]Validation Lists'!$F$2:$F$230
Name BEC: 'Validation Lists'!$F$2:$F$230
Name Day: '[1]Validation Lists'!$C$2:$C$32
Name Day: '[2]Validation Lists'!$C$2:$C$32
Name Day: 'Validation Lists'!$C$2:$C$32
Name declared_etc: #REF!
Name District: '[1]Validation Lists'!$D$2:$D$30
Name District: '[2]Validation Lists'!$D$2:$D$30
Name District: 'Validation Lists'!$D$2:$D$30
Name Month: '[1]Validation Lists'!$B$2:$B$13
Name Month: '[2]Validation Lists'!$B$2:$B$13
Name Month: 'Validation Lists'!$B$2:$B$13
Name Part3: #REF!
Name PEST: #REF!
Name Species: '[1]Validation Lists'!$G$2:$G$111
Name Species: '[2]Validation Lists'!$G$2:$G$111
Name Species: 'Validation Lists'!#REF!
Name TreeSpecies: 'Validation Lists'!$G$2:$G$46
Name TSA: '[1]Validation Lists'!$E$2:$E$38
Name TSA: '[2]Validation Lists'!$E$2:$E$38
Name TSA: 'Validation Lists'!$E$2:$E$38
Name UTM: '[1]Validation Lists'!$H$2:$H$6
Name UTM: '[2]Validation Lists'!$H$2:$H$6
Name UTM: 'Validation Lists'!$H$2:$H$6
Name Year: '[1]Validation Lists'!$A$2:$A$23
Name Year: '[2]Validation Lists'!$A$2:$A$23
Name Year: 'Validation Lists'!$A$2:$A$23

Sheet Plot (1)
G1: STAND DEVELOPMENT MONITORING FIELD CARD | N1: SURVEYOR NAME(S) | X1: YEAR | Y1: MONTH | Z1: DAY | AA1: PAGE | AC1: OF
AA2: 1 | AC2: 10
A3: MAPSHEET - OPENING NO. | H3: POLYGON | J3: LOCATION | U3: DISTRICT | X3: TSA | AA3: BEC
A5: POINT OF COMMENCEMENT / BEARING & DISTANCE TO THIS PLOT | U5: UTM ZONE | W5: EASTING | AA5: NORTHING
A7: PLOT NO. (3.99m) | F7: MITD (ORIG) | H7: M-VALUE (ORIG) | J7: FOREST HEALTH DAMAGE AGENTS | T7: PREF./ACC. | V7: PREFERRED SPP (ORIG)
A8: 1
A9: TREE SPP | C9: Layer | D9: TOTAL TREES | E9: TOTAL CON. | F9: DEAD TREES | G9: DEAD CON. | H9: WS | I9: FG | J9: LIVE | K9: DEAD | L9: LIVE | M9: DEAD | N9: LIVE | O9: DEAD | P9: LIVE | Q9: DEAD | R9: LIVE | S9: DEAD | T9: WS | U9: FG | V9: ACCEPTABLE SPP(ORIG)
C10: TOTALS> | D10: =SUM(D11:D40) -> 0 | E10: =SUM(E11:E40) -> 0 | F10: =SUM(F11:F40) -> 0 | G10: =SUM(G11:G40) -> 0 | H10: =SUM(H11:H40) -> 0 | I10: =SUM(I11:I40) -> 0 | J10: =SUM(J11:J40) -> 0 | K10: =SUM(K11:K40) -> 0 | ... U10: =SUM(U11:U40) -> 0 | V10: DATA VOLUME TREE | AA10: GROWTH INTERCEPT SAMPLE (5.64m)
C11: 1 | V11: L/D | W11: SSP | X11: DBH | Y11: HT | Z11: FHF
C12: 2 | AA12: SPP
C13: 3 | AA13: DBH
C14: 1 | AA14: TOT HT
C15: 2 | AA15: AGE@1.3M
C16: 3 | AA16: SITE INDEX
C17: 1 | AA17: NOTES
C18: 2
C19: 3
C20: 1
C21: 2
C22: 3
C23: 1
C24: 2
C25: 3
C26: 1
C27: 2
C28: 3
C29: 1
... C40: 3
A41: ACCESS NOTES: | T41: INVENTORY LABEL | Z41: Minor Spp. | AD41: CR CL
T42: Ldg Spp | W42: 2 nd Spp
T43: % | U43: Age | V43: Ht(m) | W43: % | X43: Age | Y43: Ht(m) | Z43: % | AA43: % | AB43: % | AC43: % | AD43: %

Sheet Plot (2)
G1: STAND DEVELOPMENT MONITORING FIELD CARD | N1: SURVEYOR NAME(S) | X1: YEAR | Y1: MONTH | Z1: DAY | AA1: PAGE | AC1: OF
N2: ='Plot (1)'!N2:W2 -> 0 | X2: ='Plot (1)'!X2 -> 0 | Y2: ='Plot (1)'!Y2 -> 0 | Z2: ='Plot (1)'!Z2 -> 0 | AA2: 2 | AC2: 10
A3: MAPSHEET - OPENING NO. | H3: POLYGON | J3: LOCATION | U3: DISTRICT | X3: TSA | AA3: BEC
A4: ='Plot (1)'!A4:G4 -> 0 | H4: ='Plot (1)'!H4:I4 -> 0 | J4: ='Plot (1)'!J4:T4 -> 0 | U4: ='Plot (1)'!U4:W4 -> 0 | X4: ='Plot (1)'!X4:Z4 -> 0 | AA4: ='Plot (1)'!AA4:AD4 -> 0
A5: POINT OF COMMENCEMENT / BEARING & DISTANCE TO THIS PLOT | U5: UTM ZONE | W5: EASTING | AA5: NORTHING
U6: ='Plot (1)'!U6:V6 -> 0
A7: PLOT NO. (3.99m) | F7: MITD (ORIG) | H7: M-VALUE (ORIG) | J7: FOREST HEALTH DAMAGE AGENTS | T7: PREF./ACC. | V7: PREFERRED SPP (ORIG) | Z7: ='Plot (1)'!Z7:AD8 -> 0
A8: 2 | F8: ='Plot (1)'!F8:G8 -> 0 | H8: ='Plot (1)'!H8:I8 -> 0
A9: TREE SPP | C9: Layer | D9: TOTAL TREES | E9: TOTAL CON. | F9: DEAD TREES | G9: DEAD CON. | H9: WS | I9: FG | J9: LIVE | K9: DEAD | L9: LIVE | M9: DEAD | N9: LIVE | O9: DEAD | P9: LIVE | Q9: DEAD | R9: LIVE | S9: DEAD | T9: WS | U9: FG | V9: ACCEPTABLE SPP(ORIG) | Z9: ='Plot (1)'!Z9:AD9 -> 0
C10: TOTALS> | D10: =SUM(D11:D40) -> 0 | E10: =SUM(E11:E40) -> 0 | F10: =SUM(F11:F40) -> 0 | G10: =SUM(G11:G40) -> 0 | H10: =SUM(H11:H40) -> 0 | I10: =SUM(I11:I40) -> 0 | J10: =SUM(J11:J40) -> 0 | K10: =SUM(K11:K40) -> 0 | ... U10: =SUM(U11:U40) -> 0 | V10: DATA VOLUME TREE | AA10: GROWTH INTERCEPT SAMPLE (5.64m)
C11: 1 | V11: L/D | W11: SSP | X11: DBH | Y11: HT | Z11: FHF
C12: 2 | AA12: SPP
C13: 3 | AA13: DBH
C14: 1 | AA14: TOT HT
C15: 2 | AA15: AGE@1.3M
C16: 3 | AA16: SITE INDEX
C17: 1 | AA17: NOTES
C18: 2
C19: 3
C20: 1
C21: 2
C22: 3
C23: 1
C24: 2
C25: 3
C26: 1
C27: 2
C28: 3
C29: 1
... C40: 3
A41: ACCESS NOTES: | T41: INVENTORY LABEL | Z41: Minor Spp. | AD41: CR CL
T42: Ldg Spp | W42: 2 nd Spp
T43: % | U43: Age | V43: Ht(m) | W43: % | X43: Age | Y43: Ht(m) | Z43: % | AA43: % | AB43: % | AC43: % | AD43: %

Sheet Plot (3)
G1: STAND DEVELOPMENT MONITORING FIELD CARD | N1: SURVEYOR NAME(S) | X1: YEAR | Y1: MONTH | Z1: DAY | AA1: PAGE | AC1: OF
N2: ='Plot (1)'!N2:W2 -> 0 | X2: ='Plot (1)'!X2 -> 0 | Y2: ='Plot (1)'!Y2 -> 0 | Z2: ='Plot (1)'!Z2 -> 0 | AA2: 3 | AC2: 10
A3: MAPSHEET - OPENING NO. | H3: POLYGON | J3: LOCATION | U3: DISTRICT | X3: TSA | AA3: BEC
A4: ='Plot (1)'!A4:G4 -> 0 | H4: ='Plot (1)'!H4:I4 -> 0 | J4: ='Plot (1)'!J4:T4 -> 0 | U4: ='Plot (1)'!U4:W4 -> 0 | X4: ='Plot (1)'!X4:Z4 -> 0 | AA4: ='Plot (1)'!AA4:AD4 -> 0
A5: POINT OF COMMENCEMENT / BEARING & DISTANCE TO THIS PLOT | U5: UTM ZONE | W5: EASTING | AA5: NORTHING
U6: ='Plot (1)'!U6:V6 -> 0
A7: PLOT NO. (3.99m) | F7: MITD (ORIG) | H7: M-VALUE (ORIG) | J7: FOREST HEALTH DAMAGE AGENTS | T7: PREF./ACC. | V7: PREFERRED SPP (ORIG) | Z7: ='Plot (1)'!Z7:AD8 -> 0
A8: 3 | F8: ='Plot (1)'!F8:G8 -> 0 | H8: ='Plot (1)'!H8:I8 -> 0
A9: TREE SPP | C9: Layer | D9: TOTAL TREES | E9: TOTAL CON. | F9: DEAD TREES | G9: DEAD CON. | H9: WS | I9: FG | J9: LIVE | K9: DEAD | L9: LIVE | M9: DEAD | N9: LIVE | O9: DEAD | P9: LIVE | Q9: DEAD | R9: LIVE | S9: DEAD | T9: WS | U9: FG | V9: ACCEPTABLE SPP(ORIG) | Z9: ='Plot (1)'!Z9:AD9 -> 0
C10: TOTALS> | D10: =SUM(D11:D40) -> 0 | E10: =SUM(E11:E40) -> 0 | F10: =SUM(F11:F40) -> 0 | G10: =SUM(G11:G40) -> 0 | H10: =SUM(H11:H40) -> 0 | I10: =SUM(I11:I40) -> 0 | J10: =SUM(J11:J40) -> 0 | K10: =SUM(K11:K40) -> 0 | ... U10: =SUM(U11:U40) -> 0 | V10: DATA VOLUME TREE | AA10: GROWTH INTERCEPT SAMPLE (5.64m)
C11: 1 | V11: L/D | W11: SSP | X11: DBH | Y11: HT | Z11: FHF
C12: 2 | AA12: SPP
C13: 3 | AA13: DBH
C14: 1 | AA14: TOT HT
C15: 2 | AA15: AGE@1.3M
C16: 3 | AA16: SITE INDEX
C17: 1 | AA17: NOTES
C18: 2
C19: 3
C20: 1
C21: 2
C22: 3
C23: 1
C24: 2
C25: 3
C26: 1
C27: 2
C28: 3
C29: 1
... C40: 3
A41: ACCESS NOTES: | T41: INVENTORY LABEL | Z41: Minor Spp. | AD41: CR CL
T42: Ldg Spp | W42: 2 nd Spp
T43: % | U43: Age | V43: Ht(m) | W43: % | X43: Age | Y43: Ht(m) | Z43: % | AA43: % | AB43: % | AC43: % | AD43: %

Sheet Plot (4)
G1: STAND DEVELOPMENT MONITORING FIELD CARD | N1: SURVEYOR NAME(S) | X1: YEAR | Y1: MONTH | Z1: DAY | AA1: PAGE | AC1: OF
N2: ='Plot (1)'!N2:W2 -> 0 | X2: ='Plot (1)'!X2 -> 0 | Y2: ='Plot (1)'!Y2 -> 0 | Z2: ='Plot (1)'!Z2 -> 0 | AA2: 4 | AC2: 10
A3: MAPSHEET - OPENING NO. | H3: POLYGON | J3: LOCATION | U3: DISTRICT | X3: TSA | AA3: BEC
A4: ='Plot (1)'!A4:G4 -> 0 | H4: ='Plot (1)'!H4:I4 -> 0 | J4: ='Plot (1)'!J4:T4 -> 0 | U4: ='Plot (1)'!U4:W4 -> 0 | X4: ='Plot (1)'!X4:Z4 -> 0 | AA4: ='Plot (1)'!AA4:AD4 -> 0
A5: POINT OF COMMENCEMENT / BEARING & DISTANCE TO THIS PLOT | U5: UTM ZONE | W5: EASTING | AA5: NORTHING
U6: ='Plot (1)'!U6:V6 -> 0
A7: PLOT NO. (3.99m) | F7: MITD (ORIG) | H7: M-VALUE (ORIG) | J7: FOREST HEALTH DAMAGE AGENTS | T7: PREF./ACC. | V7: PREFERRED SPP (ORIG) | Z7: ='Plot (1)'!Z7:AD8 -> 0
A8: 4 | F8: ='Plot (1)'!F8:G8 -> 0 | H8: ='Plot (1)'!H8:I8 -> 0
A9: TREE SPP | C9: Layer | D9: TOTAL TREES | E9: TOTAL CON. | F9: DEAD TREES | G9: DEAD CON. | H9: WS | I9: FG | J9: LIVE | K9: DEAD | L9: LIVE | M9: DEAD | N9: LIVE | O9: DEAD | P9: LIVE | Q9: DEAD | R9: LIVE | S9: DEAD | T9: WS | U9: FG | V9: ACCEPTABLE SPP(ORIG) | Z9: ='Plot (1)'!Z9:AD9 -> 0
C10: TOTALS> | D10: =SUM(D11:D40) -> 0 | E10: =SUM(E11:E40) -> 0 | F10: =SUM(F11:F40) -> 0 | G10: =SUM(G11:G40) -> 0 | H10: =SUM(H11:H40) -> 0 | I10: =SUM(I11:I40) -> 0 | J10: =SUM(J11:J40) -> 0 | K10: =SUM(K11:K40) -> 0 | ... U10: =SUM(U11:U40) -> 0 | V10: DATA VOLUME TREE | AA10: GROWTH INTERCEPT SAMPLE (5.64m)
C11: 1 | V11: L/D | W11: SSP | X11: DBH | Y11: HT | Z11: FHF
C12: 2 | AA12: SPP
C13: 3 | AA13: DBH
C14: 1 | AA14: TOT HT
C15: 2 | AA15: AGE@1.3M
C16: 3 | AA16: SITE INDEX
C17: 1 | AA17: NOTES
C18: 2
C19: 3
C20: 1
C21: 2
C22: 3
C23: 1
C24: 2
C25: 3
C26: 1
C27: 2
C28: 3
C29: 1
... C40: 3
A41: ACCESS NOTES: | T41: INVENTORY LABEL | Z41: Minor Spp. | AD41: CR CL
T42: Ldg Spp | W42: 2 nd Spp
T43: % | U43: Age | V43: Ht(m) | W43: % | X43: Age | Y43: Ht(m) | Z43: % | AA43: % | AB43: % | AC43: % | AD43: %

Sheet Plot (5)
G1: STAND DEVELOPMENT MONITORING FIELD CARD | N1: SURVEYOR NAME(S) | X1: YEAR | Y1: MONTH | Z1: DAY | AA1: PAGE | AC1: OF
N2: ='Plot (1)'!N2:W2 -> 0 | X2: ='Plot (1)'!X2 -> 0 | Y2: ='Plot (1)'!Y2 -> 0 | Z2: ='Plot (1)'!Z2 -> 0 | AA2: 5 | AC2: 10
A3: MAPSHEET - OPENING NO. | H3: POLYGON | J3: LOCATION | U3: DISTRICT | X3: TSA | AA3: BEC
A4: ='Plot (1)'!A4:G4 -> 0 | H4: ='Plot (1)'!H4:I4 -> 0 | J4: ='Plot (1)'!J4:T4 -> 0 | U4: ='Plot (1)'!U4:W4 -> 0 | X4: ='Plot (1)'!X4:Z4 -> 0 | AA4: ='Plot (1)'!AA4:AD4 -> 0
A5: POINT OF COMMENCEMENT / BEARING & DISTANCE TO THIS PLOT | U5: UTM ZONE | W5: EASTING | AA5: NORTHING
U6: ='Plot (1)'!U6:V6 -> 0
A7: PLOT NO. (3.99m) | F7: MITD (ORIG) | H7: M-VALUE (ORIG) | J7: FOREST HEALTH DAMAGE AGENTS | T7: PREF./ACC. | V7: PREFERRED SPP (ORIG) | Z7: ='Plot (1)'!Z7:AD8 -> 0
A8: 5 | F8: ='Plot (1)'!F8:G8 -> 0 | H8: ='Plot (1)'!H8:I8 -> 0
A9: TREE SPP | C9: Layer | D9: TOTAL TREES | E9: TOTAL CON. | F9: DEAD TREES | G9: DEAD CON. | H9: WS | I9: FG | J9: LIVE | K9: DEAD | L9: LIVE | M9: DEAD | N9: LIVE | O9: DEAD | P9: LIVE | Q9: DEAD | R9: LIVE | S9: DEAD | T9: WS | U9: FG | V9: ACCEPTABLE SPP(ORIG) | Z9: ='Plot (1)'!Z9:AD9 -> 0
C10: TOTALS> | D10: =SUM(D11:D40) -> 0 | E10: =SUM(E11:E40) -> 0 | F10: =SUM(F11:F40) -> 0 | G10: =SUM(G11:G40) -> 0 | H10: =SUM(H11:H40) -> 0 | I10: =SUM(I11:I40) -> 0 | J10: =SUM(J11:J40) -> 0 | K10: =SUM(K11:K40) -> 0 | ... U10: =SUM(U11:U40) -> 0 | V10: DATA VOLUME TREE | AA10: GROWTH INTERCEPT SAMPLE (5.64m)
C11: 1 | V11: L/D | W11: SSP | X11: DBH | Y11: HT | Z11: FHF
C12: 2 | AA12: SPP
C13: 3 | AA13: DBH
C14: 1 | AA14: TOT HT
C15: 2 | AA15: AGE@1.3M
C16: 3 | AA16: SITE INDEX
C17: 1 | AA17: NOTES
C18: 2
C19: 3
C20: 1
C21: 2
C22: 3
C23: 1
C24: 2
C25: 3
C26: 1
C27: 2
C28: 3
C29: 1
... C40: 3
A41: ACCESS NOTES: | T41: INVENTORY LABEL | Z41: Minor Spp. | AD41: CR CL
T42: Ldg Spp | W42: 2 nd Spp
T43: % | U43: Age | V43: Ht(m) | W43: % | X43: Age | Y43: Ht(m) | Z43: % | AA43: % | AB43: % | AC43: % | AD43: %

Sheet Plot (6)
G1: STAND DEVELOPMENT MONITORING FIELD CARD | N1: SURVEYOR NAME(S) | X1: YEAR | Y1: MONTH | Z1: DAY | AA1: PAGE | AC1: OF
N2: ='Plot (1)'!N2:W2 -> 0 | X2: ='Plot (1)'!X2 -> 0 | Y2: ='Plot (1)'!Y2 -> 0 | Z2: ='Plot (1)'!Z2 -> 0 | AA2: 6 | AC2: 10
A3: MAPSHEET - OPENING NO. | H3: POLYGON | J3: LOCATION | U3: DISTRICT | X3: TSA | AA3: BEC
A4: ='Plot (1)'!A4:G4 -> 0 | H4: ='Plot (1)'!H4:I4 -> 0 | J4: ='Plot (1)'!J4:T4 -> 0 | U4: ='Plot (1)'!U4:W4 -> 0 | X4: ='Plot (1)'!X4:Z4 -> 0 | AA4: ='Plot (1)'!AA4:AD4 -> 0
A5: POINT OF COMMENCEMENT / BEARING & DISTANCE TO THIS PLOT | U5: UTM ZONE | W5: EASTING | AA5: NORTHING
U6: ='Plot (1)'!U6:V6 -> 0
A7: PLOT NO. (3.99m) | F7: MITD (ORIG) | H7: M-VALUE (ORIG) | J7: FOREST HEALTH DAMAGE AGENTS | T7: PREF./ACC. | V7: PREFERRED SPP (ORIG) | Z7: ='Plot (1)'!Z7:AD8 -> 0
A8: 6 | F8: ='Plot (1)'!F8:G8 -> 0 | H8: ='Plot (1)'!H8:I8 -> 0
A9: TREE SPP | C9: Layer | D9: TOTAL TREES | E9: TOTAL CON. | F9: DEAD TREES | G9: DEAD CON. | H9: WS | I9: FG | J9: LIVE | K9: DEAD | L9: LIVE | M9: DEAD | N9: LIVE | O9: DEAD | P9: LIVE | Q9: DEAD | R9: LIVE | S9: DEAD | T9: WS | U9: FG | V9: ACCEPTABLE SPP(ORIG) | Z9: ='Plot (1)'!Z9:AD9 -> 0
C10: TOTALS> | D10: =SUM(D11:D40) -> 0 | E10: =SUM(E11:E40) -> 0 | F10: =SUM(F11:F40) -> 0 | G10: =SUM(G11:G40) -> 0 | H10: =SUM(H11:H40) -> 0 | I10: =SUM(I11:I40) -> 0 | J10: =SUM(J11:J40) -> 0 | K10: =SUM(K11:K40) -> 0 | ... U10: =SUM(U11:U40) -> 0 | V10: DATA VOLUME TREE | AA10: GROWTH INTERCEPT SAMPLE (5.64m)
C11: 1 | V11: L/D | W11: SSP | X11: DBH | Y11: HT | Z11: FHF
C12: 2 | AA12: SPP
C13: 3 | AA13: DBH
C14: 1 | AA14: TOT HT
C15: 2 | AA15: AGE@1.3M
C16: 3 | AA16: SITE INDEX
C17: 1 | AA17: NOTES
C18: 2
C19: 3
C20: 1
C21: 2
C22: 3
C23: 1
C24: 2
C25: 3
C26: 1
C27: 2
C28: 3
C29: 1
... C40: 3
A41: ACCESS NOTES: | T41: INVENTORY LABEL | Z41: Minor Spp. | AD41: CR CL
T42: Ldg Spp | W42: 2 nd Spp
T43: % | U43: Age | V43: Ht(m) | W43: % | X43: Age | Y43: Ht(m) | Z43: % | AA43: % | AB43: % | AC43: % | AD43: %

Sheet Plot (7)
G1: STAND DEVELOPMENT MONITORING FIELD CARD | N1: SURVEYOR NAME(S) | X1: YEAR | Y1: MONTH | Z1: DAY | AA1: PAGE | AC1: OF
N2: ='Plot (1)'!N2:W2 -> 0 | X2: ='Plot (1)'!X2 -> 0 | Y2: ='Plot (1)'!Y2 -> 0 | Z2: ='Plot (1)'!Z2 -> 0 | AA2: 7 | AC2: 10
A3: MAPSHEET - OPENING NO. | H3: POLYGON | J3: LOCATION | U3: DISTRICT | X3: TSA | AA3: BEC
A4: ='Plot (1)'!A4:G4 -> 0 | H4: ='Plot (1)'!H4:I4 -> 0 | J4: ='Plot (1)'!J4:T4 -> 0 | U4: ='Plot (1)'!U4:W4 -> 0 | X4: ='Plot (1)'!X4:Z4 -> 0 | AA4: ='Plot (1)'!AA4:AD4 -> 0
A5: POINT OF COMMENCEMENT / BEARING & DISTANCE TO THIS PLOT | U5: UTM ZONE | W5: EASTING | AA5: NORTHING
U6: ='Plot (1)'!U6:V6 -> 0
A7: PLOT NO. (3.99m) | F7: MITD (ORIG) | H7: M-VALUE (ORIG) | J7: FOREST HEALTH DAMAGE AGENTS | T7: PREF./ACC. | V7: PREFERRED SPP (ORIG) | Z7: ='Plot (1)'!Z7:AD8 -> 0
A8: 7 | F8: ='Plot (1)'!F8:G8 -> 0 | H8: ='Plot (1)'!H8:I8 -> 0
A9: TREE SPP | C9: Layer | D9: TOTAL TREES | E9: TOTAL CON. | F9: DEAD TREES | G9: DEAD CON. | H9: WS | I9: FG | J9: LIVE | K9: DEAD | L9: LIVE | M9: DEAD | N9: LIVE | O9: DEAD | P9: LIVE | Q9: DEAD | R9: LIVE | S9: DEAD | T9: WS | U9: FG | V9: ACCEPTABLE SPP(ORIG) | Z9: ='Plot (1)'!Z9:AD9 -> 0
C10: TOTALS> | D10: =SUM(D11:D40) -> 0 | E10: =SUM(E11:E40) -> 0 | F10: =SUM(F11:F40) -> 0 | G10: =SUM(G11:G40) -> 0 | H10: =SUM(H11:H40) -> 0 | I10: =SUM(I11:I40) -> 0 | J10: =SUM(J11:J40) -> 0 | K10: =SUM(K11:K40) -> 0 | ... U10: =SUM(U11:U40) -> 0 | V10: DATA VOLUME TREE | AA10: GROWTH INTERCEPT SAMPLE (5.64m)
C11: 1 | V11: L/D | W11: SSP | X11: DBH | Y11: HT | Z11: FHF
C12: 2 | AA12: SPP
C13: 3 | AA13: DBH
C14: 1 | AA14: TOT HT
C15: 2 | AA15: AGE@1.3M
C16: 3 | AA16: SITE INDEX
C17: 1 | AA17: NOTES
C18: 2
C19: 3
C20: 1
C21: 2
C22: 3
C23: 1
C24: 2
C25: 3
C26: 1
C27: 2
C28: 3
C29: 1
... C40: 3
A41: ACCESS NOTES: | T41: INVENTORY LABEL | Z41: Minor Spp. | AD41: CR CL
T42: Ldg Spp | W42: 2 nd Spp
T43: % | U43: Age | V43: Ht(m) | W43: % | X43: Age | Y43: Ht(m) | Z43: % | AA43: % | AB43: % | AC43: % | AD43: %

Sheet Plot (8)
G1: STAND DEVELOPMENT MONITORING FIELD CARD | N1: SURVEYOR NAME(S) | X1: YEAR | Y1: MONTH | Z1: DAY | AA1: PAGE | AC1: OF
N2: ='Plot (1)'!N2:W2 -> 0 | X2: ='Plot (1)'!X2 -> 0 | Y2: ='Plot (1)'!Y2 -> 0 | Z2: ='Plot (1)'!Z2 -> 0 | AA2: 8 | AC2: 10
A3: MAPSHEET - OPENING NO. | H3: POLYGON | J3: LOCATION | U3: DISTRICT | X3: TSA | AA3: BEC
A4: ='Plot (1)'!A4:G4 -> 0 | H4: ='Plot (1)'!H4:I4 -> 0 | J4: ='Plot (1)'!J4:T4 -> 0 | U4: ='Plot (1)'!U4:W4 -> 0 | X4: ='Plot (1)'!X4:Z4 -> 0 | AA4: ='Plot (1)'!AA4:AD4 -> 0
A5: POINT OF COMMENCEMENT / BEARING & DISTANCE TO THIS PLOT | U5: UTM ZONE | W5: EASTING | AA5: NORTHING
U6: ='Plot (1)'!U6:V6 -> 0
A7: PLOT NO. (3.99m) | F7: MITD (ORIG) | H7: M-VALUE (ORIG) | J7: FOREST HEALTH DAMAGE AGENTS | T7: PREF./ACC. | V7: PREFERRED SPP (ORIG) | Z7: ='Plot (1)'!Z7:AD8 -> 0
A8: 8 | F8: ='Plot (1)'!F8:G8 -> 0 | H8: ='Plot (1)'!H8:I8 -> 0
A9: TREE SPP | C9: Layer | D9: TOTAL TREES | E9: TOTAL CON. | F9: DEAD TREES | G9: DEAD CON. | H9: WS | I9: FG | J9: LIVE | K9: DEAD | L9: LIVE | M9: DEAD | N9: LIVE | O9: DEAD | P9: LIVE | Q9: DEAD | R9: LIVE | S9: DEAD | T9: WS | U9: FG | V9: ACCEPTABLE SPP(ORIG) | Z9: ='Plot (1)'!Z9:AD9 -> 0
C10: TOTALS> | D10: =SUM(D11:D40) -> 0 | E10: =SUM(E11:E40) -> 0 | F10: =SUM(F11:F40) -> 0 | G10: =SUM(G11:G40) -> 0 | H10: =SUM(H11:H40) -> 0 | I10: =SUM(I11:I40) -> 0 | J10: =SUM(J11:J40) -> 0 | K10: =SUM(K11:K40) -> 0 | ... U10: =SUM(U11:U40) -> 0 | V10: DATA VOLUME TREE | AA10: GROWTH INTERCEPT SAMPLE (5.64m)
C11: 1 | V11: L/D | W11: SSP | X11: DBH | Y11: HT | Z11: FHF
C12: 2 | AA12: SPP
C13: 3 | AA13: DBH
C14: 1 | AA14: TOT HT
C15: 2 | AA15: AGE@1.3M
C16: 3 | AA16: SITE INDEX
C17: 1 | AA17: NOTES
C18: 2
C19: 3
C20: 1
C21: 2
C22: 3
C23: 1
C24: 2
C25: 3
C26: 1
C27: 2
C28: 3
C29: 1
... C40: 3
A41: ACCESS NOTES: | T41: INVENTORY LABEL | Z41: Minor Spp. | AD41: CR CL
T42: Ldg Spp | W42: 2 nd Spp
T43: % | U43: Age | V43: Ht(m) | W43: % | X43: Age | Y43: Ht(m) | Z43: % | AA43: % | AB43: % | AC43: % | AD43: %

Sheet Plot (9)
G1: STAND DEVELOPMENT MONITORING FIELD CARD | N1: SURVEYOR NAME(S) | X1: YEAR | Y1: MONTH | Z1: DAY | AA1: PAGE | AC1: OF
N2: ='Plot (1)'!N2:W2 -> 0 | X2: ='Plot (1)'!X2 -> 0 | Y2: ='Plot (1)'!Y2 -> 0 | Z2: ='Plot (1)'!Z2 -> 0 | AA2: 9 | AC2: 10
A3: MAPSHEET - OPENING NO. | H3: POLYGON | J3: LOCATION | U3: DISTRICT | X3: TSA | AA3: BEC
A4: ='Plot (1)'!A4:G4 -> 0 | H4: ='Plot (1)'!H4:I4 -> 0 | J4: ='Plot (1)'!J4:T4 -> 0 | U4: ='Plot (1)'!U4:W4 -> 0 | X4: ='Plot (1)'!X4:Z4 -> 0 | AA4: ='Plot (1)'!AA4:AD4 -> 0
A5: POINT OF COMMENCEMENT / BEARING & DISTANCE TO THIS PLOT | U5: UTM ZONE | W5: EASTING | AA5: NORTHING
U6: ='Plot (1)'!U6:V6 -> 0
A7: PLOT NO. (3.99m) | F7: MITD (ORIG) | H7: M-VALUE (ORIG) | J7: FOREST HEALTH DAMAGE AGENTS | T7: PREF./ACC. | V7: PREFERRED SPP (ORIG) | Z7: ='Plot (1)'!Z7:AD8 -> 0
A8: 9 | F8: ='Plot (1)'!F8:G8 -> 0 | H8: ='Plot (1)'!H8:I8 -> 0
A9: TREE SPP | C9: Layer | D9: TOTAL TREES | E9: TOTAL CON. | F9: DEAD TREES | G9: DEAD CON. | H9: WS | I9: FG | J9: LIVE | K9: DEAD | L9: LIVE | M9: DEAD | N9: LIVE | O9: DEAD | P9: LIVE | Q9: DEAD | R9: LIVE | S9: DEAD | T9: WS | U9: FG | V9: ACCEPTABLE SPP(ORIG) | Z9: ='Plot (1)'!Z9:AD9 -> 0
C10: TOTALS> | D10: =SUM(D11:D40) -> 0 | E10: =SUM(E11:E40) -> 0 | F10: =SUM(F11:F40) -> 0 | G10: =SUM(G11:G40) -> 0 | H10: =SUM(H11:H40) -> 0 | I10: =SUM(I11:I40) -> 0 | J10: =SUM(J11:J40) -> 0 | K10: =SUM(K11:K40) -> 0 | ... U10: =SUM(U11:U40) -> 0 | V10: DATA VOLUME TREE | AA10: GROWTH INTERCEPT SAMPLE (5.64m)
C11: 1 | V11: L/D | W11: SSP | X11: DBH | Y11: HT | Z11: FHF
C12: 2 | AA12: SPP
C13: 3 | AA13: DBH
C14: 1 | AA14: TOT HT
C15: 2 | AA15: AGE@1.3M
C16: 3 | AA16: SITE INDEX
C17: 1 | AA17: NOTES
C18: 2
C19: 3
C20: 1
C21: 2
C22: 3
C23: 1
C24: 2
C25: 3
C26: 1
C27: 2
C28: 3
C29: 1
... C40: 3
A41: ACCESS NOTES: | T41: INVENTORY LABEL | Z41: Minor Spp. | AD41: CR CL
T42: Ldg Spp | W42: 2 nd Spp
T43: % | U43: Age | V43: Ht(m) | W43: % | X43: Age | Y43: Ht(m) | Z43: % | AA43: % | AB43: % | AC43: % | AD43: %

Sheet Plot (10)
G1: STAND DEVELOPMENT MONITORING FIELD CARD | N1: SURVEYOR NAME(S) | X1: YEAR | Y1: MONTH | Z1: DAY | AA1: PAGE | AC1: OF
N2: ='Plot (1)'!N2:W2 -> 0 | X2: ='Plot (1)'!X2 -> 0 | Y2: ='Plot (1)'!Y2 -> 0 | Z2: ='Plot (1)'!Z2 -> 0 | AA2: 10 | AC2: 10
A3: MAPSHEET - OPENING NO. | H3: POLYGON | J3: LOCATION | U3: DISTRICT | X3: TSA | AA3: BEC
A4: ='Plot (1)'!A4:G4 -> 0 | H4: ='Plot (1)'!H4:I4 -> 0 | J4: ='Plot (1)'!J4:T4 -> 0 | U4: ='Plot (1)'!U4:W4 -> 0 | X4: ='Plot (1)'!X4:Z4 -> 0 | AA4: ='Plot (1)'!AA4:AD4 -> 0
A5: POINT OF COMMENCEMENT / BEARING & DISTANCE TO THIS PLOT | U5: UTM ZONE | W5: EASTING | AA5: NORTHING
U6: ='Plot (1)'!U6:V6 -> 0
A7: PLOT NO. (3.99m) | F7: MITD (ORIG) | H7: M-VALUE (ORIG) | J7: FOREST HEALTH DAMAGE AGENTS | T7: PREF./ACC. | V7: PREFERRED SPP (ORIG) | Z7: ='Plot (1)'!Z7:AD8 -> 0
A8: 10 | F8: ='Plot (1)'!F8:G8 -> 0 | H8: ='Plot (1)'!H8:I8 -> 0
A9: TREE SPP | C9: Layer | D9: TOTAL TREES | E9: TOTAL CON. | F9: DEAD TREES | G9: DEAD CON. | H9: WS | I9: FG | J9: LIVE | K9: DEAD | L9: LIVE | M9: DEAD | N9: LIVE | O9: DEAD | P9: LIVE | Q9: DEAD | R9: LIVE | S9: DEAD | T9: WS | U9: FG | V9: ACCEPTABLE SPP(ORIG) | Z9: ='Plot (1)'!Z9:AD9 -> 0
C10: TOTALS> | D10: =SUM(D11:D40) -> 0 | E10: =SUM(E11:E40) -> 0 | F10: =SUM(F11:F40) -> 0 | G10: =SUM(G11:G40) -> 0 | H10: =SUM(H11:H40) -> 0 | I10: =SUM(I11:I40) -> 0 | J10: =SUM(J11:J40) -> 0 | K10: =SUM(K11:K40) -> 0 | ... U10: =SUM(U11:U40) -> 0 | V10: DATA VOLUME TREE | AA10: GROWTH INTERCEPT SAMPLE (5.64m)
C11: 1 | V11: L/D | W11: SSP | X11: DBH | Y11: HT | Z11: FHF
C12: 2 | AA12: SPP
C13: 3 | AA13: DBH
C14: 1 | AA14: TOT HT
C15: 2 | AA15: AGE@1.3M
C16: 3 | AA16: SITE INDEX
C17: 1 | AA17: NOTES
C18: 2
C19: 3
C20: 1
C21: 2 | AF21: Once you are finished entering your plot data, select the "Data" tab at the top of the page and select "Refresh All" to update the following tabs.
C22: 3
C23: 1
C24: 2
C25: 3
C26: 1
C27: 2
C28: 3
C29: 1
C30: 2
C31: 3
C32: 1
C33: 2
... C40: 3
A41: ACCESS NOTES: | T41: INVENTORY LABEL | Z41: Minor Spp. | AD41: CR CL
T42: Ldg Spp | W42: 2 nd Spp
T43: % | U43: Age | V43: Ht(m) | W43: % | X43: Age | Y43: Ht(m) | Z43: % | AA43: % | AB43: % | AC43: % | AD43: %

Sheet Quick Plot Summary
B2: MAPSHEET - OPENING NO. | G2: POLYGON
B3: =+'Plot (1)'!A4:G4 -> 0 | G3: =+'Plot (1)'!H4 -> 0
B4: PLOT | C4: TOTAL TREES | D4: TOTAL CON. | E4: DEAD TREES | F4: DEAD CON. | G4: WS | H4: FG
B5: Plot 1 | C5: =IF(CELL("type",('Plot (1)'!D$10))="b","Blank Cell",IF(CELL("type",('Plot (1)'!D$10))="v",IF(('Plot (1)'!D$10)=SUM('Plot (1)'!D$11:D$40),('Plot (1)'!D$10),"Addition or Text Error"))) -> 0 | D5: =IF(CELL("type",('Plot (1)'!E$10))="b","Blank Cell",IF(CELL("type",('Plot (1)'!E$10))="v",IF(('Plot (1)'!E$10)=SUM('Plot (1)'!E$11:E$40),('Plot (1)'!E$10),"Addition or Text Error"))) -> 0 | E5: =IF(CELL("type",('Plot (1)'!F$10))="b","Blank Cell",IF(CELL("type",('Plot (1)'!F$10))="v",IF(('Plot (1)'!F$10)=SUM('Plot (1)'!F$11:F$40),('Plot (1)'!F$10),"Addition or Text Error"))) -> 0 | F5: =IF(CELL("type",('Plot (1)'!G$10))="b","Blank Cell",IF(CELL("type",('Plot (1)'!G$10))="v",IF(('Plot (1)'!G$10)=SUM('Plot (1)'!G$11:G$40),('Plot (1)'!G$10),"Addition or Text Error"))) -> 0 | G5: =IF(CELL("type",('Plot (1)'!H$10))="b","Blank Cell",IF(CELL("type",('Plot (1)'!H$10))="v",IF(('Plot (1)'!H$10)=SUM('Plot (1)'!H$11:H$40),('Plot (1)'!H$10),"Addition or Text Error"))) -> 0 | H5: =IF(CELL("type",('Plot (1)'!I$10))="b","Blank Cell",IF(CELL("type",('Plot (1)'!I$10))="v",IF(('Plot (1)'!I$10)=SUM('Plot (1)'!I$11:I$40),('Plot (1)'!I$10),"Addition or Text Error"))) -> 0
B6: Plot 2 | C6: =IF(CELL("type",('Plot (2)'!D$10))="b","Blank Cell",IF(CELL("type",('Plot (2)'!D$10))="v",IF(('Plot (2)'!D$10)=SUM('Plot (2)'!D$11:D$40),('Plot (2)'!D$10),"Addition or Text Error"))) -> 0 | D6: =IF(CELL("type",('Plot (2)'!E$10))="b","Blank Cell",IF(CELL("type",('Plot (2)'!E$10))="v",IF(('Plot (2)'!E$10)=SUM('Plot (2)'!E$11:E$40),('Plot (2)'!E$10),"Addition or Text Error"))) -> 0 | E6: =IF(CELL("type",('Plot (2)'!F$10))="b","Blank Cell",IF(CELL("type",('Plot (2)'!F$10))="v",IF(('Plot (2)'!F$10)=SUM('Plot (2)'!F$11:F$40),('Plot (2)'!F$10),"Addition or Text Error"))) -> 0 | F6: =IF(CELL("type",('Plot (2)'!G$10))="b","Blank Cell",IF(CELL("type",('Plot (2)'!G$10))="v",IF(('Plot (2)'!G$10)=SUM('Plot (2)'!G$11:G$40),('Plot (2)'!G$10),"Addition or Text Error"))) -> 0 | G6: =IF(CELL("type",('Plot (2)'!H$10))="b","Blank Cell",IF(CELL("type",('Plot (2)'!H$10))="v",IF(('Plot (2)'!H$10)=SUM('Plot (2)'!H$11:H$40),('Plot (2)'!H$10),"Addition or Text Error"))) -> 0 | H6: =IF(CELL("type",('Plot (2)'!I$10))="b","Blank Cell",IF(CELL("type",('Plot (2)'!I$10))="v",IF(('Plot (2)'!I$10)=SUM('Plot (2)'!I$11:I$40),('Plot (2)'!I$10),"Addition or Text Error"))) -> 0
B7: Plot 3 | C7: =IF(CELL("type",('Plot (3)'!D$10))="b","Blank Cell",IF(CELL("type",('Plot (3)'!D$10))="v",IF(('Plot (3)'!D$10)=SUM('Plot (3)'!D$11:D$40),('Plot (3)'!D$10),"Addition or Text Error"))) -> 0 | D7: =IF(CELL("type",('Plot (3)'!E$10))="b","Blank Cell",IF(CELL("type",('Plot (3)'!E$10))="v",IF(('Plot (3)'!E$10)=SUM('Plot (3)'!E$11:E$40),('Plot (3)'!E$10),"Addition or Text Error"))) -> 0 | E7: =IF(CELL("type",('Plot (3)'!F$10))="b","Blank Cell",IF(CELL("type",('Plot (3)'!F$10))="v",IF(('Plot (3)'!F$10)=SUM('Plot (3)'!F$11:F$40),('Plot (3)'!F$10),"Addition or Text Error"))) -> 0 | F7: =IF(CELL("type",('Plot (3)'!G$10))="b","Blank Cell",IF(CELL("type",('Plot (3)'!G$10))="v",IF(('Plot (3)'!G$10)=SUM('Plot (3)'!G$11:G$40),('Plot (3)'!G$10),"Addition or Text Error"))) -> 0 | G7: =IF(CELL("type",('Plot (3)'!H$10))="b","Blank Cell",IF(CELL("type",('Plot (3)'!H$10))="v",IF(('Plot (3)'!H$10)=SUM('Plot (3)'!H$11:H$40),('Plot (3)'!H$10),"Addition or Text Error"))) -> 0 | H7: =IF(CELL("type",('Plot (3)'!I$10))="b","Blank Cell",IF(CELL("type",('Plot (3)'!I$10))="v",IF(('Plot (3)'!I$10)=SUM('Plot (3)'!I$11:I$40),('Plot (3)'!I$10),"Addition or Text Error"))) -> 0
B8: Plot 4 | C8: =IF(CELL("type",('Plot (4)'!D$10))="b","Blank Cell",IF(CELL("type",('Plot (4)'!D$10))="v",IF(('Plot (4)'!D$10)=SUM('Plot (4)'!D$11:D$40),('Plot (4)'!D$10),"Addition or Text Error"))) -> 0 | D8: =IF(CELL("type",('Plot (4)'!E$10))="b","Blank Cell",IF(CELL("type",('Plot (4)'!E$10))="v",IF(('Plot (4)'!E$10)=SUM('Plot (4)'!E$11:E$40),('Plot (4)'!E$10),"Addition or Text Error"))) -> 0 | E8: =IF(CELL("type",('Plot (4)'!F$10))="b","Blank Cell",IF(CELL("type",('Plot (4)'!F$10))="v",IF(('Plot (4)'!F$10)=SUM('Plot (4)'!F$11:F$40),('Plot (4)'!F$10),"Addition or Text Error"))) -> 0 | F8: =IF(CELL("type",('Plot (4)'!G$10))="b","Blank Cell",IF(CELL("type",('Plot (4)'!G$10))="v",IF(('Plot (4)'!G$10)=SUM('Plot (4)'!G$11:G$40),('Plot (4)'!G$10),"Addition or Text Error"))) -> 0 | G8: =IF(CELL("type",('Plot (4)'!H$10))="b","Blank Cell",IF(CELL("type",('Plot (4)'!H$10))="v",IF(('Plot (4)'!H$10)=SUM('Plot (4)'!H$11:H$40),('Plot (4)'!H$10),"Addition or Text Error"))) -> 0 | H8: =IF(CELL("type",('Plot (4)'!I$10))="b","Blank Cell",IF(CELL("type",('Plot (4)'!I$10))="v",IF(('Plot (4)'!I$10)=SUM('Plot (4)'!I$11:I$40),('Plot (4)'!I$10),"Addition or Text Error"))) -> 0
B9: Plot 5 | C9: =IF(CELL("type",('Plot (5)'!D$10))="b","Blank Cell",IF(CELL("type",('Plot (5)'!D$10))="v",IF(('Plot (5)'!D$10)=SUM('Plot (5)'!D$11:D$40),('Plot (5)'!D$10),"Addition or Text Error"))) -> 0 | D9: =IF(CELL("type",('Plot (5)'!E$10))="b","Blank Cell",IF(CELL("type",('Plot (5)'!E$10))="v",IF(('Plot (5)'!E$10)=SUM('Plot (5)'!E$11:E$40),('Plot (5)'!E$10),"Addition or Text Error"))) -> 0 | E9: =IF(CELL("type",('Plot (5)'!F$10))="b","Blank Cell",IF(CELL("type",('Plot (5)'!F$10))="v",IF(('Plot (5)'!F$10)=SUM('Plot (5)'!F$11:F$40),('Plot (5)'!F$10),"Addition or Text Error"))) -> 0 | F9: =IF(CELL("type",('Plot (5)'!G$10))="b","Blank Cell",IF(CELL("type",('Plot (5)'!G$10))="v",IF(('Plot (5)'!G$10)=SUM('Plot (5)'!G$11:G$40),('Plot (5)'!G$10),"Addition or Text Error"))) -> 0 | G9: =IF(CELL("type",('Plot (5)'!H$10))="b","Blank Cell",IF(CELL("type",('Plot (5)'!H$10))="v",IF(('Plot (5)'!H$10)=SUM('Plot (5)'!H$11:H$40),('Plot (5)'!H$10),"Addition or Text Error"))) -> 0 | H9: =IF(CELL("type",('Plot (5)'!I$10))="b","Blank Cell",IF(CELL("type",('Plot (5)'!I$10))="v",IF(('Plot (5)'!I$10)=SUM('Plot (5)'!I$11:I$40),('Plot (5)'!I$10),"Addition or Text Error"))) -> 0 | K9: The " Quick Plot Summary" tab is automated. It DOES NOT require any input.
B10: Plot 6 | C10: =IF(CELL("type",('Plot (6)'!D$10))="b","Blank Cell",IF(CELL("type",('Plot (6)'!D$10))="v",IF(('Plot (6)'!D$10)=SUM('Plot (6)'!D$11:D$40),('Plot (6)'!D$10),"Addition or Text Error"))) -> 0 | D10: =IF(CELL("type",('Plot (6)'!E$10))="b","Blank Cell",IF(CELL("type",('Plot (6)'!E$10))="v",IF(('Plot (6)'!E$10)=SUM('Plot (6)'!E$11:E$40),('Plot (6)'!E$10),"Addition or Text Error"))) -> 0 | E10: =IF(CELL("type",('Plot (6)'!F$10))="b","Blank Cell",IF(CELL("type",('Plot (6)'!F$10))="v",IF(('Plot (6)'!F$10)=SUM('Plot (6)'!F$11:F$40),('Plot (6)'!F$10),"Addition or Text Error"))) -> 0 | F10: =IF(CELL("type",('Plot (6)'!G$10))="b","Blank Cell",IF(CELL("type",('Plot (6)'!G$10))="v",IF(('Plot (6)'!G$10)=SUM('Plot (6)'!G$11:G$40),('Plot (6)'!G$10),"Addition or Text Error"))) -> 0 | G10: =IF(CELL("type",('Plot (6)'!H$10))="b","Blank Cell",IF(CELL("type",('Plot (6)'!H$10))="v",IF(('Plot (6)'!H$10)=SUM('Plot (6)'!H$11:H$40),('Plot (6)'!H$10),"Addition or Text Error"))) -> 0 | H10: =IF(CELL("type",('Plot (6)'!I$10))="b","Blank Cell",IF(CELL("type",('Plot (6)'!I$10))="v",IF(('Plot (6)'!I$10)=SUM('Plot (6)'!I$11:I$40),('Plot (6)'!I$10),"Addition or Text Error"))) -> 0
B11: Plot 7 | C11: =IF(CELL("type",('Plot (7)'!D$10))="b","Blank Cell",IF(CELL("type",('Plot (7)'!D$10))="v",IF(('Plot (7)'!D$10)=SUM('Plot (7)'!D$11:D$40),('Plot (7)'!D$10),"Addition or Text Error"))) -> 0 | D11: =IF(CELL("type",('Plot (7)'!E$10))="b","Blank Cell",IF(CELL("type",('Plot (7)'!E$10))="v",IF(('Plot (7)'!E$10)=SUM('Plot (7)'!E$11:E$40),('Plot (7)'!E$10),"Addition or Text Error"))) -> 0 | E11: =IF(CELL("type",('Plot (7)'!F$10))="b","Blank Cell",IF(CELL("type",('Plot (7)'!F$10))="v",IF(('Plot (7)'!F$10)=SUM('Plot (7)'!F$11:F$40),('Plot (7)'!F$10),"Addition or Text Error"))) -> 0 | F11: =IF(CELL("type",('Plot (7)'!G$10))="b","Blank Cell",IF(CELL("type",('Plot (7)'!G$10))="v",IF(('Plot (7)'!G$10)=SUM('Plot (7)'!G$11:G$40),('Plot (7)'!G$10),"Addition or Text Error"))) -> 0 | G11: =IF(CELL("type",('Plot (7)'!H$10))="b","Blank Cell",IF(CELL("type",('Plot (7)'!H$10))="v",IF(('Plot (7)'!H$10)=SUM('Plot (7)'!H$11:H$40),('Plot (7)'!H$10),"Addition or Text Error"))) -> 0 | H11: =IF(CELL("type",('Plot (7)'!I$10))="b","Blank Cell",IF(CELL("type",('Plot (7)'!I$10))="v",IF(('Plot (7)'!I$10)=SUM('Plot (7)'!I$11:I$40),('Plot (7)'!I$10),"Addition or Text Error"))) -> 0
B12: Plot 8 | C12: =IF(CELL("type",('Plot (8)'!D$10))="b","Blank Cell",IF(CELL("type",('Plot (8)'!D$10))="v",IF(('Plot (8)'!D$10)=SUM('Plot (8)'!D$11:D$40),('Plot (8)'!D$10),"Addition or Text Error"))) -> 0 | D12: =IF(CELL("type",('Plot (8)'!E$10))="b","Blank Cell",IF(CELL("type",('Plot (8)'!E$10))="v",IF(('Plot (8)'!E$10)=SUM('Plot (8)'!E$11:E$324),('Plot (8)'!E$10),"Addition or Text Error"))) -> 0 | E12: =IF(CELL("type",('Plot (8)'!F$10))="b","Blank Cell",IF(CELL("type",('Plot (8)'!F$10))="v",IF(('Plot (8)'!F$10)=SUM('Plot (8)'!F$11:F$40),('Plot (8)'!F$10),"Addition or Text Error"))) -> 0 | F12: =IF(CELL("type",('Plot (8)'!G$10))="b","Blank Cell",IF(CELL("type",('Plot (8)'!G$10))="v",IF(('Plot (8)'!G$10)=SUM('Plot (8)'!G$11:G$40),('Plot (8)'!G$10),"Addition or Text Error"))) -> 0 | G12: =IF(CELL("type",('Plot (8)'!H$10))="b","Blank Cell",IF(CELL("type",('Plot (8)'!H$10))="v",IF(('Plot (8)'!H$10)=SUM('Plot (8)'!H$11:H$40),('Plot (8)'!H$10),"Addition or Text Error"))) -> 0 | H12: =IF(CELL("type",('Plot (8)'!I$10))="b","Blank Cell",IF(CELL("type",('Plot (8)'!I$10))="v",IF(('Plot (8)'!I$10)=SUM('Plot (8)'!I$11:I$40),('Plot (8)'!I$10),"Addition or Text Error"))) -> 0
B13: Plot 9 | C13: =IF(CELL("type",('Plot (9)'!D$10))="b","Blank Cell",IF(CELL("type",('Plot (9)'!D$10))="v",IF(('Plot (9)'!D$10)=SUM('Plot (9)'!D$11:D$40),('Plot (9)'!D$10),"Addition or Text Error"))) -> 0 | D13: =IF(CELL("type",('Plot (9)'!E$10))="b","Blank Cell",IF(CELL("type",('Plot (9)'!E$10))="v",IF(('Plot (9)'!E$10)=SUM('Plot (9)'!E$11:E$40),('Plot (9)'!E$10),"Addition or Text Error"))) -> 0 | E13: =IF(CELL("type",('Plot (9)'!F$10))="b","Blank Cell",IF(CELL("type",('Plot (9)'!F$10))="v",IF(('Plot (9)'!F$10)=SUM('Plot (9)'!F$11:F$40),('Plot (9)'!F$10),"Addition or Text Error"))) -> 0 | F13: =IF(CELL("type",('Plot (9)'!G$10))="b","Blank Cell",IF(CELL("type",('Plot (9)'!G$10))="v",IF(('Plot (9)'!G$10)=SUM('Plot (9)'!G$11:G$40),('Plot (9)'!G$10),"Addition or Text Error"))) -> 0 | G13: =IF(CELL("type",('Plot (9)'!H$10))="b","Blank Cell",IF(CELL("type",('Plot (9)'!H$10))="v",IF(('Plot (9)'!H$10)=SUM('Plot (9)'!H$11:H$40),('Plot (9)'!H$10),"Addition or Text Error"))) -> 0 | H13: =IF(CELL("type",('Plot (9)'!I$10))="b","Blank Cell",IF(CELL("type",('Plot (9)'!I$10))="v",IF(('Plot (9)'!I$10)=SUM('Plot (9)'!I$11:I$40),('Plot (9)'!I$10),"Addition or Text Error"))) -> 0
B14: Plot 10 | C14: =IF(CELL("type",('Plot (10)'!D$10))="b","Blank Cell",IF(CELL("type",('Plot (10)'!D$10))="v",IF(('Plot (10)'!D$10)=SUM('Plot (10)'!D$11:D$40),('Plot (10)'!D$10),"Addition or Text Error"))) -> 0 | D14: =IF(CELL("type",('Plot (10)'!E$10))="b","Blank Cell",IF(CELL("type",('Plot (10)'!E$10))="v",IF(('Plot (10)'!E$10)=SUM('Plot (10)'!E$11:E$40),('Plot (10)'!E$10),"Addition or Text Error"))) -> 0 | E14: =IF(CELL("type",('Plot (10)'!F$10))="b","Blank Cell",IF(CELL("type",('Plot (10)'!F$10))="v",IF(('Plot (10)'!F$10)=SUM('Plot (10)'!F$11:F$40),('Plot (10)'!F$10),"Addition or Text Error"))) -> 0 | F14: =IF(CELL("type",('Plot (10)'!G$10))="b","Blank Cell",IF(CELL("type",('Plot (10)'!G$10))="v",IF(('Plot (10)'!G$10)=SUM('Plot (10)'!G$11:G$40),('Plot (10)'!G$10),"Addition or Text Error"))) -> 0 | G14: =IF(CELL("type",('Plot (10)'!H$10))="b","Blank Cell",IF(CELL("type",('Plot (10)'!H$10))="v",IF(('Plot (10)'!H$10)=SUM('Plot (10)'!H$11:H$40),('Plot (10)'!H$10),"Addition or Text Error"))) -> 0 | H14: =IF(CELL("type",('Plot (10)'!I$10))="b","Blank Cell",IF(CELL("type",('Plot (10)'!I$10))="v",IF(('Plot (10)'!I$10)=SUM('Plot (10)'!I$11:I$40),('Plot (10)'!I$10),"Addition or Text Error"))) -> 0
B15: TOTALS | C15: =+C5+C6+C7+C8+C9+C10+C11+C12+C13+C14 -> 0 | D15: =+D5+D6+D7+D8+D9+D10+D11+D12+D13+D14 -> 0 | E15: =+E5+E6+E7+E8+E9+E10+E11+E12+E13+E14 -> 0 | F15: =+F5+F6+F7+F8+F9+F10+F11+F12+F13+F14 -> 0 | G15: =+G5+G6+G7+G8+G9+G10+G11+G12+G13+G14 -> 0 | H15: =+H5+H6+H7+H8+H9+H10+H11+H12+H13+H14 -> 0
E17: Total Conifers/ha | G17: =D15*200/10 -> 0
E18: Well Spaced/ha | G18: =G15*200/10 -> 0
E19: Free Growing/ha | G19: =H15*200/10 -> 0
E20: Damage Live/ha | G20: ='FH Agent Summary'!C116*200/10 -> 0
E21: Damaged Dead/ha | G21: ='FH Agent Summary'!D116*200/10 -> 0

Sheet SDM BLOCK SUMMARY
A1: District | B1: MAPSHEET | C1: POLYGON | D1: GROUP E = Early (Declared '87-'94) L = Late (Declared '95 - '01) | E1: Gross Area (ha) | F1: Date (year) Planted | G1: Silv. Treatments | H1: BEC | I1: WS @ Declaration | J1: WS Current | K1: WS (M) Current | L1: FG @ Declaration | M1: FG Current | N1: FG (M) Current | O1: SI @ Declaration | P1: SI @ Current | Q1: SIBEC Current | R1: Total Healthy Trees | S1: Forest Health Factor 1 | T1: % Total Trees Affected by FHF 1 | U1: Forest Health Factor 2 | V1: % Total Trees Affected by FHF 2 | W1: Forest Health Factor 3 | X1: % Total Trees Affected by FHF 3 | Y1: Forest Health Factor 4 | Z1: % Total Trees Affected by FHF 4 | AA1: Forest Health Factor 5 | AB1: % Total Trees Affected by FHF 5 | AC1: Forest Health Factor 6 | AD1: % Total Trees Affected by FHF 6 | AE1: Forest Health Factor 7 | AF1: % Total Trees Affected by FHF 7 | AG1: Forest Health Factor 8 | AH1: % Total Trees Affected by FHF 8 | AI1: Forest Health Factor 9 | AJ1: % Total Trees Affected by FHF 9 | AK1: Forest Health Factor 10 | AL1: % Total Trees Affected by FHF 10 | AM1: Total Affected Trees (including dead)/ha | AN1: 1 Inv. Leading Spp. @ declaration | AO1: % Leading Spp 1 @ declaration | AP1: 2 Inv. Leading Spp. @ declaration | AQ1: % Leading Spp 2 @ declaration | AR1: 1 Inv. Leading Spp. Current | AS1: % Leading Spp 1 Current | AT1: 2 Inv. Leading Spp. Current | AU1: % Leading Spp 2 Current | AV1: Current measured gross vol/ha (m3) | AW1: Year Logged | AX1: Year Declared FG | AY1: Current Age | AZ1: WS sph LCL @ Cl .90 (M) | BA1: FG sph LCL @ Cl .90 (M) | BB1: WS sph LCL @ Cl .90 | BC1: FG sph LCL @ Cl .90 | BD1: Avg DBH (current) measured (cm) (Quadratic Mean) | BE1: MAX DBH (current) measured (cm) (Quadratic Mean - Top 10) | BF1: Total Trees/ha @ declaration | BG1: Total Trees/ha (Current) ALL | BH1: Total Trees /ha (Current) LAYER 1 | BI1: Total Trees /ha (Current) LAYER 2 | BJ1: Total Trees /ha (Current) LAYER 3
A2: ='Plot (1)'!U4 -> 0 | B2: ='Plot (1)'!A4 -> 0 | C2: ='Plot (1)'!H4 -> 0 | H2: ='Plot (1)'!AA4 -> 0 | J2: ='Quick Plot Summary'!G18 -> 0 | K2: ='LCL Calculator'!F14 -> 0 | M2: ='Quick Plot Summary'!G19 -> 0 | N2: ='LCL Calculator'!H14 -> 0 | P2: =AVERAGE('Plot (1)'!AC16:AD16,'Plot (2)'!AC16:AD16,'Plot (3)'!AC16:AD16,'Plot (4)'!AC16:AD16,'Plot (5)'!AC16:AD16,'Plot (6)'!AC16:AD16,'Plot (7)'!AC16:AD16,'Plot (8)'!AC16:AD16,'Plot (9)'!AC16:AD16,'Plot (10)'!AC16:AD16) -> #DIV/0! | R2: =BG2-AM2 -> 0 | S2: ='FH Agent Summary'!AR4 -> (blank) | T2: =((('FH Agent Summary'!AZ4)/10)*200)/BG2 -> #DIV/0! | U2: ='FH Agent Summary'!AR5 -> N/A | V2: =((('FH Agent Summary'!AZ5)/10)*200)/BG2 -> #DIV/0! | W2: ='FH Agent Summary'!AR6 -> 0 | X2: =((('FH Agent Summary'!AZ6)/10)*200)/BG2 -> #DIV/0! | Y2: ='FH Agent Summary'!AR7 -> 0 | Z2: =((('FH Agent Summary'!AZ7)/10)*200)/BG2 -> #DIV/0! | AA2: ='FH Agent Summary'!AR8 -> 0 | AB2: =((('FH Agent Summary'!AZ8)/10)*200)/BG2 -> #DIV/0! | AC2: ='FH Agent Summary'!AR9 -> 0 | AD2: =((('FH Agent Summary'!AZ9)/10)*200)/BG2 -> #DIV/0! | AE2: ='FH Agent Summary'!AR13 -> 0 | AF2: =((('FH Agent Summary'!AZ13)/10)*200)/BG2 -> #DIV/0! | AG2: ='FH Agent Summary'!AR14 -> 0 | AH2: =((('FH Agent Summary'!AZ14)/10)*200)/BG2 -> #DIV/0! | AI2: ='FH Agent Summary'!AR15 -> 0 | AJ2: =((('FH Agent Summary'!AZ15)/10)*200)/BG2 -> #DIV/0! | AK2: ='FH Agent Summary'!AR16 -> 0 | AL2: =((('FH Agent Summary'!AZ16)/10)*200)/BG2 -> #DIV/0! | AM2: ='Quick Plot Summary'!G20+'Quick Plot Summary'!G21 -> 0 | AR2: ='Inventory Summary'!E15 -> 0 | AS2: ='Inventory Summary'!F15 -> 0 | AT2: ='Inventory Summary'!E16 -> 0 | AU2: ='Inventory Summary'!F16 -> 0 | AV2: ='Volume Calculator'!K13 -> 0 | AZ2: ='LCL Calculator'!P13 -> 0 | BA2: ='LCL Calculator'!AA13 -> 0 | BB2: ='LCL Calculator'!P27 -> 0 | BC2: ='LCL Calculator'!AA27 -> 0 | BD2: ='Quadratic Mean Calculator'!G5 -> #DIV/0! | BE2: ='Quadratic Mean Calculator'!H5 -> 0 | BG2: =(('Quick Plot Summary'!C15)*200)/10 -> 0 | BH2: =((('Plot (1)'!D11+'Plot (1)'!D14+'Plot (1)'!D17+'Plot (1)'!D20+'Plot (1)'!D23+'Plot (1)'!D26+'Plot (1)'!D29+'Plot (1)'!D32+'Plot (1)'!D35+'Plot (1)'!D38)+('Plot (2)'!D11+'Plot (2)'!D14+'Plot (2)'!D17+'Plot (2)'!D20+'Plot (2)'!D23+'Plot (2)'!D26+'Plot (2)'!D29+'Plot (2)'!D32+'Plot (2)'!D35+'Plot (2)'!D38)+('Plot (3)'!D11+'Plot (3)'!D14+'Plot (3)'!D17+'Plot (3)'!D20+'Plot (3)'!D23+'Plot (3)'!D26+'Plot (3)'!D29+'Plot (3)'!D32+'Plot (3)'!D35+'Plot (3)'!D38)+('Plot (4)'!D11+'Plot (4)'!D14+'Plot (4)'!D17+'Plot (4)'!D20+'Plot (4)'!D23+'Plot (4)'!D26+'Plot (4)'!D29+'Plot (4)'!D32+'Plot (4)'!D35+'Plot (4)'!D38)+('Plot (5)'!D11+'Plot (5)'!D14+'Plot (5)'!D17+'Plot (5)'!D20+'Plot (5)'!D23+'Plot (5)'!D26+'Plot (5)'!D29+'Plot (5)'!D32+'Plot (5)'!D35+'Plot (5)'!D38)+('Plot (6)'!D11+'Plot (6)'!D14+'Plot (6)'!D17+'Plot (6)'!D20+'Plot (6)'!D23+'Plot (6)'!D26+'Plot (6)'!D29+'Plot (6)'!D32+'Plot (6)'!D35+'Plot (6)'!D38)+('Plot (7)'!D11+'Plot (7)'!D14+'Plot (7)'!D17+'Plot (7)'!D20+'Plot (7)'!D23+'Plot (7)'!D26+'Plot (7)'!D29+'Plot (7)'!D32+'Plot (7)'!D35+'Plot (7)'!D38)+('Plot (8)'!D11+'Plot (8)'!D14+'Plot (8)'!D17+'Plot (8)'!D20+'Plot (8)'!D23+'Plot (8)'!D26+'Plot (8)'!D29+'Plot (8)'!D32+'Plot (8)'!D35+'Plot (8)'!D38)+('Plot (9)'!D11+'Plot (9)'!D14+'Plot (9)'!D17+'Plot (9)'!D20+'Plot (9)'!D23+'Plot (9)'!D26+'Plot (9)'!D29+'Plot (9)'!D32+'Plot (9)'!D35+'Plot (9)'!D38)+('Plot (10)'!D11+'Plot (10)'!D14+'Plot (10)'!D17+'Plot (10)'!D20+'Plot (10)'!D23+'Plot (10)'!D26+'Plot (10)'!D29+'Plot (10)'!D32+'Plot (10)'!D35+'Plot (10)'!D38))*200)/10 -> 0 | BI2: =((('Plot (1)'!D12+'Plot (1)'!D15+'Plot (1)'!D18+'Plot (1)'!D20+'Plot (1)'!D24+'Plot (1)'!D27+'Plot (1)'!D30+'Plot (1)'!D33+'Plot (1)'!D36+'Plot (1)'!D39)+('Plot (2)'!D12+'Plot (2)'!D15+'Plot (2)'!D18+'Plot (2)'!D20+'Plot (2)'!D24+'Plot (2)'!D27+'Plot (2)'!D30+'Plot (2)'!D33+'Plot (2)'!D36+'Plot (2)'!D39)+('Plot (3)'!D12+'Plot (3)'!D15+'Plot (3)'!D18+'Plot (3)'!D20+'Plot (3)'!D24+'Plot (3)'!D27+'Plot (3)'!D30+'Plot (3)'!D33+'Plot (3)'!D36+'Plot (3)'!D39)+('Plot (4)'!D12+'Plot (4)'!D15+'Plot (4)'!D18+'Plot (4)'!D20+'Plot (4)'!D24+'Plot (4)'!D27+'Plot (4)'!D30+'Plot (4)'!D33+'Plot (4)'!D36+'Plot (4)'!D39)+('Plot (5)'!D12+'Plot (5)'!D15+'Plot (5)'!D18+'Plot (5)'!D20+'Plot (5)'!D24+'Plot (5)'!D27+'Plot (5)'!D30+'Plot (5)'!D33+'Plot (5)'!D36+'Plot (5)'!D39)+('Plot (6)'!D12+'Plot (6)'!D15+'Plot (6)'!D18+'Plot (6)'!D20+'Plot (6)'!D24+'Plot (6)'!D27+'Plot (6)'!D30+'Plot (6)'!D33+'Plot (6)'!D36+'Plot (6)'!D39)+('Plot (7)'!D12+'Plot (7)'!D15+'Plot (7)'!D18+'Plot (7)'!D20+'Plot (7)'!D24+'Plot (7)'!D27+'Plot (7)'!D30+'Plot (7)'!D33+'Plot (7)'!D36+'Plot (7)'!D39)+('Plot (8)'!D12+'Plot (8)'!D15+'Plot (8)'!D18+'Plot (8)'!D20+'Plot (8)'!D24+'Plot (8)'!D27+'Plot (8)'!D30+'Plot (8)'!D33+'Plot (8)'!D36+'Plot (8)'!D39)+('Plot (9)'!D12+'Plot (9)'!D15+'Plot (9)'!D18+'Plot (9)'!D20+'Plot (9)'!D24+'Plot (9)'!D27+'Plot (9)'!D30+'Plot (9)'!D33+'Plot (9)'!D36+'Plot (9)'!D39)+('Plot (10)'!D12+'Plot (10)'!D15+'Plot (10)'!D18+'Plot (10)'!D20+'Plot (10)'!D24+'Plot (10)'!D27+'Plot (10)'!D30+'Plot (10)'!D33+'Plot (10)'!D36+'Plot (10)'!D39))*200)/10 -> 0 | BJ2: =((('Plot (1)'!D13+'Plot (1)'!D16+'Plot (1)'!D19+'Plot (1)'!D20+'Plot (1)'!D25+'Plot (1)'!D28+'Plot (1)'!D31+'Plot (1)'!D34+'Plot (1)'!D37+'Plot (1)'!D40)+('Plot (2)'!D13+'Plot (2)'!D16+'Plot (2)'!D19+'Plot (2)'!D20+'Plot (2)'!D25+'Plot (2)'!D28+'Plot (2)'!D31+'Plot (2)'!D34+'Plot (2)'!D37+'Plot (2)'!D40)+('Plot (3)'!D13+'Plot (3)'!D16+'Plot (3)'!D19+'Plot (3)'!D20+'Plot (3)'!D25+'Plot (3)'!D28+'Plot (3)'!D31+'Plot (3)'!D34+'Plot (3)'!D37+'Plot (3)'!D40)+('Plot (4)'!D13+'Plot (4)'!D16+'Plot (4)'!D19+'Plot (4)'!D20+'Plot (4)'!D25+'Plot (4)'!D28+'Plot (4)'!D31+'Plot (4)'!D34+'Plot (4)'!D37+'Plot (4)'!D40)+('Plot (5)'!D13+'Plot (5)'!D16+'Plot (5)'!D19+'Plot (5)'!D20+'Plot (5)'!D25+'Plot (5)'!D28+'Plot (5)'!D31+'Plot (5)'!D34+'Plot (5)'!D37+'Plot (5)'!D40)+('Plot (6)'!D13+'Plot (6)'!D16+'Plot (6)'!D19+'Plot (6)'!D20+'Plot (6)'!D25+'Plot (6)'!D28+'Plot (6)'!D31+'Plot (6)'!D34+'Plot (6)'!D37+'Plot (6)'!D40)+('Plot (7)'!D13+'Plot (7)'!D16+'Plot (7)'!D19+'Plot (7)'!D20+'Plot (7)'!D25+'Plot (7)'!D28+'Plot (7)'!D31+'Plot (7)'!D34+'Plot (7)'!D37+'Plot (7)'!D40)+('Plot (8)'!D13+'Plot (8)'!D16+'Plot (8)'!D19+'Plot (8)'!D20+'Plot (8)'!D25+'Plot (8)'!D28+'Plot (8)'!D31+'Plot (8)'!D34+'Plot (8)'!D37+'Plot (8)'!D40)+('Plot (9)'!D13+'Plot (9)'!D16+'Plot (9)'!D19+'Plot (9)'!D20+'Plot (9)'!D25+'Plot (9)'!D28+'Plot (9)'!D31+'Plot (9)'!D34+'Plot (9)'!D37+'Plot (9)'!D40)+('Plot (10)'!D13+'Plot (10)'!D16+'Plot (10)'!D19+'Plot (10)'!D20+'Plot (10)'!D25+'Plot (10)'!D28+'Plot (10)'!D31+'Plot (10)'!D34+'Plot (10)'!D37+'Plot (10)'!D40))*200)/10 -> 0
C6: The SDM BLOCK SUMMARY tab requires input ONLY in the columns with GREEN headings - this data will come from the original opening file survey.
C7: The columns with GREY headings are auto-filled directly from the Plot Cards. The columns with BLUE headings are auto-calculated from plot data.

Sheet FH Agent Summary
A1: PLOT | B1: TREE SPP | C1: LIVE LAYER 1 | D1: DEAD LAYER 1 | E1: LIVE LAYER 2 | F1: DEAD LAYER 2 | G1: LIVE LAYER 3 | H1: DEAD LAYER 3 | I1: LIVE LAYER 1 | J1: DEAD LAYER 1 | K1: LIVE LAYER 2 | L1: DEAD LAYER 2 | M1: LIVE LAYER 3 | N1: DEAD LAYER 3 | O1: LIVE LAYER 1 | P1: DEAD LAYER 1 | Q1: LIVE LAYER 2 | R1: DEAD LAYER 2 | S1: LIVE LAYER 3 | T1: DEAD LAYER 3 | U1: LIVE LAYER 1 | V1: DEAD LAYER 1 | W1: LIVE LAYER 2 | X1: DEAD LAYER 2 | Y1: LIVE LAYER 3 | Z1: DEAD LAYER 3 | AA1: LIVE LAYER 1 | AB1: DEAD LAYER 1 | AC1: LIVE LAYER 2 | AD1: DEAD LAYER 2 | AE1: LIVE LAYER 3 | AF1: DEAD LAYER 3 | AH1: PLOT | AI1: FOREST HEALTH DAMAGE AGENTS | AJ1: LIVE LAYER 1 | AK1: DEAD LAYER 1 | AL1: LIVE LAYER 2 | AM1: DEAD LAYER 2 | AN1: LIVE LAYER 3 | AO1: DEAD LAYER 3 | AP1: Total Trees | AR1: The "FH Agent Summary" tab does not require any input. It DOES require the user to "refresh" the sheet after new data entry (Data Menu > Refresh All)
A2: 1 | B2: FOREST HEALTH DAMAGE AGENTS | C2: =IF(CELL("type",('Plot (1)'!$J$8))="b","N/A",'Plot (1)'!$J$8) -> N/A | I2: =IF(CELL("type",('Plot (1)'!$L$8))="b","N/A",'Plot (1)'!$L$8) -> N/A | O2: =IF(CELL("type",('Plot (1)'!$N$8))="b","N/A",'Plot (1)'!$N$8) -> N/A | U2: =IF(CELL("type",('Plot (1)'!$P$8))="b","N/A",'Plot (1)'!$P$8) -> N/A | AA2: =IF(CELL("type",('Plot (1)'!$R$8))="b","N/A",'Plot (1)'!$R$8) -> N/A | AH2: 1 | AI2: =+C2 -> N/A | AJ2: =+SUM(C3:C12) -> 0 | AK2: =+SUM(D3:D12) -> 0 | AL2: =+SUM(E3:E12) -> 0 | AM2: =+SUM(F3:F12) -> 0 | AN2: =+SUM(G3:G12) -> 0 | AO2: =+SUM(H3:H12) -> 0 | AP2: =SUM(AJ2:AO2) -> 0 | AS2: Values | AZ2: ROW | BA2: <-- NEEDED for auto-filling in SDM Summary
A3: 1 | B3: =+'Plot (1)'!A$11 -> 0 | C3: ='Plot (1)'!J11 -> 0 | D3: ='Plot (1)'!K11 -> 0 | E3: ='Plot (1)'!J12 -> 0 | F3: ='Plot (1)'!K12 -> 0 | G3: ='Plot (1)'!J13 -> 0 | H3: ='Plot (1)'!K13 -> 0 | I3: ='Plot (1)'!L11 -> 0 | J3: ='Plot (1)'!M11 -> 0 | K3: ='Plot (1)'!L12 -> 0 | L3: ='Plot (1)'!M12 -> 0 | M3: ='Plot (1)'!L13 -> 0 | N3: ='Plot (1)'!M13 -> 0 | O3: ='Plot (1)'!N11 -> 0 | P3: ='Plot (1)'!O11 -> 0 | Q3: ='Plot (1)'!N12 -> 0 | R3: ='Plot (1)'!O12 -> 0 | S3: ='Plot (1)'!N13 -> 0 | T3: ='Plot (1)'!O13 -> 0 | U3: ='Plot (1)'!P11 -> 0 | V3: ='Plot (1)'!Q11 -> 0 | W3: ='Plot (1)'!P12 -> 0 | X3: ='Plot (1)'!Q12 -> 0 | Y3: ='Plot (1)'!P13 -> 0 | Z3: ='Plot (1)'!Q13 -> 0 | AA3: ='Plot (1)'!R11 -> 0 | AB3: ='Plot (1)'!S11 -> 0 | AC3: ='Plot (1)'!R12 -> 0 | AD3: ='Plot (1)'!S12 -> 0 | AE3: ='Plot (1)'!R13 -> 0 | AF3: ='Plot (1)'!S13 -> 0 | AH3: 1 | AI3: =+I2 -> N/A | AJ3: =+SUM(I3:I12) -> 0 | AK3: =+SUM(J3:J12) -> 0 | AL3: =+SUM(K3:K12) -> 0 | AM3: =+SUM(L3:L12) -> 0 | AN3: =+SUM(M3:M12) -> 0 | AO3: =+SUM(N3:N12) -> 0 | AP3: =SUM(AJ3:AO3) -> 0 | AR3: Row Labels | AS3: Sum of LIVE LAYER 1 | AT3: Sum of DEAD LAYER 1 | AU3: Sum of LIVE LAYER 2 | AV3: Sum of DEAD LAYER 2 | AW3: Sum of LIVE LAYER 3 | AX3: Sum of DEAD LAYER 3 | AY3: Sum of Total Trees | AZ3: SUM | BA3: (only the top 10 are listed, because there are
A4: 1 | B4: =+'Plot (1)'!A$14 -> 0 | C4: ='Plot (1)'!J14 -> 0 | D4: ='Plot (1)'!K14 -> 0 | E4: ='Plot (1)'!J15 -> 0 | F4: ='Plot (1)'!K15 -> 0 | G4: ='Plot (1)'!J16 -> 0 | H4: ='Plot (1)'!K16 -> 0 | I4: ='Plot (1)'!L14 -> 0 | J4: ='Plot (1)'!M14 -> 0 | K4: ='Plot (1)'!L15 -> 0 | L4: ='Plot (1)'!M15 -> 0 | M4: ='Plot (1)'!L16 -> 0 | N4: ='Plot (1)'!M16 -> 0 | O4: ='Plot (1)'!N14 -> 0 | P4: ='Plot (1)'!O14 -> 0 | Q4: ='Plot (1)'!N15 -> 0 | R4: ='Plot (1)'!O15 -> 0 | S4: ='Plot (1)'!N16 -> 0 | T4: ='Plot (1)'!O16 -> 0 | U4: ='Plot (1)'!P14 -> 0 | V4: ='Plot (1)'!Q14 -> 0 | W4: ='Plot (1)'!P15 -> 0 | X4: ='Plot (1)'!Q15 -> 0 | Y4: ='Plot (1)'!P16 -> 0 | Z4: ='Plot (1)'!Q16 -> 0 | AA4: ='Plot (1)'!R14 -> 0 | AB4: ='Plot (1)'!S14 -> 0 | AC4: ='Plot (1)'!R15 -> 0 | AD4: ='Plot (1)'!S15 -> 0 | AE4: ='Plot (1)'!R16 -> 0 | AF4: ='Plot (1)'!S16 -> 0 | AH4: 1 | AI4: =+O2 -> N/A | AJ4: =+SUM(O3:O12) -> 0 | AK4: =+SUM(P3:P12) -> 0 | AL4: =+SUM(Q3:Q12) -> 0 | AM4: =+SUM(R3:R12) -> 0 | AN4: =+SUM(S3:S12) -> 0 | AO4: =+SUM(T3:T12) -> 0 | AP4: =SUM(AJ4:AO4) -> 0 | AR4: (blank) | AZ4: =SUM(AS4:AX4) -> 0 | BA4: only 10 spaces in the Master Summary for
A5: 1 | B5: =+'Plot (1)'!A$17 -> 0 | C5: ='Plot (1)'!J17 -> 0 | D5: ='Plot (1)'!K17 -> 0 | E5: ='Plot (1)'!J18 -> 0 | F5: ='Plot (1)'!K18 -> 0 | G5: ='Plot (1)'!J19 -> 0 | H5: ='Plot (1)'!K19 -> 0 | I5: ='Plot (1)'!L17 -> 0 | J5: ='Plot (1)'!M17 -> 0 | K5: ='Plot (1)'!L18 -> 0 | L5: ='Plot (1)'!M18 -> 0 | M5: ='Plot (1)'!L19 -> 0 | N5: ='Plot (1)'!M19 -> 0 | O5: ='Plot (1)'!N17 -> 0 | P5: ='Plot (1)'!O17 -> 0 | Q5: ='Plot (1)'!N18 -> 0 | R5: ='Plot (1)'!O18 -> 0 | S5: ='Plot (1)'!N19 -> 0 | T5: ='Plot (1)'!O19 -> 0 | U5: ='Plot (1)'!P17 -> 0 | V5: ='Plot (1)'!Q17 -> 0 | W5: ='Plot (1)'!P18 -> 0 | X5: ='Plot (1)'!Q18 -> 0 | Y5: ='Plot (1)'!P19 -> 0 | Z5: ='Plot (1)'!Q19 -> 0 | AA5: ='Plot (1)'!R17 -> 0 | AB5: ='Plot (1)'!S17 -> 0 | AC5: ='Plot (1)'!R18 -> 0 | AD5: ='Plot (1)'!S18 -> 0 | AE5: ='Plot (1)'!R19 -> 0 | AF5: ='Plot (1)'!S19 -> 0 | AH5: 1 | AI5: =+U2 -> N/A | AJ5: =+SUM(U3:U12) -> 0 | AK5: =+SUM(V3:V12) -> 0 | AL5: =+SUM(W3:W12) -> 0 | AM5: =+SUM(X3:X12) -> 0 | AN5: =+SUM(Y3:Y12) -> 0 | AO5: =+SUM(Z3:Z12) -> 0 | AP5: =SUM(AJ5:AO5) -> 0 | AR5: N/A | AS5: 0 | AT5: 0 | AU5: 0 | AV5: 0 | AW5: 0 | AX5: 0 | AY5: 0 | AZ5: =SUM(AS5:AX5) -> 0 | BA5: Forest Health Factors to be reported).
A6: 1 | B6: =+'Plot (1)'!A$20 -> 0 | C6: ='Plot (1)'!J20 -> 0 | D6: ='Plot (1)'!K20 -> 0 | E6: ='Plot (1)'!J21 -> 0 | F6: ='Plot (1)'!K21 -> 0 | G6: ='Plot (1)'!J22 -> 0 | H6: ='Plot (1)'!K22 -> 0 | I6: ='Plot (1)'!L20 -> 0 | J6: ='Plot (1)'!M20 -> 0 | K6: ='Plot (1)'!L21 -> 0 | L6: ='Plot (1)'!M21 -> 0 | M6: ='Plot (1)'!L22 -> 0 | N6: ='Plot (1)'!M22 -> 0 | O6: ='Plot (1)'!N20 -> 0 | P6: ='Plot (1)'!O20 -> 0 | Q6: ='Plot (1)'!N21 -> 0 | R6: ='Plot (1)'!O21 -> 0 | S6: ='Plot (1)'!N22 -> 0 | T6: ='Plot (1)'!O22 -> 0 | U6: ='Plot (1)'!P20 -> 0 | V6: ='Plot (1)'!Q20 -> 0 | W6: ='Plot (1)'!P21 -> 0 | X6: ='Plot (1)'!Q21 -> 0 | Y6: ='Plot (1)'!P22 -> 0 | Z6: ='Plot (1)'!Q22 -> 0 | AA6: ='Plot (1)'!R20 -> 0 | AB6: ='Plot (1)'!S20 -> 0 | AC6: ='Plot (1)'!R21 -> 0 | AD6: ='Plot (1)'!S21 -> 0 | AE6: ='Plot (1)'!R22 -> 0 | AF6: ='Plot (1)'!S22 -> 0 | AH6: 1 | AI6: =+AA2 -> N/A | AJ6: =+SUM(AA3:AA12) -> 0 | AK6: =+SUM(AB3:AB12) -> 0 | AL6: =+SUM(AC3:AC12) -> 0 | AM6: =+SUM(AD3:AD12) -> 0 | AN6: =+SUM(AE3:AE12) -> 0 | AO6: =+SUM(AF3:AF12) -> 0 | AP6: =SUM(AJ6:AO6) -> 0 | AZ6: =SUM(AS6:AX6) -> 0
A7: 1 | B7: =+'Plot (1)'!A$23 -> 0 | C7: ='Plot (1)'!J23 -> 0 | D7: ='Plot (1)'!K23 -> 0 | E7: ='Plot (1)'!J24 -> 0 | F7: ='Plot (1)'!K24 -> 0 | G7: ='Plot (1)'!J25 -> 0 | H7: ='Plot (1)'!K25 -> 0 | I7: ='Plot (1)'!L23 -> 0 | J7: ='Plot (1)'!M23 -> 0 | K7: ='Plot (1)'!L24 -> 0 | L7: ='Plot (1)'!M24 -> 0 | M7: ='Plot (1)'!L25 -> 0 | N7: ='Plot (1)'!M25 -> 0 | O7: ='Plot (1)'!N23 -> 0 | P7: ='Plot (1)'!O23 -> 0 | Q7: ='Plot (1)'!N24 -> 0 | R7: ='Plot (1)'!O24 -> 0 | S7: ='Plot (1)'!N25 -> 0 | T7: ='Plot (1)'!O25 -> 0 | U7: ='Plot (1)'!P23 -> 0 | V7: ='Plot (1)'!Q23 -> 0 | W7: ='Plot (1)'!P24 -> 0 | X7: ='Plot (1)'!Q24 -> 0 | Y7: ='Plot (1)'!P25 -> 0 | Z7: ='Plot (1)'!Q25 -> 0 | AA7: ='Plot (1)'!R23 -> 0 | AB7: ='Plot (1)'!S23 -> 0 | AC7: ='Plot (1)'!R24 -> 0 | AD7: ='Plot (1)'!S24 -> 0 | AE7: ='Plot (1)'!R25 -> 0 | AF7: ='Plot (1)'!S25 -> 0 | AH7: 2 | AI7: =+C13 -> N/A | AJ7: =+SUM(C14:C23) -> 0 | AK7: =+SUM(D14:D23) -> 0 | AL7: =+SUM(E14:E23) -> 0 | AM7: =+SUM(F14:F23) -> 0 | AN7: =+SUM(G14:G23) -> 0 | AO7: =+SUM(H14:H23) -> 0 | AP7: =SUM(AJ7:AO7) -> 0 | AZ7: =SUM(AS7:AX7) -> 0
A8: 1 | B8: =+'Plot (1)'!A$26 -> 0 | C8: ='Plot (1)'!J26 -> 0 | D8: ='Plot (1)'!K26 -> 0 | E8: ='Plot (1)'!J27 -> 0 | F8: ='Plot (1)'!K27 -> 0 | G8: ='Plot (1)'!J28 -> 0 | H8: ='Plot (1)'!K28 -> 0 | I8: ='Plot (1)'!L26 -> 0 | J8: ='Plot (1)'!M26 -> 0 | K8: ='Plot (1)'!L27 -> 0 | L8: ='Plot (1)'!M27 -> 0 | M8: ='Plot (1)'!L28 -> 0 | N8: ='Plot (1)'!M28 -> 0 | O8: ='Plot (1)'!N26 -> 0 | P8: ='Plot (1)'!O26 -> 0 | Q8: ='Plot (1)'!N27 -> 0 | R8: ='Plot (1)'!O27 -> 0 | S8: ='Plot (1)'!N28 -> 0 | T8: ='Plot (1)'!O28 -> 0 | U8: ='Plot (1)'!P26 -> 0 | V8: ='Plot (1)'!Q26 -> 0 | W8: ='Plot (1)'!P27 -> 0 | X8: ='Plot (1)'!Q27 -> 0 | Y8: ='Plot (1)'!P28 -> 0 | Z8: ='Plot (1)'!Q28 -> 0 | AA8: ='Plot (1)'!R26 -> 0 | AB8: ='Plot (1)'!S26 -> 0 | AC8: ='Plot (1)'!R27 -> 0 | AD8: ='Plot (1)'!S27 -> 0 | AE8: ='Plot (1)'!R28 -> 0 | AF8: ='Plot (1)'!S28 -> 0 | AH8: 2 | AI8: =+I13 -> N/A | AJ8: =+SUM(I14:I23) -> 0 | AK8: =+SUM(J14:J23) -> 0 | AL8: =+SUM(K14:K23) -> 0 | AM8: =+SUM(L14:L23) -> 0 | AN8: =+SUM(M14:M23) -> 0 | AO8: =+SUM(N14:N23) -> 0 | AP8: =SUM(AJ8:AO8) -> 0 | AZ8: =SUM(AS8:AX8) -> 0
A9: 1 | B9: =+'Plot (1)'!A$29 -> 0 | C9: ='Plot (1)'!J29 -> 0 | D9: ='Plot (1)'!K29 -> 0 | E9: ='Plot (1)'!J30 -> 0 | F9: ='Plot (1)'!K30 -> 0 | G9: ='Plot (1)'!J31 -> 0 | H9: ='Plot (1)'!K31 -> 0 | I9: ='Plot (1)'!L29 -> 0 | J9: ='Plot (1)'!M29 -> 0 | K9: ='Plot (1)'!L30 -> 0 | L9: ='Plot (1)'!M30 -> 0 | M9: ='Plot (1)'!L31 -> 0 | N9: ='Plot (1)'!M31 -> 0 | O9: ='Plot (1)'!N29 -> 0 | P9: ='Plot (1)'!O29 -> 0 | Q9: ='Plot (1)'!N30 -> 0 | R9: ='Plot (1)'!O30 -> 0 | S9: ='Plot (1)'!N31 -> 0 | T9: ='Plot (1)'!O31 -> 0 | U9: ='Plot (1)'!P29 -> 0 | V9: ='Plot (1)'!Q29 -> 0 | W9: ='Plot (1)'!P30 -> 0 | X9: ='Plot (1)'!Q30 -> 0 | Y9: ='Plot (1)'!P31 -> 0 | Z9: ='Plot (1)'!Q31 -> 0 | AA9: ='Plot (1)'!R29 -> 0 | AB9: ='Plot (1)'!S29 -> 0 | AC9: ='Plot (1)'!R30 -> 0 | AD9: ='Plot (1)'!S30 -> 0 | AE9: ='Plot (1)'!R31 -> 0 | AF9: ='Plot (1)'!S31 -> 0 | AH9: 2 | AI9: =+O13 -> N/A | AJ9: =+SUM(O14:O23) -> 0 | AK9: =+SUM(P14:P23) -> 0 | AL9: =+SUM(Q14:Q23) -> 0 | AM9: =+SUM(R14:R23) -> 0 | AN9: =+SUM(S14:S23) -> 0 | AO9: =+SUM(T14:T23) -> 0 | AP9: =SUM(AJ9:AO9) -> 0 | AZ9: =SUM(AS9:AX9) -> 0
A10: 1 | B10: =+'Plot (1)'!A$32 -> 0 | C10: ='Plot (1)'!J32 -> 0 | D10: ='Plot (1)'!K32 -> 0 | E10: ='Plot (1)'!J33 -> 0 | F10: ='Plot (1)'!K33 -> 0 | G10: ='Plot (1)'!J34 -> 0 | H10: ='Plot (1)'!K34 -> 0 | I10: ='Plot (1)'!L32 -> 0 | J10: ='Plot (1)'!M32 -> 0 | K10: ='Plot (1)'!L33 -> 0 | L10: ='Plot (1)'!M33 -> 0 | M10: ='Plot (1)'!L34 -> 0 | N10: ='Plot (1)'!M34 -> 0 | O10: ='Plot (1)'!N32 -> 0 | P10: ='Plot (1)'!O32 -> 0 | Q10: ='Plot (1)'!N33 -> 0 | R10: ='Plot (1)'!O33 -> 0 | S10: ='Plot (1)'!N34 -> 0 | T10: ='Plot (1)'!O34 -> 0 | U10: ='Plot (1)'!P32 -> 0 | V10: ='Plot (1)'!Q32 -> 0 | W10: ='Plot (1)'!P33 -> 0 | X10: ='Plot (1)'!Q33 -> 0 | Y10: ='Plot (1)'!P34 -> 0 | Z10: ='Plot (1)'!Q34 -> 0 | AA10: ='Plot (1)'!R32 -> 0 | AB10: ='Plot (1)'!S32 -> 0 | AC10: ='Plot (1)'!R33 -> 0 | AD10: ='Plot (1)'!S33 -> 0 | AE10: ='Plot (1)'!R34 -> 0 | AF10: ='Plot (1)'!S34 -> 0 | AH10: 2 | AI10: =+U13 -> N/A | AJ10: =+SUM(U14:U23) -> 0 | AK10: =+SUM(V14:V23) -> 0 | AL10: =+SUM(W14:W23) -> 0 | AM10: =+SUM(X14:X23) -> 0 | AN10: =+SUM(Y14:Y23) -> 0 | AO10: =+SUM(Z14:Z23) -> 0 | AP10: =SUM(AJ10:AO10) -> 0 | AZ10: =SUM(AS10:AX10) -> 0
A11: 1 | B11: =+'Plot (1)'!A$35 -> 0 | C11: ='Plot (1)'!J35 -> 0 | D11: ='Plot (1)'!K35 -> 0 | E11: ='Plot (1)'!J36 -> 0 | F11: ='Plot (1)'!K36 -> 0 | G11: ='Plot (1)'!J37 -> 0 | H11: ='Plot (1)'!K37 -> 0 | I11: ='Plot (1)'!L35 -> 0 | J11: ='Plot (1)'!M35 -> 0 | K11: ='Plot (1)'!L36 -> 0 | L11: ='Plot (1)'!M36 -> 0 | M11: ='Plot (1)'!L37 -> 0 | N11: ='Plot (1)'!M37 -> 0 | O11: ='Plot (1)'!N35 -> 0 | P11: ='Plot (1)'!O35 -> 0 | Q11: ='Plot (1)'!N36 -> 0 | R11: ='Plot (1)'!O36 -> 0 | S11: ='Plot (1)'!N37 -> 0 | T11: ='Plot (1)'!O37 -> 0 | U11: ='Plot (1)'!P35 -> 0 | V11: ='Plot (1)'!Q35 -> 0 | W11: ='Plot (1)'!P36 -> 0 | X11: ='Plot (1)'!Q36 -> 0 | Y11: ='Plot (1)'!P37 -> 0 | Z11: ='Plot (1)'!Q37 -> 0 | AA11: ='Plot (1)'!R35 -> 0 | AB11: ='Plot (1)'!S35 -> 0 | AC11: ='Plot (1)'!R36 -> 0 | AD11: ='Plot (1)'!S36 -> 0 | AE11: ='Plot (1)'!R37 -> 0 | AF11: ='Plot (1)'!S37 -> 0 | AH11: 2 | AI11: =+AA13 -> N/A | AJ11: =+SUM(AA14:AA23) -> 0 | AK11: =+SUM(AB14:AB23) -> 0 | AL11: =+SUM(AC14:AC23) -> 0 | AM11: =+SUM(AD14:AD23) -> 0 | AN11: =+SUM(AE14:AE23) -> 0 | AO11: =+SUM(AF14:AF23) -> 0 | AP11: =SUM(AJ11:AO11) -> 0 | AZ11: =SUM(AS11:AX11) -> 0
A12: 1 | B12: =+'Plot (1)'!A$38 -> 0 | C12: ='Plot (1)'!J38 -> 0 | D12: ='Plot (1)'!K38 -> 0 | E12: ='Plot (1)'!J39 -> 0 | F12: ='Plot (1)'!K39 -> 0 | G12: ='Plot (1)'!J40 -> 0 | H12: ='Plot (1)'!K40 -> 0 | I12: ='Plot (1)'!L38 -> 0 | J12: ='Plot (1)'!M38 -> 0 | K12: ='Plot (1)'!L39 -> 0 | L12: ='Plot (1)'!M39 -> 0 | M12: ='Plot (1)'!L40 -> 0 | N12: ='Plot (1)'!M40 -> 0 | O12: ='Plot (1)'!N38 -> 0 | P12: ='Plot (1)'!O38 -> 0 | Q12: ='Plot (1)'!N39 -> 0 | R12: ='Plot (1)'!O39 -> 0 | S12: ='Plot (1)'!N40 -> 0 | T12: ='Plot (1)'!O40 -> 0 | U12: ='Plot (1)'!P38 -> 0 | V12: ='Plot (1)'!Q38 -> 0 | W12: ='Plot (1)'!P39 -> 0 | X12: ='Plot (1)'!Q39 -> 0 | Y12: ='Plot (1)'!P40 -> 0 | Z12: ='Plot (1)'!Q40 -> 0 | AA12: ='Plot (1)'!R38 -> 0 | AB12: ='Plot (1)'!S38 -> 0 | AC12: ='Plot (1)'!R39 -> 0 | AD12: ='Plot (1)'!S39 -> 0 | AE12: ='Plot (1)'!R40 -> 0 | AF12: ='Plot (1)'!S40 -> 0 | AH12: 3 | AI12: =+C24 -> N/A | AJ12: =+SUM(C25:C34) -> 0 | AK12: =+SUM(D25:D34) -> 0 | AL12: =+SUM(E25:E34) -> 0 | AM12: =+SUM(F25:F34) -> 0 | AN12: =+SUM(G25:G34) -> 0 | AO12: =+SUM(H25:H34) -> 0 | AP12: =SUM(AJ12:AO12) -> 0 | AZ12: =SUM(AS12:AX12) -> 0
A13: 2 | B13: FOREST HEALTH DAMAGE AGENTS | C13: =IF(CELL("type",('Plot (2)'!$J$8))="b","N/A",'Plot (2)'!$J$8) -> N/A | I13: =IF(CELL("type",('Plot (2)'!$L$8))="b","N/A",'Plot (2)'!$L$8) -> N/A | O13: =IF(CELL("type",('Plot (2)'!$N$8))="b","N/A",'Plot (2)'!$N$8) -> N/A | U13: =IF(CELL("type",('Plot (2)'!$P$8))="b","N/A",'Plot (2)'!$P$8) -> N/A | AA13: =IF(CELL("type",('Plot (2)'!$R$8))="b","N/A",'Plot (2)'!$R$8) -> N/A | AH13: 3 | AI13: =+I24 -> N/A | AJ13: =+SUM(I25:I34) -> 0 | AK13: =+SUM(J25:J34) -> 0 | AL13: =+SUM(K25:K34) -> 0 | AM13: =+SUM(L25:L34) -> 0 | AN13: =+SUM(M25:M34) -> 0 | AO13: =+SUM(N25:N34) -> 0 | AP13: =SUM(AJ13:AO13) -> 0 | AZ13: =SUM(AS13:AX13) -> 0
A14: 2 | B14: =+'Plot (2)'!A$11 -> 0 | C14: ='Plot (2)'!$J$11 -> 0 | D14: ='Plot (2)'!$K$11 -> 0 | E14: ='Plot (2)'!$J$12 -> 0 | F14: ='Plot (2)'!$K$12 -> 0 | G14: ='Plot (2)'!$J$13 -> 0 | H14: ='Plot (2)'!$K$13 -> 0 | I14: ='Plot (2)'!$L$11 -> 0 | J14: ='Plot (2)'!$M$11 -> 0 | K14: ='Plot (2)'!$L$12 -> 0 | L14: ='Plot (2)'!$M$12 -> 0 | M14: ='Plot (2)'!$L$13 -> 0 | N14: ='Plot (2)'!$M$13 -> 0 | O14: ='Plot (2)'!$N$11 -> 0 | P14: ='Plot (2)'!$O$11 -> 0 | Q14: ='Plot (2)'!$N$12 -> 0 | R14: ='Plot (2)'!$O$12 -> 0 | S14: ='Plot (2)'!$N$13 -> 0 | T14: ='Plot (2)'!$O$13 -> 0 | U14: ='Plot (2)'!$P$11 -> 0 | V14: ='Plot (2)'!$Q$11 -> 0 | W14: ='Plot (2)'!$P$12 -> 0 | X14: ='Plot (2)'!$Q$12 -> 0 | Y14: ='Plot (2)'!$P$13 -> 0 | Z14: ='Plot (2)'!$Q$13 -> 0 | AA14: ='Plot (2)'!$R$11 -> 0 | AB14: ='Plot (2)'!$S$11 -> 0 | AC14: ='Plot (2)'!$R$12 -> 0 | AD14: ='Plot (2)'!$S$12 -> 0 | AE14: ='Plot (2)'!$R$13 -> 0 | AF14: ='Plot (2)'!$S$13 -> 0 | AH14: 3 | AI14: =+O24 -> N/A | AJ14: =+SUM(O25:O34) -> 0 | AK14: =+SUM(P25:P34) -> 0 | AL14: =+SUM(Q25:Q34) -> 0 | AM14: =+SUM(R25:R34) -> 0 | AN14: =+SUM(S25:S34) -> 0 | AO14: =+SUM(T25:T34) -> 0 | AP14: =SUM(AJ14:AO14) -> 0 | AZ14: =SUM(AS14:AX14) -> 0
A15: 2 | B15: =+'Plot (2)'!A$14 -> 0 | C15: ='Plot (2)'!$J$14 -> 0 | D15: ='Plot (2)'!$K$14 -> 0 | E15: ='Plot (2)'!$J$15 -> 0 | F15: ='Plot (2)'!$K$15 -> 0 | G15: ='Plot (2)'!$J$16 -> 0 | H15: ='Plot (2)'!$K$16 -> 0 | I15: ='Plot (2)'!$L$14 -> 0 | J15: ='Plot (2)'!$M$14 -> 0 | K15: ='Plot (2)'!$L$15 -> 0 | L15: ='Plot (2)'!$M$15 -> 0 | M15: ='Plot (2)'!$L$16 -> 0 | N15: ='Plot (2)'!$M$16 -> 0 | O15: ='Plot (2)'!$N$14 -> 0 | P15: ='Plot (2)'!$O$14 -> 0 | Q15: ='Plot (2)'!$N$15 -> 0 | R15: ='Plot (2)'!$O$15 -> 0 | S15: ='Plot (2)'!$N$16 -> 0 | T15: ='Plot (2)'!$O$16 -> 0 | U15: ='Plot (2)'!$P$14 -> 0 | V15: ='Plot (2)'!$Q$14 -> 0 | W15: ='Plot (2)'!$P$15 -> 0 | X15: ='Plot (2)'!$Q$15 -> 0 | Y15: ='Plot (2)'!$P$16 -> 0 | Z15: ='Plot (2)'!$Q$16 -> 0 | AA15: ='Plot (2)'!$R$14 -> 0 | AB15: ='Plot (2)'!$S$14 -> 0 | AC15: ='Plot (2)'!$R$15 -> 0 | AD15: ='Plot (2)'!$S$15 -> 0 | AE15: ='Plot (2)'!$R$16 -> 0 | AF15: ='Plot (2)'!$S$16 -> 0 | AH15: 3 | AI15: =+U24 -> N/A | AJ15: =+SUM(U25:U34) -> 0 | AK15: =+SUM(V25:V34) -> 0 | AL15: =+SUM(W25:W34) -> 0 | AM15: =+SUM(X25:X34) -> 0 | AN15: =+SUM(Y25:Y34) -> 0 | AO15: =+SUM(Z25:Z34) -> 0 | AP15: =SUM(AJ15:AO15) -> 0 | AZ15: =SUM(AS15:AX15) -> 0
A16: 2 | B16: =+'Plot (2)'!A$17 -> 0 | C16: ='Plot (2)'!$J$17 -> 0 | D16: ='Plot (2)'!$K$17 -> 0 | E16: ='Plot (2)'!$J$18 -> 0 | F16: ='Plot (2)'!$K$18 -> 0 | G16: ='Plot (2)'!$J$19 -> 0 | H16: ='Plot (2)'!$K$19 -> 0 | I16: ='Plot (2)'!$L$17 -> 0 | J16: ='Plot (2)'!$M$17 -> 0 | K16: ='Plot (2)'!$L$18 -> 0 | L16: ='Plot (2)'!$M$18 -> 0 | M16: ='Plot (2)'!$L$19 -> 0 | N16: ='Plot (2)'!$M$19 -> 0 | O16: ='Plot (2)'!$N$17 -> 0 | P16: ='Plot (2)'!$O$17 -> 0 | Q16: ='Plot (2)'!$N$18 -> 0 | R16: ='Plot (2)'!$O$18 -> 0 | S16: ='Plot (2)'!$N$19 -> 0 | T16: ='Plot (2)'!$O$19 -> 0 | U16: ='Plot (2)'!$P$17 -> 0 | V16: ='Plot (2)'!$Q$17 -> 0 | W16: ='Plot (2)'!$P$18 -> 0 | X16: ='Plot (2)'!$Q$18 -> 0 | Y16: ='Plot (2)'!$P$19 -> 0 | Z16: ='Plot (2)'!$Q$19 -> 0 | AA16: ='Plot (2)'!$R$17 -> 0 | AB16: ='Plot (2)'!$S$17 -> 0 | AC16: ='Plot (2)'!$R$18 -> 0 | AD16: ='Plot (2)'!$S$18 -> 0 | AE16: ='Plot (2)'!$R$19 -> 0 | AF16: ='Plot (2)'!$S$19 -> 0 | AH16: 3 | AI16: =+AA24 -> N/A | AJ16: =+SUM(AA25:AA34) -> 0 | AK16: =+SUM(AB25:AB34) -> 0 | AL16: =+SUM(AC25:AC34) -> 0 | AM16: =+SUM(AD25:AD34) -> 0 | AN16: =+SUM(AE25:AE34) -> 0 | AO16: =+SUM(AF25:AF34) -> 0 | AP16: =SUM(AJ16:AO16) -> 0 | AZ16: =SUM(AS16:AX16) -> 0
A17: 2 | B17: =+'Plot (2)'!A$20 -> 0 | C17: ='Plot (2)'!$J$20 -> 0 | D17: ='Plot (2)'!$K$20 -> 0 | E17: ='Plot (2)'!$J$21 -> 0 | F17: ='Plot (2)'!$K$21 -> 0 | G17: ='Plot (2)'!$J$22 -> 0 | H17: ='Plot (2)'!$K$22 -> 0 | I17: ='Plot (2)'!$L$20 -> 0 | J17: ='Plot (2)'!$M$20 -> 0 | K17: ='Plot (2)'!$L$21 -> 0 | L17: ='Plot (2)'!$M$21 -> 0 | M17: ='Plot (2)'!$L$22 -> 0 | N17: ='Plot (2)'!$M$22 -> 0 | O17: ='Plot (2)'!$N$20 -> 0 | P17: ='Plot (2)'!$O$20 -> 0 | Q17: ='Plot (2)'!$N$21 -> 0 | R17: ='Plot (2)'!$O$21 -> 0 | S17: ='Plot (2)'!$N$22 -> 0 | T17: ='Plot (2)'!$O$22 -> 0 | U17: ='Plot (2)'!$P$20 -> 0 | V17: ='Plot (2)'!$Q$20 -> 0 | W17: ='Plot (2)'!$P$21 -> 0 | X17: ='Plot (2)'!$Q$21 -> 0 | Y17: ='Plot (2)'!$P$22 -> 0 | Z17: ='Plot (2)'!$Q$22 -> 0 | AA17: ='Plot (2)'!$R$20 -> 0 | AB17: ='Plot (2)'!$S$20 -> 0 | AC17: ='Plot (2)'!$R$21 -> 0 | AD17: ='Plot (2)'!$S$21 -> 0 | AE17: ='Plot (2)'!$R$22 -> 0 | AF17: ='Plot (2)'!$S$22 -> 0 | AH17: 4 | AI17: =+C35 -> N/A | AJ17: =+SUM(C36:C45) -> 0 | AK17: =+SUM(D36:D45) -> 0 | AL17: =+SUM(E36:E45) -> 0 | AM17: =+SUM(F36:F45) -> 0 | AN17: =+SUM(G36:G45) -> 0 | AO17: =+SUM(H36:H45) -> 0 | AP17: =SUM(AJ17:AO17) -> 0
A18: 2 | B18: =+'Plot (2)'!A$23 -> 0 | C18: ='Plot (2)'!$J$23 -> 0 | D18: ='Plot (2)'!$K$23 -> 0 | E18: ='Plot (2)'!$J$24 -> 0 | F18: ='Plot (2)'!$K$24 -> 0 | G18: ='Plot (2)'!$J$25 -> 0 | H18: ='Plot (2)'!$K$25 -> 0 | I18: ='Plot (2)'!$L$23 -> 0 | J18: ='Plot (2)'!$M$23 -> 0 | K18: ='Plot (2)'!$L$24 -> 0 | L18: ='Plot (2)'!$M$24 -> 0 | M18: ='Plot (2)'!$L$25 -> 0 | N18: ='Plot (2)'!$M$25 -> 0 | O18: ='Plot (2)'!$N$23 -> 0 | P18: ='Plot (2)'!$O$23 -> 0 | Q18: ='Plot (2)'!$N$24 -> 0 | R18: ='Plot (2)'!$O$24 -> 0 | S18: ='Plot (2)'!$N$25 -> 0 | T18: ='Plot (2)'!$O$25 -> 0 | U18: ='Plot (2)'!$P$23 -> 0 | V18: ='Plot (2)'!$Q$23 -> 0 | W18: ='Plot (2)'!$P$24 -> 0 | X18: ='Plot (2)'!$Q$24 -> 0 | Y18: ='Plot (2)'!$P$25 -> 0 | Z18: ='Plot (2)'!$Q$25 -> 0 | AA18: ='Plot (2)'!$R$23 -> 0 | AB18: ='Plot (2)'!$S$23 -> 0 | AC18: ='Plot (2)'!$R$24 -> 0 | AD18: ='Plot (2)'!$S$24 -> 0 | AE18: ='Plot (2)'!$R$25 -> 0 | AF18: ='Plot (2)'!$S$25 -> 0 | AH18: 4 | AI18: =+I35 -> N/A | AJ18: =+SUM(I36:I45) -> 0 | AK18: =+SUM(J36:J45) -> 0 | AL18: =+SUM(K36:K45) -> 0 | AM18: =+SUM(L36:L45) -> 0 | AN18: =+SUM(M36:M45) -> 0 | AO18: =+SUM(N36:N45) -> 0 | AP18: =SUM(AJ18:AO18) -> 0
A19: 2 | B19: =+'Plot (2)'!A$26 -> 0 | C19: ='Plot (2)'!$J$26 -> 0 | D19: ='Plot (2)'!$K$26 -> 0 | E19: ='Plot (2)'!$J$27 -> 0 | F19: ='Plot (2)'!$K$27 -> 0 | G19: ='Plot (2)'!$J$28 -> 0 | H19: ='Plot (2)'!$K$28 -> 0 | I19: ='Plot (2)'!$L$26 -> 0 | J19: ='Plot (2)'!$M$26 -> 0 | K19: ='Plot (2)'!$L$27 -> 0 | L19: ='Plot (2)'!$M$27 -> 0 | M19: ='Plot (2)'!$L$28 -> 0 | N19: ='Plot (2)'!$M$28 -> 0 | O19: ='Plot (2)'!$N$26 -> 0 | P19: ='Plot (2)'!$O$26 -> 0 | Q19: ='Plot (2)'!$N$27 -> 0 | R19: ='Plot (2)'!$O$27 -> 0 | S19: ='Plot (2)'!$N$28 -> 0 | T19: ='Plot (2)'!$O$28 -> 0 | U19: ='Plot (2)'!$P$26 -> 0 | V19: ='Plot (2)'!$Q$26 -> 0 | W19: ='Plot (2)'!$P$27 -> 0 | X19: ='Plot (2)'!$Q$27 -> 0 | Y19: ='Plot (2)'!$P$28 -> 0 | Z19: ='Plot (2)'!$Q$28 -> 0 | AA19: ='Plot (2)'!$R$26 -> 0 | AB19: ='Plot (2)'!$S$26 -> 0 | AC19: ='Plot (2)'!$R$27 -> 0 | AD19: ='Plot (2)'!$S$27 -> 0 | AE19: ='Plot (2)'!$R$28 -> 0 | AF19: ='Plot (2)'!$S$28 -> 0 | AH19: 4 | AI19: =+O35 -> N/A | AJ19: =+SUM(O36:O45) -> 0 | AK19: =+SUM(P36:P45) -> 0 | AL19: =+SUM(Q36:Q45) -> 0 | AM19: =+SUM(R36:R45) -> 0 | AN19: =+SUM(S36:S45) -> 0 | AO19: =+SUM(T36:T45) -> 0 | AP19: =SUM(AJ19:AO19) -> 0
A20: 2 | B20: =+'Plot (2)'!A$29 -> 0 | C20: ='Plot (2)'!$J$29 -> 0 | D20: ='Plot (2)'!$K$29 -> 0 | E20: ='Plot (2)'!$J$30 -> 0 | F20: ='Plot (2)'!$K$30 -> 0 | G20: ='Plot (2)'!$J$31 -> 0 | H20: ='Plot (2)'!$K$31 -> 0 | I20: ='Plot (2)'!$L$29 -> 0 | J20: ='Plot (2)'!$M$29 -> 0 | K20: ='Plot (2)'!$L$30 -> 0 | L20: ='Plot (2)'!$M$30 -> 0 | M20: ='Plot (2)'!$L$31 -> 0 | N20: ='Plot (2)'!$M$31 -> 0 | O20: ='Plot (2)'!$N$29 -> 0 | P20: ='Plot (2)'!$O$29 -> 0 | Q20: ='Plot (2)'!$N$30 -> 0 | R20: ='Plot (2)'!$O$30 -> 0 | S20: ='Plot (2)'!$N$31 -> 0 | T20: ='Plot (2)'!$O$31 -> 0 | U20: ='Plot (2)'!$P$29 -> 0 | V20: ='Plot (2)'!$Q$29 -> 0 | W20: ='Plot (2)'!$P$30 -> 0 | X20: ='Plot (2)'!$Q$30 -> 0 | Y20: ='Plot (2)'!$P$31 -> 0 | Z20: ='Plot (2)'!$Q$31 -> 0 | AA20: ='Plot (2)'!$R$29 -> 0 | AB20: ='Plot (2)'!$S$29 -> 0 | AC20: ='Plot (2)'!$R$30 -> 0 | AD20: ='Plot (2)'!$S$30 -> 0 | AE20: ='Plot (2)'!$R$31 -> 0 | AF20: ='Plot (2)'!$S$31 -> 0 | AH20: 4 | AI20: =+U35 -> N/A | AJ20: =+SUM(U36:U45) -> 0 | AK20: =+SUM(V36:V45) -> 0 | AL20: =+SUM(W36:W45) -> 0 | AM20: =+SUM(X36:X45) -> 0 | AN20: =+SUM(Y36:Y45) -> 0 | AO20: =+SUM(Z36:Z45) -> 0 | AP20: =SUM(AJ20:AO20) -> 0
A21: 2 | B21: =+'Plot (2)'!A$32 -> 0 | C21: ='Plot (2)'!$J$32 -> 0 | D21: ='Plot (2)'!$K$32 -> 0 | E21: ='Plot (2)'!$J$33 -> 0 | F21: ='Plot (2)'!$K$33 -> 0 | G21: ='Plot (2)'!$J$34 -> 0 | H21: ='Plot (2)'!$K$34 -> 0 | I21: ='Plot (2)'!$L$32 -> 0 | J21: ='Plot (2)'!$M$32 -> 0 | K21: ='Plot (2)'!$L$33 -> 0 | L21: ='Plot (2)'!$M$33 -> 0 | M21: ='Plot (2)'!$L$34 -> 0 | N21: ='Plot (2)'!$M$34 -> 0 | O21: ='Plot (2)'!$N$32 -> 0 | P21: ='Plot (2)'!$O$32 -> 0 | Q21: ='Plot (2)'!$N$33 -> 0 | R21: ='Plot (2)'!$O$33 -> 0 | S21: ='Plot (2)'!$N$34 -> 0 | T21: ='Plot (2)'!$O$34 -> 0 | U21: ='Plot (2)'!$P$32 -> 0 | V21: ='Plot (2)'!$Q$32 -> 0 | W21: ='Plot (2)'!$P$33 -> 0 | X21: ='Plot (2)'!$Q$33 -> 0 | Y21: ='Plot (2)'!$P$34 -> 0 | Z21: ='Plot (2)'!$Q$34 -> 0 | AA21: ='Plot (2)'!$R$32 -> 0 | AB21: ='Plot (2)'!$S$32 -> 0 | AC21: ='Plot (2)'!$R$33 -> 0 | AD21: ='Plot (2)'!$S$33 -> 0 | AE21: ='Plot (2)'!$R$34 -> 0 | AF21: ='Plot (2)'!$S$34 -> 0 | AH21: 4 | AI21: =+AA35 -> N/A | AJ21: =+SUM(AA36:AA45) -> 0 | AK21: =+SUM(AB36:AB45) -> 0 | AL21: =+SUM(AC36:AC45) -> 0 | AM21: =+SUM(AD36:AD45) -> 0 | AN21: =+SUM(AE36:AE45) -> 0 | AO21: =+SUM(AF36:AF45) -> 0 | AP21: =SUM(AJ21:AO21) -> 0
A22: 2 | B22: =+'Plot (2)'!A$35 -> 0 | C22: ='Plot (2)'!$J$35 -> 0 | D22: ='Plot (2)'!$K$35 -> 0 | E22: ='Plot (2)'!$J$36 -> 0 | F22: ='Plot (2)'!$K$36 -> 0 | G22: ='Plot (2)'!$J$37 -> 0 | H22: ='Plot (2)'!$K$37 -> 0 | I22: ='Plot (2)'!$L$35 -> 0 | J22: ='Plot (2)'!$M$35 -> 0 | K22: ='Plot (2)'!$L$36 -> 0 | L22: ='Plot (2)'!$M$36 -> 0 | M22: ='Plot (2)'!$L$37 -> 0 | N22: ='Plot (2)'!$M$37 -> 0 | O22: ='Plot (2)'!$N$35 -> 0 | P22: ='Plot (2)'!$O$35 -> 0 | Q22: ='Plot (2)'!$N$36 -> 0 | R22: ='Plot (2)'!$O$36 -> 0 | S22: ='Plot (2)'!$N$37 -> 0 | T22: ='Plot (2)'!$O$37 -> 0 | U22: ='Plot (2)'!$P$35 -> 0 | V22: ='Plot (2)'!$Q$35 -> 0 | W22: ='Plot (2)'!$P$36 -> 0 | X22: ='Plot (2)'!$Q$36 -> 0 | Y22: ='Plot (2)'!$P$37 -> 0 | Z22: ='Plot (2)'!$Q$37 -> 0 | AA22: ='Plot (2)'!$R$35 -> 0 | AB22: ='Plot (2)'!$S$35 -> 0 | AC22: ='Plot (2)'!$R$36 -> 0 | AD22: ='Plot (2)'!$S$36 -> 0 | AE22: ='Plot (2)'!$R$37 -> 0 | AF22: ='Plot (2)'!$S$37 -> 0 | AH22: 5 | AI22: =+C46 -> N/A | AJ22: =+SUM(C47:C56) -> 0 | AK22: =+SUM(D47:D56) -> 0 | AL22: =+SUM(E47:E56) -> 0 | AM22: =+SUM(F47:F56) -> 0 | AN22: =+SUM(G47:G56) -> 0 | AO22: =+SUM(H47:H56) -> 0 | AP22: =SUM(AJ22:AO22) -> 0
A23: 2 | B23: =+'Plot (2)'!A$38 -> 0 | C23: ='Plot (2)'!$J$38 -> 0 | D23: ='Plot (2)'!$K$38 -> 0 | E23: ='Plot (2)'!$J$39 -> 0 | F23: ='Plot (2)'!$K$39 -> 0 | G23: ='Plot (2)'!$J$40 -> 0 | H23: ='Plot (2)'!$K$40 -> 0 | I23: ='Plot (2)'!$L$38 -> 0 | J23: ='Plot (2)'!$M$38 -> 0 | K23: ='Plot (2)'!$L$39 -> 0 | L23: ='Plot (2)'!$M$39 -> 0 | M23: ='Plot (2)'!$L$40 -> 0 | N23: ='Plot (2)'!$M$40 -> 0 | O23: ='Plot (2)'!$N$38 -> 0 | P23: ='Plot (2)'!$O$38 -> 0 | Q23: ='Plot (2)'!$N$39 -> 0 | R23: ='Plot (2)'!$O$39 -> 0 | S23: ='Plot (2)'!$N$40 -> 0 | T23: ='Plot (2)'!$O$40 -> 0 | U23: ='Plot (2)'!$P$38 -> 0 | V23: ='Plot (2)'!$Q$38 -> 0 | W23: ='Plot (2)'!$P$39 -> 0 | X23: ='Plot (2)'!$Q$39 -> 0 | Y23: ='Plot (2)'!$P$40 -> 0 | Z23: ='Plot (2)'!$Q$40 -> 0 | AA23: ='Plot (2)'!$R$38 -> 0 | AB23: ='Plot (2)'!$S$38 -> 0 | AC23: ='Plot (2)'!$R$39 -> 0 | AD23: ='Plot (2)'!$S$39 -> 0 | AE23: ='Plot (2)'!$R$40 -> 0 | AF23: ='Plot (2)'!$S$40 -> 0 | AH23: 5 | AI23: =+I46 -> N/A | AJ23: =+SUM(I47:I56) -> 0 | AK23: =+SUM(J47:J56) -> 0 | AL23: =+SUM(K47:K56) -> 0 | AM23: =+SUM(L47:L56) -> 0 | AN23: =+SUM(M47:M56) -> 0 | AO23: =+SUM(N47:N56) -> 0 | AP23: =SUM(AJ23:AO23) -> 0
A24: 3 | B24: FOREST HEALTH DAMAGE AGENTS | C24: =IF(CELL("type",('Plot (3)'!$J$8))="b","N/A",'Plot (3)'!$J$8) -> N/A | I24: =IF(CELL("type",('Plot (3)'!$L$8))="b","N/A",'Plot (3)'!$L$8) -> N/A | O24: =IF(CELL("type",('Plot (3)'!$N$8))="b","N/A",'Plot (3)'!$N$8) -> N/A | U24: =IF(CELL("type",('Plot (3)'!$P$8))="b","N/A",'Plot (3)'!$P$8) -> N/A | AA24: =IF(CELL("type",('Plot (3)'!$R$8))="b","N/A",'Plot (3)'!$R$8) -> N/A | AH24: 5 | AI24: =+O46 -> N/A | AJ24: =+SUM(O47:O56) -> 0 | AK24: =+SUM(P47:P56) -> 0 | AL24: =+SUM(Q47:Q56) -> 0 | AM24: =+SUM(R47:R56) -> 0 | AN24: =+SUM(S47:S56) -> 0 | AO24: =+SUM(T47:T56) -> 0 | AP24: =SUM(AJ24:AO24) -> 0
A25: 3 | B25: =+'Plot (3)'!A$11 -> 0 | C25: ='Plot (3)'!$J$11 -> 0 | D25: ='Plot (3)'!$K$11 -> 0 | E25: ='Plot (3)'!$J$12 -> 0 | F25: ='Plot (3)'!$K$12 -> 0 | G25: ='Plot (3)'!$J$13 -> 0 | H25: ='Plot (3)'!$K$13 -> 0 | I25: ='Plot (3)'!$L$11 -> 0 | J25: ='Plot (3)'!$M$11 -> 0 | K25: ='Plot (3)'!$L$12 -> 0 | L25: ='Plot (3)'!$M$12 -> 0 | M25: ='Plot (3)'!$L$13 -> 0 | N25: ='Plot (3)'!$M$13 -> 0 | O25: ='Plot (3)'!$N$11 -> 0 | P25: ='Plot (3)'!$O$11 -> 0 | Q25: ='Plot (3)'!$N$12 -> 0 | R25: ='Plot (3)'!$O$12 -> 0 | S25: ='Plot (3)'!$N$13 -> 0 | T25: ='Plot (3)'!$O$13 -> 0 | U25: ='Plot (3)'!$P$11 -> 0 | V25: ='Plot (3)'!$Q$11 -> 0 | W25: ='Plot (3)'!$P$12 -> 0 | X25: ='Plot (3)'!$Q$12 -> 0 | Y25: ='Plot (3)'!$P$13 -> 0 | Z25: ='Plot (3)'!$Q$13 -> 0 | AA25: ='Plot (3)'!$R$11 -> 0 | AB25: ='Plot (3)'!$S$11 -> 0 | AC25: ='Plot (3)'!$R$12 -> 0 | AD25: ='Plot (3)'!$S$12 -> 0 | AE25: ='Plot (3)'!$R$13 -> 0 | AF25: ='Plot (3)'!$S$13 -> 0 | AH25: 5 | AI25: =+U46 -> N/A | AJ25: =+SUM(U47:U56) -> 0 | AK25: =+SUM(V47:V56) -> 0 | AL25: =+SUM(W47:W56) -> 0 | AM25: =+SUM(X47:X56) -> 0 | AN25: =+SUM(Y47:Y56) -> 0 | AO25: =+SUM(Z47:Z56) -> 0 | AP25: =SUM(AJ25:AO25) -> 0
A26: 3 | B26: =+'Plot (3)'!A$14 -> 0 | C26: ='Plot (3)'!$J$14 -> 0 | D26: ='Plot (3)'!$K$14 -> 0 | E26: ='Plot (3)'!$J$15 -> 0 | F26: ='Plot (3)'!$K$15 -> 0 | G26: ='Plot (3)'!$J$16 -> 0 | H26: ='Plot (3)'!$K$16 -> 0 | I26: ='Plot (3)'!$L$14 -> 0 | J26: ='Plot (3)'!$M$14 -> 0 | K26: ='Plot (3)'!$L$15 -> 0 | L26: ='Plot (3)'!$M$15 -> 0 | M26: ='Plot (3)'!$L$16 -> 0 | N26: ='Plot (3)'!$M$16 -> 0 | O26: ='Plot (3)'!$N$14 -> 0 | P26: ='Plot (3)'!$O$14 -> 0 | Q26: ='Plot (3)'!$N$15 -> 0 | R26: ='Plot (3)'!$O$15 -> 0 | S26: ='Plot (3)'!$N$16 -> 0 | T26: ='Plot (3)'!$O$16 -> 0 | U26: ='Plot (3)'!$P$14 -> 0 | V26: ='Plot (3)'!$Q$14 -> 0 | W26: ='Plot (3)'!$P$15 -> 0 | X26: ='Plot (3)'!$Q$15 -> 0 | Y26: ='Plot (3)'!$P$16 -> 0 | Z26: ='Plot (3)'!$Q$16 -> 0 | AA26: ='Plot (3)'!$R$14 -> 0 | AB26: ='Plot (3)'!$S$14 -> 0 | AC26: ='Plot (3)'!$R$15 -> 0 | AD26: ='Plot (3)'!$S$15 -> 0 | AE26: ='Plot (3)'!$R$16 -> 0 | AF26: ='Plot (3)'!$S$16 -> 0 | AH26: 5 | AI26: =+AA46 -> N/A | AJ26: =+SUM(AA47:AA56) -> 0 | AK26: =+SUM(AB47:AB56) -> 0 | AL26: =+SUM(AC47:AC56) -> 0 | AM26: =+SUM(AD47:AD56) -> 0 | AN26: =+SUM(AE47:AE56) -> 0 | AO26: =+SUM(AF47:AF56) -> 0 | AP26: =SUM(AJ26:AO26) -> 0
A27: 3 | B27: =+'Plot (3)'!A$17 -> 0 | C27: ='Plot (3)'!$J$17 -> 0 | D27: ='Plot (3)'!$K$17 -> 0 | E27: ='Plot (3)'!$J$18 -> 0 | F27: ='Plot (3)'!$K$18 -> 0 | G27: ='Plot (3)'!$J$19 -> 0 | H27: ='Plot (3)'!$K$19 -> 0 | I27: ='Plot (3)'!$L$17 -> 0 | J27: ='Plot (3)'!$M$17 -> 0 | K27: ='Plot (3)'!$L$18 -> 0 | L27: ='Plot (3)'!$M$18 -> 0 | M27: ='Plot (3)'!$L$19 -> 0 | N27: ='Plot (3)'!$M$19 -> 0 | O27: ='Plot (3)'!$N$17 -> 0 | P27: ='Plot (3)'!$O$17 -> 0 | Q27: ='Plot (3)'!$N$18 -> 0 | R27: ='Plot (3)'!$O$18 -> 0 | S27: ='Plot (3)'!$N$19 -> 0 | T27: ='Plot (3)'!$O$19 -> 0 | U27: ='Plot (3)'!$P$17 -> 0 | V27: ='Plot (3)'!$Q$17 -> 0 | W27: ='Plot (3)'!$P$18 -> 0 | X27: ='Plot (3)'!$Q$18 -> 0 | Y27: ='Plot (3)'!$P$19 -> 0 | Z27: ='Plot (3)'!$Q$19 -> 0 | AA27: ='Plot (3)'!$R$17 -> 0 | AB27: ='Plot (3)'!$S$17 -> 0 | AC27: ='Plot (3)'!$R$18 -> 0 | AD27: ='Plot (3)'!$S$18 -> 0 | AE27: ='Plot (3)'!$R$19 -> 0 | AF27: ='Plot (3)'!$S$19 -> 0 | AH27: 6 | AI27: =+C57 -> N/A | AJ27: =+SUM(C58:C67) -> 0 | AK27: =+SUM(D58:D67) -> 0 | AL27: =+SUM(E58:E67) -> 0 | AM27: =+SUM(F58:F67) -> 0 | AN27: =+SUM(G58:G67) -> 0 | AO27: =+SUM(H58:H67) -> 0 | AP27: =SUM(AJ27:AO27) -> 0
A28: 3 | B28: =+'Plot (3)'!A$20 -> 0 | C28: ='Plot (3)'!$J$20 -> 0 | D28: ='Plot (3)'!$K$20 -> 0 | E28: ='Plot (3)'!$J$21 -> 0 | F28: ='Plot (3)'!$K$21 -> 0 | G28: ='Plot (3)'!$J$22 -> 0 | H28: ='Plot (3)'!$K$22 -> 0 | I28: ='Plot (3)'!$L$20 -> 0 | J28: ='Plot (3)'!$M$20 -> 0 | K28: ='Plot (3)'!$L$21 -> 0 | L28: ='Plot (3)'!$M$21 -> 0 | M28: ='Plot (3)'!$L$22 -> 0 | N28: ='Plot (3)'!$M$22 -> 0 | O28: ='Plot (3)'!$N$20 -> 0 | P28: ='Plot (3)'!$O$20 -> 0 | Q28: ='Plot (3)'!$N$21 -> 0 | R28: ='Plot (3)'!$O$21 -> 0 | S28: ='Plot (3)'!$N$22 -> 0 | T28: ='Plot (3)'!$O$22 -> 0 | U28: ='Plot (3)'!$P$20 -> 0 | V28: ='Plot (3)'!$Q$20 -> 0 | W28: ='Plot (3)'!$P$21 -> 0 | X28: ='Plot (3)'!$Q$21 -> 0 | Y28: ='Plot (3)'!$P$22 -> 0 | Z28: ='Plot (3)'!$Q$22 -> 0 | AA28: ='Plot (3)'!$R$20 -> 0 | AB28: ='Plot (3)'!$S$20 -> 0 | AC28: ='Plot (3)'!$R$21 -> 0 | AD28: ='Plot (3)'!$S$21 -> 0 | AE28: ='Plot (3)'!$R$22 -> 0 | AF28: ='Plot (3)'!$S$22 -> 0 | AH28: 6 | AI28: =+I57 -> N/A | AJ28: =+SUM(I58:I67) -> 0 | AK28: =+SUM(J58:J67) -> 0 | AL28: =+SUM(K58:K67) -> 0 | AM28: =+SUM(L58:L67) -> 0 | AN28: =+SUM(M58:M67) -> 0 | AO28: =+SUM(N58:N67) -> 0 | AP28: =SUM(AJ28:AO28) -> 0
A29: 3 | B29: =+'Plot (3)'!A$23 -> 0 | C29: ='Plot (3)'!$J$23 -> 0 | D29: ='Plot (3)'!$K$23 -> 0 | E29: ='Plot (3)'!$J$24 -> 0 | F29: ='Plot (3)'!$K$24 -> 0 | G29: ='Plot (3)'!$J$25 -> 0 | H29: ='Plot (3)'!$K$25 -> 0 | I29: ='Plot (3)'!$L$23 -> 0 | J29: ='Plot (3)'!$M$23 -> 0 | K29: ='Plot (3)'!$L$24 -> 0 | L29: ='Plot (3)'!$M$24 -> 0 | M29: ='Plot (3)'!$L$25 -> 0 | N29: ='Plot (3)'!$M$25 -> 0 | O29: ='Plot (3)'!$N$23 -> 0 | P29: ='Plot (3)'!$O$23 -> 0 | Q29: ='Plot (3)'!$N$24 -> 0 | R29: ='Plot (3)'!$O$24 -> 0 | S29: ='Plot (3)'!$N$25 -> 0 | T29: ='Plot (3)'!$O$25 -> 0 | U29: ='Plot (3)'!$P$23 -> 0 | V29: ='Plot (3)'!$Q$23 -> 0 | W29: ='Plot (3)'!$P$24 -> 0 | X29: ='Plot (3)'!$Q$24 -> 0 | Y29: ='Plot (3)'!$P$25 -> 0 | Z29: ='Plot (3)'!$Q$25 -> 0 | AA29: ='Plot (3)'!$R$23 -> 0 | AB29: ='Plot (3)'!$S$23 -> 0 | AC29: ='Plot (3)'!$R$24 -> 0 | AD29: ='Plot (3)'!$S$24 -> 0 | AE29: ='Plot (3)'!$R$25 -> 0 | AF29: ='Plot (3)'!$S$25 -> 0 | AH29: 6 | AI29: =+O57 -> N/A | AJ29: =+SUM(O58:O67) -> 0 | AK29: =+SUM(P58:P67) -> 0 | AL29: =+SUM(Q58:Q67) -> 0 | AM29: =+SUM(R58:R67) -> 0 | AN29: =+SUM(S58:S67) -> 0 | AO29: =+SUM(T58:T67) -> 0 | AP29: =SUM(AJ29:AO29) -> 0
A30: 3 | B30: =+'Plot (3)'!A$26 -> 0 | C30: ='Plot (3)'!$J$26 -> 0 | D30: ='Plot (3)'!$K$26 -> 0 | E30: ='Plot (3)'!$J$27 -> 0 | F30: ='Plot (3)'!$K$27 -> 0 | G30: ='Plot (3)'!$J$28 -> 0 | H30: ='Plot (3)'!$K$28 -> 0 | I30: ='Plot (3)'!$L$26 -> 0 | J30: ='Plot (3)'!$M$26 -> 0 | K30: ='Plot (3)'!$L$27 -> 0 | L30: ='Plot (3)'!$M$27 -> 0 | M30: ='Plot (3)'!$L$28 -> 0 | N30: ='Plot (3)'!$M$28 -> 0 | O30: ='Plot (3)'!$N$26 -> 0 | P30: ='Plot (3)'!$O$26 -> 0 | Q30: ='Plot (3)'!$N$27 -> 0 | R30: ='Plot (3)'!$O$27 -> 0 | S30: ='Plot (3)'!$N$28 -> 0 | T30: ='Plot (3)'!$O$28 -> 0 | U30: ='Plot (3)'!$P$26 -> 0 | V30: ='Plot (3)'!$Q$26 -> 0 | W30: ='Plot (3)'!$P$27 -> 0 | X30: ='Plot (3)'!$Q$27 -> 0 | Y30: ='Plot (3)'!$P$28 -> 0 | Z30: ='Plot (3)'!$Q$28 -> 0 | AA30: ='Plot (3)'!$R$26 -> 0 | AB30: ='Plot (3)'!$S$26 -> 0 | AC30: ='Plot (3)'!$R$27 -> 0 | AD30: ='Plot (3)'!$S$27 -> 0 | AE30: ='Plot (3)'!$R$28 -> 0 | AF30: ='Plot (3)'!$S$28 -> 0 | AH30: 6 | AI30: =+U57 -> N/A | AJ30: =+SUM(U58:U67) -> 0 | AK30: =+SUM(V58:V67) -> 0 | AL30: =+SUM(W58:W67) -> 0 | AM30: =+SUM(X58:X67) -> 0 | AN30: =+SUM(Y58:Y67) -> 0 | AO30: =+SUM(Z58:Z67) -> 0 | AP30: =SUM(AJ30:AO30) -> 0
A31: 3 | B31: =+'Plot (3)'!A$29 -> 0 | C31: ='Plot (3)'!$J$29 -> 0 | D31: ='Plot (3)'!$K$29 -> 0 | E31: ='Plot (3)'!$J$30 -> 0 | F31: ='Plot (3)'!$K$30 -> 0 | G31: ='Plot (3)'!$J$31 -> 0 | H31: ='Plot (3)'!$K$31 -> 0 | I31: ='Plot (3)'!$L$29 -> 0 | J31: ='Plot (3)'!$M$29 -> 0 | K31: ='Plot (3)'!$L$30 -> 0 | L31: ='Plot (3)'!$M$30 -> 0 | M31: ='Plot (3)'!$L$31 -> 0 | N31: ='Plot (3)'!$M$31 -> 0 | O31: ='Plot (3)'!$N$29 -> 0 | P31: ='Plot (3)'!$O$29 -> 0 | Q31: ='Plot (3)'!$N$30 -> 0 | R31: ='Plot (3)'!$O$30 -> 0 | S31: ='Plot (3)'!$N$31 -> 0 | T31: ='Plot (3)'!$O$31 -> 0 | U31: ='Plot (3)'!$P$29 -> 0 | V31: ='Plot (3)'!$Q$29 -> 0 | W31: ='Plot (3)'!$P$30 -> 0 | X31: ='Plot (3)'!$Q$30 -> 0 | Y31: ='Plot (3)'!$P$31 -> 0 | Z31: ='Plot (3)'!$Q$31 -> 0 | AA31: ='Plot (3)'!$R$29 -> 0 | AB31: ='Plot (3)'!$S$29 -> 0 | AC31: ='Plot (3)'!$R$30 -> 0 | AD31: ='Plot (3)'!$S$30 -> 0 | AE31: ='Plot (3)'!$R$31 -> 0 | AF31: ='Plot (3)'!$S$31 -> 0 | AH31: 6 | AI31: =+AA57 -> N/A | AJ31: =+SUM(AA58:AA67) -> 0 | AK31: =+SUM(AB58:AB67) -> 0 | AL31: =+SUM(AC58:AC67) -> 0 | AM31: =+SUM(AD58:AD67) -> 0 | AN31: =+SUM(AE58:AE67) -> 0 | AO31: =+SUM(AF58:AF67) -> 0 | AP31: =SUM(AJ31:AO31) -> 0
A32: 3 | B32: =+'Plot (3)'!A$32 -> 0 | C32: ='Plot (3)'!$J$32 -> 0 | D32: ='Plot (3)'!$K$32 -> 0 | E32: ='Plot (3)'!$J$33 -> 0 | F32: ='Plot (3)'!$K$33 -> 0 | G32: ='Plot (3)'!$J$34 -> 0 | H32: ='Plot (3)'!$K$34 -> 0 | I32: ='Plot (3)'!$L$32 -> 0 | J32: ='Plot (3)'!$M$32 -> 0 | K32: ='Plot (3)'!$L$33 -> 0 | L32: ='Plot (3)'!$M$33 -> 0 | M32: ='Plot (3)'!$L$34 -> 0 | N32: ='Plot (3)'!$M$34 -> 0 | O32: ='Plot (3)'!$N$32 -> 0 | P32: ='Plot (3)'!$O$32 -> 0 | Q32: ='Plot (3)'!$N$33 -> 0 | R32: ='Plot (3)'!$O$33 -> 0 | S32: ='Plot (3)'!$N$34 -> 0 | T32: ='Plot (3)'!$O$34 -> 0 | U32: ='Plot (3)'!$P$32 -> 0 | V32: ='Plot (3)'!$Q$32 -> 0 | W32: ='Plot (3)'!$P$33 -> 0 | X32: ='Plot (3)'!$Q$33 -> 0 | Y32: ='Plot (3)'!$P$34 -> 0 | Z32: ='Plot (3)'!$Q$34 -> 0 | AA32: ='Plot (3)'!$R$32 -> 0 | AB32: ='Plot (3)'!$S$32 -> 0 | AC32: ='Plot (3)'!$R$33 -> 0 | AD32: ='Plot (3)'!$S$33 -> 0 | AE32: ='Plot (3)'!$R$34 -> 0 | AF32: ='Plot (3)'!$S$34 -> 0 | AH32: 7 | AI32: =+C68 -> N/A | AJ32: =+SUM(C69:C78) -> 0 | AK32: =+SUM(D69:D78) -> 0 | AL32: =+SUM(E69:E78) -> 0 | AM32: =+SUM(F69:F78) -> 0 | AN32: =+SUM(G69:G78) -> 0 | AO32: =+SUM(H69:H78) -> 0 | AP32: =SUM(AJ32:AO32) -> 0
A33: 3 | B33: =+'Plot (3)'!A$35 -> 0 | C33: ='Plot (3)'!$J$35 -> 0 | D33: ='Plot (3)'!$K$35 -> 0 | E33: ='Plot (3)'!$J$36 -> 0 | F33: ='Plot (3)'!$K$36 -> 0 | G33: ='Plot (3)'!$J$37 -> 0 | H33: ='Plot (3)'!$K$37 -> 0 | I33: ='Plot (3)'!$L$35 -> 0 | J33: ='Plot (3)'!$M$35 -> 0 | K33: ='Plot (3)'!$L$36 -> 0 | L33: ='Plot (3)'!$M$36 -> 0 | M33: ='Plot (3)'!$L$37 -> 0 | N33: ='Plot (3)'!$M$37 -> 0 | O33: ='Plot (3)'!$N$35 -> 0 | P33: ='Plot (3)'!$O$35 -> 0 | Q33: ='Plot (3)'!$N$36 -> 0 | R33: ='Plot (3)'!$O$36 -> 0 | S33: ='Plot (3)'!$N$37 -> 0 | T33: ='Plot (3)'!$O$37 -> 0 | U33: ='Plot (3)'!$P$35 -> 0 | V33: ='Plot (3)'!$Q$35 -> 0 | W33: ='Plot (3)'!$P$36 -> 0 | X33: ='Plot (3)'!$Q$36 -> 0 | Y33: ='Plot (3)'!$P$37 -> 0 | Z33: ='Plot (3)'!$Q$37 -> 0 | AA33: ='Plot (3)'!$R$35 -> 0 | AB33: ='Plot (3)'!$S$35 -> 0 | AC33: ='Plot (3)'!$R$36 -> 0 | AD33: ='Plot (3)'!$S$36 -> 0 | AE33: ='Plot (3)'!$R$37 -> 0 | AF33: ='Plot (3)'!$S$37 -> 0 | AH33: 7 | AI33: =+I68 -> N/A | AJ33: =+SUM(I69:I78) -> 0 | AK33: =+SUM(J69:J78) -> 0 | AL33: =+SUM(K69:K78) -> 0 | AM33: =+SUM(L69:L78) -> 0 | AN33: =+SUM(M69:M78) -> 0 | AO33: =+SUM(N69:N78) -> 0 | AP33: =SUM(AJ33:AO33) -> 0
A34: 3 | B34: =+'Plot (3)'!A$38 -> 0 | C34: ='Plot (3)'!$J$38 -> 0 | D34: ='Plot (3)'!$K$38 -> 0 | E34: ='Plot (3)'!$J$39 -> 0 | F34: ='Plot (3)'!$K$39 -> 0 | G34: ='Plot (3)'!$J$40 -> 0 | H34: ='Plot (3)'!$K$40 -> 0 | I34: ='Plot (3)'!$L$38 -> 0 | J34: ='Plot (3)'!$M$38 -> 0 | K34: ='Plot (3)'!$L$39 -> 0 | L34: ='Plot (3)'!$M$39 -> 0 | M34: ='Plot (3)'!$L$40 -> 0 | N34: ='Plot (3)'!$M$40 -> 0 | O34: ='Plot (3)'!$N$38 -> 0 | P34: ='Plot (3)'!$O$38 -> 0 | Q34: ='Plot (3)'!$N$39 -> 0 | R34: ='Plot (3)'!$O$39 -> 0 | S34: ='Plot (3)'!$N$40 -> 0 | T34: ='Plot (3)'!$O$40 -> 0 | U34: ='Plot (3)'!$P$38 -> 0 | V34: ='Plot (3)'!$Q$38 -> 0 | W34: ='Plot (3)'!$P$39 -> 0 | X34: ='Plot (3)'!$Q$39 -> 0 | Y34: ='Plot (3)'!$P$40 -> 0 | Z34: ='Plot (3)'!$Q$40 -> 0 | AA34: ='Plot (3)'!$R$38 -> 0 | AB34: ='Plot (3)'!$S$38 -> 0 | AC34: ='Plot (3)'!$R$39 -> 0 | AD34: ='Plot (3)'!$S$39 -> 0 | AE34: ='Plot (3)'!$R$40 -> 0 | AF34: ='Plot (3)'!$S$40 -> 0 | AH34: 7 | AI34: =+O68 -> N/A | AJ34: =+SUM(O69:O78) -> 0 | AK34: =+SUM(P69:P78) -> 0 | AL34: =+SUM(Q69:Q78) -> 0 | AM34: =+SUM(R69:R78) -> 0 | AN34: =+SUM(S69:S78) -> 0 | AO34: =+SUM(T69:T78) -> 0 | AP34: =SUM(AJ34:AO34) -> 0
A35: 4 | B35: FOREST HEALTH DAMAGE AGENTS | C35: =IF(CELL("type",('Plot (4)'!$J$8))="b","N/A",'Plot (4)'!$J$8) -> N/A | I35: =IF(CELL("type",('Plot (4)'!$L$8))="b","N/A",'Plot (4)'!$L$8) -> N/A | O35: =IF(CELL("type",('Plot (4)'!$N$8))="b","N/A",'Plot (4)'!$N$8) -> N/A | U35: =IF(CELL("type",('Plot (4)'!$P$8))="b","N/A",'Plot (4)'!$P$8) -> N/A | AA35: =IF(CELL("type",('Plot (4)'!$R$8))="b","N/A",'Plot (4)'!$R$8) -> N/A | AH35: 7 | AI35: =+U68 -> N/A | AJ35: =+SUM(U69:U78) -> 0 | AK35: =+SUM(V69:V78) -> 0 | AL35: =+SUM(W69:W78) -> 0 | AM35: =+SUM(X69:X78) -> 0 | AN35: =+SUM(Y69:Y78) -> 0 | AO35: =+SUM(Z69:Z78) -> 0 | AP35: =SUM(AJ35:AO35) -> 0
A36: 4 | B36: =+'Plot (4)'!A$11 -> 0 | C36: ='Plot (4)'!$J$11 -> 0 | D36: ='Plot (4)'!$K$11 -> 0 | E36: ='Plot (4)'!$J$12 -> 0 | F36: ='Plot (4)'!$K$12 -> 0 | G36: ='Plot (4)'!$J$13 -> 0 | H36: ='Plot (4)'!$K$13 -> 0 | I36: ='Plot (4)'!$L$11 -> 0 | J36: ='Plot (4)'!$M$11 -> 0 | K36: ='Plot (4)'!$L$12 -> 0 | L36: ='Plot (4)'!$M$12 -> 0 | M36: ='Plot (4)'!$L$13 -> 0 | N36: ='Plot (4)'!$M$13 -> 0 | O36: ='Plot (4)'!$N$11 -> 0 | P36: ='Plot (4)'!$O$11 -> 0 | Q36: ='Plot (4)'!$N$12 -> 0 | R36: ='Plot (4)'!$O$12 -> 0 | S36: ='Plot (4)'!$N$13 -> 0 | T36: ='Plot (4)'!$O$13 -> 0 | U36: ='Plot (4)'!$P$11 -> 0 | V36: ='Plot (4)'!$Q$11 -> 0 | W36: ='Plot (4)'!$P$12 -> 0 | X36: ='Plot (4)'!$Q$12 -> 0 | Y36: ='Plot (4)'!$P$13 -> 0 | Z36: ='Plot (4)'!$Q$13 -> 0 | AA36: ='Plot (4)'!$R$11 -> 0 | AB36: ='Plot (4)'!$S$11 -> 0 | AC36: ='Plot (4)'!$R$12 -> 0 | AD36: ='Plot (4)'!$S$12 -> 0 | AE36: ='Plot (4)'!$R$13 -> 0 | AF36: ='Plot (4)'!$S$13 -> 0 | AH36: 7 | AI36: =+AA68 -> N/A | AJ36: =+SUM(AA69:AA78) -> 0 | AK36: =+SUM(AB69:AB78) -> 0 | AL36: =+SUM(AC69:AC78) -> 0 | AM36: =+SUM(AD69:AD78) -> 0 | AN36: =+SUM(AE69:AE78) -> 0 | AO36: =+SUM(AF69:AF78) -> 0 | AP36: =SUM(AJ36:AO36) -> 0
A37: 4 | B37: =+'Plot (4)'!A$14 -> 0 | C37: ='Plot (4)'!$J$14 -> 0 | D37: ='Plot (4)'!$K$14 -> 0 | E37: ='Plot (4)'!$J$15 -> 0 | F37: ='Plot (4)'!$K$15 -> 0 | G37: ='Plot (4)'!$J$16 -> 0 | H37: ='Plot (4)'!$K$16 -> 0 | I37: ='Plot (4)'!$L$14 -> 0 | J37: ='Plot (4)'!$M$14 -> 0 | K37: ='Plot (4)'!$L$15 -> 0 | L37: ='Plot (4)'!$M$15 -> 0 | M37: ='Plot (4)'!$L$16 -> 0 | N37: ='Plot (4)'!$M$16 -> 0 | O37: ='Plot (4)'!$N$14 -> 0 | P37: ='Plot (4)'!$O$14 -> 0 | Q37: ='Plot (4)'!$N$15 -> 0 | R37: ='Plot (4)'!$O$15 -> 0 | S37: ='Plot (4)'!$N$16 -> 0 | T37: ='Plot (4)'!$O$16 -> 0 | U37: ='Plot (4)'!$P$14 -> 0 | V37: ='Plot (4)'!$Q$14 -> 0 | W37: ='Plot (4)'!$P$15 -> 0 | X37: ='Plot (4)'!$Q$15 -> 0 | Y37: ='Plot (4)'!$P$16 -> 0 | Z37: ='Plot (4)'!$Q$16 -> 0 | AA37: ='Plot (4)'!$R$14 -> 0 | AB37: ='Plot (4)'!$S$14 -> 0 | AC37: ='Plot (4)'!$R$15 -> 0 | AD37: ='Plot (4)'!$S$15 -> 0 | AE37: ='Plot (4)'!$R$16 -> 0 | AF37: ='Plot (4)'!$S$16 -> 0 | AH37: 8 | AI37: =+C79 -> N/A | AJ37: =+SUM(C80:C89) -> 0 | AK37: =+SUM(D80:D89) -> 0 | AL37: =+SUM(E80:E89) -> 0 | AM37: =+SUM(F80:F89) -> 0 | AN37: =+SUM(G80:G89) -> 0 | AO37: =+SUM(H80:H89) -> 0 | AP37: =SUM(AJ37:AO37) -> 0
A38: 4 | B38: =+'Plot (4)'!A$17 -> 0 | C38: ='Plot (4)'!$J$17 -> 0 | D38: ='Plot (4)'!$K$17 -> 0 | E38: ='Plot (4)'!$J$18 -> 0 | F38: ='Plot (4)'!$K$18 -> 0 | G38: ='Plot (4)'!$J$19 -> 0 | H38: ='Plot (4)'!$K$19 -> 0 | I38: ='Plot (4)'!$L$17 -> 0 | J38: ='Plot (4)'!$M$17 -> 0 | K38: ='Plot (4)'!$L$18 -> 0 | L38: ='Plot (4)'!$M$18 -> 0 | M38: ='Plot (4)'!$L$19 -> 0 | N38: ='Plot (4)'!$M$19 -> 0 | O38: ='Plot (4)'!$N$17 -> 0 | P38: ='Plot (4)'!$O$17 -> 0 | Q38: ='Plot (4)'!$N$18 -> 0 | R38: ='Plot (4)'!$O$18 -> 0 | S38: ='Plot (4)'!$N$19 -> 0 | T38: ='Plot (4)'!$O$19 -> 0 | U38: ='Plot (4)'!$P$17 -> 0 | V38: ='Plot (4)'!$Q$17 -> 0 | W38: ='Plot (4)'!$P$18 -> 0 | X38: ='Plot (4)'!$Q$18 -> 0 | Y38: ='Plot (4)'!$P$19 -> 0 | Z38: ='Plot (4)'!$Q$19 -> 0 | AA38: ='Plot (4)'!$R$17 -> 0 | AB38: ='Plot (4)'!$S$17 -> 0 | AC38: ='Plot (4)'!$R$18 -> 0 | AD38: ='Plot (4)'!$S$18 -> 0 | AE38: ='Plot (4)'!$R$19 -> 0 | AF38: ='Plot (4)'!$S$19 -> 0 | AH38: 8 | AI38: =+I79 -> N/A | AJ38: =+SUM(I80:I89) -> 0 | AK38: =+SUM(J80:J89) -> 0 | AL38: =+SUM(K80:K89) -> 0 | AM38: =+SUM(L80:L89) -> 0 | AN38: =+SUM(M80:M89) -> 0 | AO38: =+SUM(N80:N89) -> 0 | AP38: =SUM(AJ38:AO38) -> 0
A39: 4 | B39: =+'Plot (4)'!A$20 -> 0 | C39: ='Plot (4)'!$J$20 -> 0 | D39: ='Plot (4)'!$K$20 -> 0 | E39: ='Plot (4)'!$J$21 -> 0 | F39: ='Plot (4)'!$K$21 -> 0 | G39: ='Plot (4)'!$J$22 -> 0 | H39: ='Plot (4)'!$K$22 -> 0 | I39: ='Plot (4)'!$L$20 -> 0 | J39: ='Plot (4)'!$M$20 -> 0 | K39: ='Plot (4)'!$L$21 -> 0 | L39: ='Plot (4)'!$M$21 -> 0 | M39: ='Plot (4)'!$L$22 -> 0 | N39: ='Plot (4)'!$M$22 -> 0 | O39: ='Plot (4)'!$N$20 -> 0 | P39: ='Plot (4)'!$O$20 -> 0 | Q39: ='Plot (4)'!$N$21 -> 0 | R39: ='Plot (4)'!$O$21 -> 0 | S39: ='Plot (4)'!$N$22 -> 0 | T39: ='Plot (4)'!$O$22 -> 0 | U39: ='Plot (4)'!$P$20 -> 0 | V39: ='Plot (4)'!$Q$20 -> 0 | W39: ='Plot (4)'!$P$21 -> 0 | X39: ='Plot (4)'!$Q$21 -> 0 | Y39: ='Plot (4)'!$P$22 -> 0 | Z39: ='Plot (4)'!$Q$22 -> 0 | AA39: ='Plot (4)'!$R$20 -> 0 | AB39: ='Plot (4)'!$S$20 -> 0 | AC39: ='Plot (4)'!$R$21 -> 0 | AD39: ='Plot (4)'!$S$21 -> 0 | AE39: ='Plot (4)'!$R$22 -> 0 | AF39: ='Plot (4)'!$S$22 -> 0 | AH39: 8 | AI39: =+O79 -> N/A | AJ39: =+SUM(O80:O89) -> 0 | AK39: =+SUM(P80:P89) -> 0 | AL39: =+SUM(Q80:Q89) -> 0 | AM39: =+SUM(R80:R89) -> 0 | AN39: =+SUM(S80:S89) -> 0 | AO39: =+SUM(T80:T89) -> 0 | AP39: =SUM(AJ39:AO39) -> 0
A40: 4 | B40: =+'Plot (4)'!A$23 -> 0 | C40: ='Plot (4)'!$J$23 -> 0 | D40: ='Plot (4)'!$K$23 -> 0 | E40: ='Plot (4)'!$J$24 -> 0 | F40: ='Plot (4)'!$K$24 -> 0 | G40: ='Plot (4)'!$J$25 -> 0 | H40: ='Plot (4)'!$K$25 -> 0 | I40: ='Plot (4)'!$L$23 -> 0 | J40: ='Plot (4)'!$M$23 -> 0 | K40: ='Plot (4)'!$L$24 -> 0 | L40: ='Plot (4)'!$M$24 -> 0 | M40: ='Plot (4)'!$L$25 -> 0 | N40: ='Plot (4)'!$M$25 -> 0 | O40: ='Plot (4)'!$N$23 -> 0 | P40: ='Plot (4)'!$O$23 -> 0 | Q40: ='Plot (4)'!$N$24 -> 0 | R40: ='Plot (4)'!$O$24 -> 0 | S40: ='Plot (4)'!$N$25 -> 0 | T40: ='Plot (4)'!$O$25 -> 0 | U40: ='Plot (4)'!$P$23 -> 0 | V40: ='Plot (4)'!$Q$23 -> 0 | W40: ='Plot (4)'!$P$24 -> 0 | X40: ='Plot (4)'!$Q$24 -> 0 | Y40: ='Plot (4)'!$P$25 -> 0 | Z40: ='Plot (4)'!$Q$25 -> 0 | AA40: ='Plot (4)'!$R$23 -> 0 | AB40: ='Plot (4)'!$S$23 -> 0 | AC40: ='Plot (4)'!$R$24 -> 0 | AD40: ='Plot (4)'!$S$24 -> 0 | AE40: ='Plot (4)'!$R$25 -> 0 | AF40: ='Plot (4)'!$S$25 -> 0 | AH40: 8 | AI40: =+U79 -> N/A | AJ40: =+SUM(U80:U89) -> 0 | AK40: =+SUM(V80:V89) -> 0 | AL40: =+SUM(W80:W89) -> 0 | AM40: =+SUM(X80:X89) -> 0 | AN40: =+SUM(Y80:Y89) -> 0 | AO40: =+SUM(Z80:Z89) -> 0 | AP40: =SUM(AJ40:AO40) -> 0
A41: 4 | B41: =+'Plot (4)'!A$26 -> 0 | C41: ='Plot (4)'!$J$26 -> 0 | D41: ='Plot (4)'!$K$26 -> 0 | E41: ='Plot (4)'!$J$27 -> 0 | F41: ='Plot (4)'!$K$27 -> 0 | G41: ='Plot (4)'!$J$28 -> 0 | H41: ='Plot (4)'!$K$28 -> 0 | I41: ='Plot (4)'!$L$26 -> 0 | J41: ='Plot (4)'!$M$26 -> 0 | K41: ='Plot (4)'!$L$27 -> 0 | L41: ='Plot (4)'!$M$27 -> 0 | M41: ='Plot (4)'!$L$28 -> 0 | N41: ='Plot (4)'!$M$28 -> 0 | O41: ='Plot (4)'!$N$26 -> 0 | P41: ='Plot (4)'!$O$26 -> 0 | Q41: ='Plot (4)'!$N$27 -> 0 | R41: ='Plot (4)'!$O$27 -> 0 | S41: ='Plot (4)'!$N$28 -> 0 | T41: ='Plot (4)'!$O$28 -> 0 | U41: ='Plot (4)'!$P$26 -> 0 | V41: ='Plot (4)'!$Q$26 -> 0 | W41: ='Plot (4)'!$P$27 -> 0 | X41: ='Plot (4)'!$Q$27 -> 0 | Y41: ='Plot (4)'!$P$28 -> 0 | Z41: ='Plot (4)'!$Q$28 -> 0 | AA41: ='Plot (4)'!$R$26 -> 0 | AB41: ='Plot (4)'!$S$26 -> 0 | AC41: ='Plot (4)'!$R$27 -> 0 | AD41: ='Plot (4)'!$S$27 -> 0 | AE41: ='Plot (4)'!$R$28 -> 0 | AF41: ='Plot (4)'!$S$28 -> 0 | AH41: 8 | AI41: =+AA79 -> N/A | AJ41: =+SUM(AA80:AA89) -> 0 | AK41: =+SUM(AB80:AB89) -> 0 | AL41: =+SUM(AC80:AC89) -> 0 | AM41: =+SUM(AD80:AD89) -> 0 | AN41: =+SUM(AE80:AE89) -> 0 | AO41: =+SUM(AF80:AF89) -> 0 | AP41: =SUM(AJ41:AO41) -> 0
A42: 4 | B42: =+'Plot (4)'!A$29 -> 0 | C42: ='Plot (4)'!$J$29 -> 0 | D42: ='Plot (4)'!$K$29 -> 0 | E42: ='Plot (4)'!$J$30 -> 0 | F42: ='Plot (4)'!$K$30 -> 0 | G42: ='Plot (4)'!$J$31 -> 0 | H42: ='Plot (4)'!$K$31 -> 0 | I42: ='Plot (4)'!$L$29 -> 0 | J42: ='Plot (4)'!$M$29 -> 0 | K42: ='Plot (4)'!$L$30 -> 0 | L42: ='Plot (4)'!$M$30 -> 0 | M42: ='Plot (4)'!$L$31 -> 0 | N42: ='Plot (4)'!$M$31 -> 0 | O42: ='Plot (4)'!$N$29 -> 0 | P42: ='Plot (4)'!$O$29 -> 0 | Q42: ='Plot (4)'!$N$30 -> 0 | R42: ='Plot (4)'!$O$30 -> 0 | S42: ='Plot (4)'!$N$31 -> 0 | T42: ='Plot (4)'!$O$31 -> 0 | U42: ='Plot (4)'!$P$29 -> 0 | V42: ='Plot (4)'!$Q$29 -> 0 | W42: ='Plot (4)'!$P$30 -> 0 | X42: ='Plot (4)'!$Q$30 -> 0 | Y42: ='Plot (4)'!$P$31 -> 0 | Z42: ='Plot (4)'!$Q$31 -> 0 | AA42: ='Plot (4)'!$R$29 -> 0 | AB42: ='Plot (4)'!$S$29 -> 0 | AC42: ='Plot (4)'!$R$30 -> 0 | AD42: ='Plot (4)'!$S$30 -> 0 | AE42: ='Plot (4)'!$R$31 -> 0 | AF42: ='Plot (4)'!$S$31 -> 0 | AH42: 9 | AI42: =+C90 -> N/A | AJ42: =+SUM(C91:C100) -> 0 | AK42: =+SUM(D91:D100) -> 0 | AL42: =+SUM(E91:E100) -> 0 | AM42: =+SUM(F91:F100) -> 0 | AN42: =+SUM(G91:G100) -> 0 | AO42: =+SUM(H91:H100) -> 0 | AP42: =SUM(AJ42:AO42) -> 0
A43: 4 | B43: =+'Plot (4)'!A$32 -> 0 | C43: ='Plot (4)'!$J$32 -> 0 | D43: ='Plot (4)'!$K$32 -> 0 | E43: ='Plot (4)'!$J$33 -> 0 | F43: ='Plot (4)'!$K$33 -> 0 | G43: ='Plot (4)'!$J$34 -> 0 | H43: ='Plot (4)'!$K$34 -> 0 | I43: ='Plot (4)'!$L$32 -> 0 | J43: ='Plot (4)'!$M$32 -> 0 | K43: ='Plot (4)'!$L$33 -> 0 | L43: ='Plot (4)'!$M$33 -> 0 | M43: ='Plot (4)'!$L$34 -> 0 | N43: ='Plot (4)'!$M$34 -> 0 | O43: ='Plot (4)'!$N$32 -> 0 | P43: ='Plot (4)'!$O$32 -> 0 | Q43: ='Plot (4)'!$N$33 -> 0 | R43: ='Plot (4)'!$O$33 -> 0 | S43: ='Plot (4)'!$N$34 -> 0 | T43: ='Plot (4)'!$O$34 -> 0 | U43: ='Plot (4)'!$P$32 -> 0 | V43: ='Plot (4)'!$Q$32 -> 0 | W43: ='Plot (4)'!$P$33 -> 0 | X43: ='Plot (4)'!$Q$33 -> 0 | Y43: ='Plot (4)'!$P$34 -> 0 | Z43: ='Plot (4)'!$Q$34 -> 0 | AA43: ='Plot (4)'!$R$32 -> 0 | AB43: ='Plot (4)'!$S$32 -> 0 | AC43: ='Plot (4)'!$R$33 -> 0 | AD43: ='Plot (4)'!$S$33 -> 0 | AE43: ='Plot (4)'!$R$34 -> 0 | AF43: ='Plot (4)'!$S$34 -> 0 | AH43: 9 | AI43: =+I90 -> N/A | AJ43: =+SUM(I91:I100) -> 0 | AK43: =+SUM(J91:J100) -> 0 | AL43: =+SUM(K91:K100) -> 0 | AM43: =+SUM(L91:L100) -> 0 | AN43: =+SUM(M91:M100) -> 0 | AO43: =+SUM(N91:N100) -> 0 | AP43: =SUM(AJ43:AO43) -> 0
A44: 4 | B44: =+'Plot (4)'!A$35 -> 0 | C44: ='Plot (4)'!$J$35 -> 0 | D44: ='Plot (4)'!$K$35 -> 0 | E44: ='Plot (4)'!$J$36 -> 0 | F44: ='Plot (4)'!$K$36 -> 0 | G44: ='Plot (4)'!$J$37 -> 0 | H44: ='Plot (4)'!$K$37 -> 0 | I44: ='Plot (4)'!$L$35 -> 0 | J44: ='Plot (4)'!$M$35 -> 0 | K44: ='Plot (4)'!$L$36 -> 0 | L44: ='Plot (4)'!$M$36 -> 0 | M44: ='Plot (4)'!$L$37 -> 0 | N44: ='Plot (4)'!$M$37 -> 0 | O44: ='Plot (4)'!$N$35 -> 0 | P44: ='Plot (4)'!$O$35 -> 0 | Q44: ='Plot (4)'!$N$36 -> 0 | R44: ='Plot (4)'!$O$36 -> 0 | S44: ='Plot (4)'!$N$37 -> 0 | T44: ='Plot (4)'!$O$37 -> 0 | U44: ='Plot (4)'!$P$35 -> 0 | V44: ='Plot (4)'!$Q$35 -> 0 | W44: ='Plot (4)'!$P$36 -> 0 | X44: ='Plot (4)'!$Q$36 -> 0 | Y44: ='Plot (4)'!$P$37 -> 0 | Z44: ='Plot (4)'!$Q$37 -> 0 | AA44: ='Plot (4)'!$R$35 -> 0 | AB44: ='Plot (4)'!$S$35 -> 0 | AC44: ='Plot (4)'!$R$36 -> 0 | AD44: ='Plot (4)'!$S$36 -> 0 | AE44: ='Plot (4)'!$R$37 -> 0 | AF44: ='Plot (4)'!$S$37 -> 0 | AH44: 9 | AI44: =+O90 -> N/A | AJ44: =+SUM(O91:O100) -> 0 | AK44: =+SUM(P91:P100) -> 0 | AL44: =+SUM(Q91:Q100) -> 0 | AM44: =+SUM(R91:R100) -> 0 | AN44: =+SUM(S91:S100) -> 0 | AO44: =+SUM(T91:T100) -> 0 | AP44: =SUM(AJ44:AO44) -> 0
A45: 4 | B45: =+'Plot (4)'!A$38 -> 0 | C45: ='Plot (4)'!$J$38 -> 0 | D45: ='Plot (4)'!$K$38 -> 0 | E45: ='Plot (4)'!$J$39 -> 0 | F45: ='Plot (4)'!$K$39 -> 0 | G45: ='Plot (4)'!$J$40 -> 0 | H45: ='Plot (4)'!$K$40 -> 0 | I45: ='Plot (4)'!$L$38 -> 0 | J45: ='Plot (4)'!$M$38 -> 0 | K45: ='Plot (4)'!$L$39 -> 0 | L45: ='Plot (4)'!$M$39 -> 0 | M45: ='Plot (4)'!$L$40 -> 0 | N45: ='Plot (4)'!$M$40 -> 0 | O45: ='Plot (4)'!$N$38 -> 0 | P45: ='Plot (4)'!$O$38 -> 0 | Q45: ='Plot (4)'!$N$39 -> 0 | R45: ='Plot (4)'!$O$39 -> 0 | S45: ='Plot (4)'!$N$40 -> 0 | T45: ='Plot (4)'!$O$40 -> 0 | U45: ='Plot (4)'!$P$38 -> 0 | V45: ='Plot (4)'!$Q$38 -> 0 | W45: ='Plot (4)'!$P$39 -> 0 | X45: ='Plot (4)'!$Q$39 -> 0 | Y45: ='Plot (4)'!$P$40 -> 0 | Z45: ='Plot (4)'!$Q$40 -> 0 | AA45: ='Plot (4)'!$R$38 -> 0 | AB45: ='Plot (4)'!$S$38 -> 0 | AC45: ='Plot (4)'!$R$39 -> 0 | AD45: ='Plot (4)'!$S$39 -> 0 | AE45: ='Plot (4)'!$R$40 -> 0 | AF45: ='Plot (4)'!$S$40 -> 0 | AH45: 9 | AI45: =+U90 -> N/A | AJ45: =+SUM(U91:U100) -> 0 | AK45: =+SUM(V91:V100) -> 0 | AL45: =+SUM(W91:W100) -> 0 | AM45: =+SUM(X91:X100) -> 0 | AN45: =+SUM(Y91:Y100) -> 0 | AO45: =+SUM(Z91:Z100) -> 0 | AP45: =SUM(AJ45:AO45) -> 0
A46: 5 | B46: FOREST HEALTH DAMAGE AGENTS | C46: =IF(CELL("type",('Plot (5)'!$J$8))="b","N/A",'Plot (5)'!$J$8) -> N/A | I46: =IF(CELL("type",('Plot (5)'!$L$8))="b","N/A",'Plot (5)'!$L$8) -> N/A | O46: =IF(CELL("type",('Plot (5)'!$N$8))="b","N/A",'Plot (5)'!$N$8) -> N/A | U46: =IF(CELL("type",('Plot (5)'!$P$8))="b","N/A",'Plot (5)'!$P$8) -> N/A | AA46: =IF(CELL("type",('Plot (5)'!$R$8))="b","N/A",'Plot (5)'!$R$8) -> N/A | AH46: 9 | AI46: =+AA90 -> N/A | AJ46: =+SUM(AA91:AA100) -> 0 | AK46: =+SUM(AB91:AB100) -> 0 | AL46: =+SUM(AC91:AC100) -> 0 | AM46: =+SUM(AD91:AD100) -> 0 | AN46: =+SUM(AE91:AE100) -> 0 | AO46: =+SUM(AF91:AF100) -> 0 | AP46: =SUM(AJ46:AO46) -> 0
A47: 5 | B47: =+'Plot (5)'!A$11 -> 0 | C47: ='Plot (5)'!$J$11 -> 0 | D47: ='Plot (5)'!$K$11 -> 0 | E47: ='Plot (5)'!$J$12 -> 0 | F47: ='Plot (5)'!$K$12 -> 0 | G47: ='Plot (5)'!$J$13 -> 0 | H47: ='Plot (5)'!$K$13 -> 0 | I47: ='Plot (5)'!$L$11 -> 0 | J47: ='Plot (5)'!$M$11 -> 0 | K47: ='Plot (5)'!$L$12 -> 0 | L47: ='Plot (5)'!$M$12 -> 0 | M47: ='Plot (5)'!$L$13 -> 0 | N47: ='Plot (5)'!$M$13 -> 0 | O47: ='Plot (5)'!$N$11 -> 0 | P47: ='Plot (5)'!$O$11 -> 0 | Q47: ='Plot (5)'!$N$12 -> 0 | R47: ='Plot (5)'!$O$12 -> 0 | S47: ='Plot (5)'!$N$13 -> 0 | T47: ='Plot (5)'!$O$13 -> 0 | U47: ='Plot (5)'!$P$11 -> 0 | V47: ='Plot (5)'!$Q$11 -> 0 | W47: ='Plot (5)'!$P$12 -> 0 | X47: ='Plot (5)'!$Q$12 -> 0 | Y47: ='Plot (5)'!$P$13 -> 0 | Z47: ='Plot (5)'!$Q$13 -> 0 | AA47: ='Plot (5)'!$R$11 -> 0 | AB47: ='Plot (5)'!$S$11 -> 0 | AC47: ='Plot (5)'!$R$12 -> 0 | AD47: ='Plot (5)'!$S$12 -> 0 | AE47: ='Plot (5)'!$R$13 -> 0 | AF47: ='Plot (5)'!$S$13 -> 0 | AH47: 10 | AI47: =+C101 -> N/A | AJ47: =+SUM(C102:C111) -> 0 | AK47: =+SUM(D102:D111) -> 0 | AL47: =+SUM(E102:E111) -> 0 | AM47: =+SUM(F102:F111) -> 0 | AN47: =+SUM(G102:G111) -> 0 | AO47: =+SUM(H102:H111) -> 0 | AP47: =SUM(AJ47:AO47) -> 0
A48: 5 | B48: =+'Plot (5)'!A$14 -> 0 | C48: ='Plot (5)'!$J$14 -> 0 | D48: ='Plot (5)'!$K$14 -> 0 | E48: ='Plot (5)'!$J$15 -> 0 | F48: ='Plot (5)'!$K$15 -> 0 | G48: ='Plot (5)'!$J$16 -> 0 | H48: ='Plot (5)'!$K$16 -> 0 | I48: ='Plot (5)'!$L$14 -> 0 | J48: ='Plot (5)'!$M$14 -> 0 | K48: ='Plot (5)'!$L$15 -> 0 | L48: ='Plot (5)'!$M$15 -> 0 | M48: ='Plot (5)'!$L$16 -> 0 | N48: ='Plot (5)'!$M$16 -> 0 | O48: ='Plot (5)'!$N$14 -> 0 | P48: ='Plot (5)'!$O$14 -> 0 | Q48: ='Plot (5)'!$N$15 -> 0 | R48: ='Plot (5)'!$O$15 -> 0 | S48: ='Plot (5)'!$N$16 -> 0 | T48: ='Plot (5)'!$O$16 -> 0 | U48: ='Plot (5)'!$P$14 -> 0 | V48: ='Plot (5)'!$Q$14 -> 0 | W48: ='Plot (5)'!$P$15 -> 0 | X48: ='Plot (5)'!$Q$15 -> 0 | Y48: ='Plot (5)'!$P$16 -> 0 | Z48: ='Plot (5)'!$Q$16 -> 0 | AA48: ='Plot (5)'!$R$14 -> 0 | AB48: ='Plot (5)'!$S$14 -> 0 | AC48: ='Plot (5)'!$R$15 -> 0 | AD48: ='Plot (5)'!$S$15 -> 0 | AE48: ='Plot (5)'!$R$16 -> 0 | AF48: ='Plot (5)'!$S$16 -> 0 | AH48: 10 | AI48: =+I101 -> N/A | AJ48: =+SUM(I102:I111) -> 0 | AK48: =+SUM(J102:J111) -> 0 | AL48: =+SUM(K102:K111) -> 0 | AM48: =+SUM(L102:L111) -> 0 | AN48: =+SUM(M102:M111) -> 0 | AO48: =+SUM(N102:N111) -> 0 | AP48: =SUM(AJ48:AO48) -> 0
A49: 5 | B49: =+'Plot (5)'!A$17 -> 0 | C49: ='Plot (5)'!$J$17 -> 0 | D49: ='Plot (5)'!$K$17 -> 0 | E49: ='Plot (5)'!$J$18 -> 0 | F49: ='Plot (5)'!$K$18 -> 0 | G49: ='Plot (5)'!$J$19 -> 0 | H49: ='Plot (5)'!$K$19 -> 0 | I49: ='Plot (5)'!$L$17 -> 0 | J49: ='Plot (5)'!$M$17 -> 0 | K49: ='Plot (5)'!$L$18 -> 0 | L49: ='Plot (5)'!$M$18 -> 0 | M49: ='Plot (5)'!$L$19 -> 0 | N49: ='Plot (5)'!$M$19 -> 0 | O49: ='Plot (5)'!$N$17 -> 0 | P49: ='Plot (5)'!$O$17 -> 0 | Q49: ='Plot (5)'!$N$18 -> 0 | R49: ='Plot (5)'!$O$18 -> 0 | S49: ='Plot (5)'!$N$19 -> 0 | T49: ='Plot (5)'!$O$19 -> 0 | U49: ='Plot (5)'!$P$17 -> 0 | V49: ='Plot (5)'!$Q$17 -> 0 | W49: ='Plot (5)'!$P$18 -> 0 | X49: ='Plot (5)'!$Q$18 -> 0 | Y49: ='Plot (5)'!$P$19 -> 0 | Z49: ='Plot (5)'!$Q$19 -> 0 | AA49: ='Plot (5)'!$R$17 -> 0 | AB49: ='Plot (5)'!$S$17 -> 0 | AC49: ='Plot (5)'!$R$18 -> 0 | AD49: ='Plot (5)'!$S$18 -> 0 | AE49: ='Plot (5)'!$R$19 -> 0 | AF49: ='Plot (5)'!$S$19 -> 0 | AH49: 10 | AI49: =+O101 -> N/A | AJ49: =+SUM(O102:O111) -> 0 | AK49: =+SUM(P102:P111) -> 0 | AL49: =+SUM(Q102:Q111) -> 0 | AM49: =+SUM(R102:R111) -> 0 | AN49: =+SUM(S102:S111) -> 0 | AO49: =+SUM(T102:T111) -> 0 | AP49: =SUM(AJ49:AO49) -> 0
A50: 5 | B50: =+'Plot (5)'!A$20 -> 0 | C50: ='Plot (5)'!$J$20 -> 0 | D50: ='Plot (5)'!$K$20 -> 0 | E50: ='Plot (5)'!$J$21 -> 0 | F50: ='Plot (5)'!$K$21 -> 0 | G50: ='Plot (5)'!$J$22 -> 0 | H50: ='Plot (5)'!$K$22 -> 0 | I50: ='Plot (5)'!$L$20 -> 0 | J50: ='Plot (5)'!$M$20 -> 0 | K50: ='Plot (5)'!$L$21 -> 0 | L50: ='Plot (5)'!$M$21 -> 0 | M50: ='Plot (5)'!$L$22 -> 0 | N50: ='Plot (5)'!$M$22 -> 0 | O50: ='Plot (5)'!$N$20 -> 0 | P50: ='Plot (5)'!$O$20 -> 0 | Q50: ='Plot (5)'!$N$21 -> 0 | R50: ='Plot (5)'!$O$21 -> 0 | S50: ='Plot (5)'!$N$22 -> 0 | T50: ='Plot (5)'!$O$22 -> 0 | U50: ='Plot (5)'!$P$20 -> 0 | V50: ='Plot (5)'!$Q$20 -> 0 | W50: ='Plot (5)'!$P$21 -> 0 | X50: ='Plot (5)'!$Q$21 -> 0 | Y50: ='Plot (5)'!$P$22 -> 0 | Z50: ='Plot (5)'!$Q$22 -> 0 | AA50: ='Plot (5)'!$R$20 -> 0 | AB50: ='Plot (5)'!$S$20 -> 0 | AC50: ='Plot (5)'!$R$21 -> 0 | AD50: ='Plot (5)'!$S$21 -> 0 | AE50: ='Plot (5)'!$R$22 -> 0 | AF50: ='Plot (5)'!$S$22 -> 0 | AH50: 10 | AI50: =+U101 -> N/A | AJ50: =+SUM(U102:U111) -> 0 | AK50: =+SUM(V102:V111) -> 0 | AL50: =+SUM(W102:W111) -> 0 | AM50: =+SUM(X102:X111) -> 0 | AN50: =+SUM(Y102:Y111) -> 0 | AO50: =+SUM(Z102:Z111) -> 0 | AP50: =SUM(AJ50:AO50) -> 0
A51: 5 | B51: =+'Plot (5)'!A$23 -> 0 | C51: ='Plot (5)'!$J$23 -> 0 | D51: ='Plot (5)'!$K$23 -> 0 | E51: ='Plot (5)'!$J$24 -> 0 | F51: ='Plot (5)'!$K$24 -> 0 | G51: ='Plot (5)'!$J$25 -> 0 | H51: ='Plot (5)'!$K$25 -> 0 | I51: ='Plot (5)'!$L$23 -> 0 | J51: ='Plot (5)'!$M$23 -> 0 | K51: ='Plot (5)'!$L$24 -> 0 | L51: ='Plot (5)'!$M$24 -> 0 | M51: ='Plot (5)'!$L$25 -> 0 | N51: ='Plot (5)'!$M$25 -> 0 | O51: ='Plot (5)'!$N$23 -> 0 | P51: ='Plot (5)'!$O$23 -> 0 | Q51: ='Plot (5)'!$N$24 -> 0 | R51: ='Plot (5)'!$O$24 -> 0 | S51: ='Plot (5)'!$N$25 -> 0 | T51: ='Plot (5)'!$O$25 -> 0 | U51: ='Plot (5)'!$P$23 -> 0 | V51: ='Plot (5)'!$Q$23 -> 0 | W51: ='Plot (5)'!$P$24 -> 0 | X51: ='Plot (5)'!$Q$24 -> 0 | Y51: ='Plot (5)'!$P$25 -> 0 | Z51: ='Plot (5)'!$Q$25 -> 0 | AA51: ='Plot (5)'!$R$23 -> 0 | AB51: ='Plot (5)'!$S$23 -> 0 | AC51: ='Plot (5)'!$R$24 -> 0 | AD51: ='Plot (5)'!$S$24 -> 0 | AE51: ='Plot (5)'!$R$25 -> 0 | AF51: ='Plot (5)'!$S$25 -> 0 | AH51: 10 | AI51: =+AA101 -> N/A | AJ51: =+SUM(AA102:AA111) -> 0 | AK51: =+SUM(AB102:AB111) -> 0 | AL51: =+SUM(AC102:AC111) -> 0 | AM51: =+SUM(AD102:AD111) -> 0 | AN51: =+SUM(AE102:AE111) -> 0 | AO51: =+SUM(AF102:AF111) -> 0 | AP51: =SUM(AJ51:AO51) -> 0
A52: 5 | B52: =+'Plot (5)'!A$26 -> 0 | C52: ='Plot (5)'!$J$26 -> 0 | D52: ='Plot (5)'!$K$26 -> 0 | E52: ='Plot (5)'!$J$27 -> 0 | F52: ='Plot (5)'!$K$27 -> 0 | G52: ='Plot (5)'!$J$28 -> 0 | H52: ='Plot (5)'!$K$28 -> 0 | I52: ='Plot (5)'!$L$26 -> 0 | J52: ='Plot (5)'!$M$26 -> 0 | K52: ='Plot (5)'!$L$27 -> 0 | L52: ='Plot (5)'!$M$27 -> 0 | M52: ='Plot (5)'!$L$28 -> 0 | N52: ='Plot (5)'!$M$28 -> 0 | O52: ='Plot (5)'!$N$26 -> 0 | P52: ='Plot (5)'!$O$26 -> 0 | Q52: ='Plot (5)'!$N$27 -> 0 | R52: ='Plot (5)'!$O$27 -> 0 | S52: ='Plot (5)'!$N$28 -> 0 | T52: ='Plot (5)'!$O$28 -> 0 | U52: ='Plot (5)'!$P$26 -> 0 | V52: ='Plot (5)'!$Q$26 -> 0 | W52: ='Plot (5)'!$P$27 -> 0 | X52: ='Plot (5)'!$Q$27 -> 0 | Y52: ='Plot (5)'!$P$28 -> 0 | Z52: ='Plot (5)'!$Q$28 -> 0 | AA52: ='Plot (5)'!$R$26 -> 0 | AB52: ='Plot (5)'!$S$26 -> 0 | AC52: ='Plot (5)'!$R$27 -> 0 | AD52: ='Plot (5)'!$S$27 -> 0 | AE52: ='Plot (5)'!$R$28 -> 0 | AF52: ='Plot (5)'!$S$28 -> 0
A53: 5 | B53: =+'Plot (5)'!A$29 -> 0 | C53: ='Plot (5)'!$J$29 -> 0 | D53: ='Plot (5)'!$K$29 -> 0 | E53: ='Plot (5)'!$J$30 -> 0 | F53: ='Plot (5)'!$K$30 -> 0 | G53: ='Plot (5)'!$J$31 -> 0 | H53: ='Plot (5)'!$K$31 -> 0 | I53: ='Plot (5)'!$L$29 -> 0 | J53: ='Plot (5)'!$M$29 -> 0 | K53: ='Plot (5)'!$L$30 -> 0 | L53: ='Plot (5)'!$M$30 -> 0 | M53: ='Plot (5)'!$L$31 -> 0 | N53: ='Plot (5)'!$M$31 -> 0 | O53: ='Plot (5)'!$N$29 -> 0 | P53: ='Plot (5)'!$O$29 -> 0 | Q53: ='Plot (5)'!$N$30 -> 0 | R53: ='Plot (5)'!$O$30 -> 0 | S53: ='Plot (5)'!$N$31 -> 0 | T53: ='Plot (5)'!$O$31 -> 0 | U53: ='Plot (5)'!$P$29 -> 0 | V53: ='Plot (5)'!$Q$29 -> 0 | W53: ='Plot (5)'!$P$30 -> 0 | X53: ='Plot (5)'!$Q$30 -> 0 | Y53: ='Plot (5)'!$P$31 -> 0 | Z53: ='Plot (5)'!$Q$31 -> 0 | AA53: ='Plot (5)'!$R$29 -> 0 | AB53: ='Plot (5)'!$S$29 -> 0 | AC53: ='Plot (5)'!$R$30 -> 0 | AD53: ='Plot (5)'!$S$30 -> 0 | AE53: ='Plot (5)'!$R$31 -> 0 | AF53: ='Plot (5)'!$S$31 -> 0
A54: 5 | B54: =+'Plot (5)'!A$32 -> 0 | C54: ='Plot (5)'!$J$32 -> 0 | D54: ='Plot (5)'!$K$32 -> 0 | E54: ='Plot (5)'!$J$33 -> 0 | F54: ='Plot (5)'!$K$33 -> 0 | G54: ='Plot (5)'!$J$34 -> 0 | H54: ='Plot (5)'!$K$34 -> 0 | I54: ='Plot (5)'!$L$32 -> 0 | J54: ='Plot (5)'!$M$32 -> 0 | K54: ='Plot (5)'!$L$33 -> 0 | L54: ='Plot (5)'!$M$33 -> 0 | M54: ='Plot (5)'!$L$34 -> 0 | N54: ='Plot (5)'!$M$34 -> 0 | O54: ='Plot (5)'!$N$32 -> 0 | P54: ='Plot (5)'!$O$32 -> 0 | Q54: ='Plot (5)'!$N$33 -> 0 | R54: ='Plot (5)'!$O$33 -> 0 | S54: ='Plot (5)'!$N$34 -> 0 | T54: ='Plot (5)'!$O$34 -> 0 | U54: ='Plot (5)'!$P$32 -> 0 | V54: ='Plot (5)'!$Q$32 -> 0 | W54: ='Plot (5)'!$P$33 -> 0 | X54: ='Plot (5)'!$Q$33 -> 0 | Y54: ='Plot (5)'!$P$34 -> 0 | Z54: ='Plot (5)'!$Q$34 -> 0 | AA54: ='Plot (5)'!$R$32 -> 0 | AB54: ='Plot (5)'!$S$32 -> 0 | AC54: ='Plot (5)'!$R$33 -> 0 | AD54: ='Plot (5)'!$S$33 -> 0 | AE54: ='Plot (5)'!$R$34 -> 0 | AF54: ='Plot (5)'!$S$34 -> 0
A55: 5 | B55: =+'Plot (5)'!A$35 -> 0 | C55: ='Plot (5)'!$J$35 -> 0 | D55: ='Plot (5)'!$K$35 -> 0 | E55: ='Plot (5)'!$J$36 -> 0 | F55: ='Plot (5)'!$K$36 -> 0 | G55: ='Plot (5)'!$J$37 -> 0 | H55: ='Plot (5)'!$K$37 -> 0 | I55: ='Plot (5)'!$L$35 -> 0 | J55: ='Plot (5)'!$M$35 -> 0 | K55: ='Plot (5)'!$L$36 -> 0 | L55: ='Plot (5)'!$M$36 -> 0 | M55: ='Plot (5)'!$L$37 -> 0 | N55: ='Plot (5)'!$M$37 -> 0 | O55: ='Plot (5)'!$N$35 -> 0 | P55: ='Plot (5)'!$O$35 -> 0 | Q55: ='Plot (5)'!$N$36 -> 0 | R55: ='Plot (5)'!$O$36 -> 0 | S55: ='Plot (5)'!$N$37 -> 0 | T55: ='Plot (5)'!$O$37 -> 0 | U55: ='Plot (5)'!$P$35 -> 0 | V55: ='Plot (5)'!$Q$35 -> 0 | W55: ='Plot (5)'!$P$36 -> 0 | X55: ='Plot (5)'!$Q$36 -> 0 | Y55: ='Plot (5)'!$P$37 -> 0 | Z55: ='Plot (5)'!$Q$37 -> 0 | AA55: ='Plot (5)'!$R$35 -> 0 | AB55: ='Plot (5)'!$S$35 -> 0 | AC55: ='Plot (5)'!$R$36 -> 0 | AD55: ='Plot (5)'!$S$36 -> 0 | AE55: ='Plot (5)'!$R$37 -> 0 | AF55: ='Plot (5)'!$S$37 -> 0
A56: 5 | B56: =+'Plot (5)'!A$38 -> 0 | C56: ='Plot (5)'!$J$38 -> 0 | D56: ='Plot (5)'!$K$38 -> 0 | E56: ='Plot (5)'!$J$39 -> 0 | F56: ='Plot (5)'!$K$39 -> 0 | G56: ='Plot (5)'!$J$40 -> 0 | H56: ='Plot (5)'!$K$40 -> 0 | I56: ='Plot (5)'!$L$38 -> 0 | J56: ='Plot (5)'!$M$38 -> 0 | K56: ='Plot (5)'!$L$39 -> 0 | L56: ='Plot (5)'!$M$39 -> 0 | M56: ='Plot (5)'!$L$40 -> 0 | N56: ='Plot (5)'!$M$40 -> 0 | O56: ='Plot (5)'!$N$38 -> 0 | P56: ='Plot (5)'!$O$38 -> 0 | Q56: ='Plot (5)'!$N$39 -> 0 | R56: ='Plot (5)'!$O$39 -> 0 | S56: ='Plot (5)'!$N$40 -> 0 | T56: ='Plot (5)'!$O$40 -> 0 | U56: ='Plot (5)'!$P$38 -> 0 | V56: ='Plot (5)'!$Q$38 -> 0 | W56: ='Plot (5)'!$P$39 -> 0 | X56: ='Plot (5)'!$Q$39 -> 0 | Y56: ='Plot (5)'!$P$40 -> 0 | Z56: ='Plot (5)'!$Q$40 -> 0 | AA56: ='Plot (5)'!$R$38 -> 0 | AB56: ='Plot (5)'!$S$38 -> 0 | AC56: ='Plot (5)'!$R$39 -> 0 | AD56: ='Plot (5)'!$S$39 -> 0 | AE56: ='Plot (5)'!$R$40 -> 0 | AF56: ='Plot (5)'!$S$40 -> 0
A57: 6 | B57: FOREST HEALTH DAMAGE AGENTS | C57: =IF(CELL("type",('Plot (6)'!$J$8))="b","N/A",'Plot (6)'!$J$8) -> N/A | I57: =IF(CELL("type",('Plot (6)'!$L$8))="b","N/A",'Plot (6)'!$L$8) -> N/A | O57: =IF(CELL("type",('Plot (6)'!$N$8))="b","N/A",'Plot (6)'!$N$8) -> N/A | U57: =IF(CELL("type",('Plot (6)'!$P$8))="b","N/A",'Plot (6)'!$P$8) -> N/A | AA57: =IF(CELL("type",('Plot (6)'!$R$8))="b","N/A",'Plot (6)'!$R$8) -> N/A
A58: 6 | B58: =+'Plot (6)'!A$11 -> 0 | C58: ='Plot (6)'!$J$11 -> 0 | D58: ='Plot (6)'!$K$11 -> 0 | E58: ='Plot (6)'!$J$12 -> 0 | F58: ='Plot (6)'!$K$12 -> 0 | G58: ='Plot (6)'!$J$13 -> 0 | H58: ='Plot (6)'!$K$13 -> 0 | I58: ='Plot (6)'!$L$11 -> 0 | J58: ='Plot (6)'!$M$11 -> 0 | K58: ='Plot (6)'!$L$12 -> 0 | L58: ='Plot (6)'!$M$12 -> 0 | M58: ='Plot (6)'!$L$13 -> 0 | N58: ='Plot (6)'!$M$13 -> 0 | O58: ='Plot (6)'!$N$11 -> 0 | P58: ='Plot (6)'!$O$11 -> 0 | Q58: ='Plot (6)'!$N$12 -> 0 | R58: ='Plot (6)'!$O$12 -> 0 | S58: ='Plot (6)'!$N$13 -> 0 | T58: ='Plot (6)'!$O$13 -> 0 | U58: ='Plot (6)'!$P$11 -> 0 | V58: ='Plot (6)'!$Q$11 -> 0 | W58: ='Plot (6)'!$P$12 -> 0 | X58: ='Plot (6)'!$Q$12 -> 0 | Y58: ='Plot (6)'!$P$13 -> 0 | Z58: ='Plot (6)'!$Q$13 -> 0 | AA58: ='Plot (6)'!$R$11 -> 0 | AB58: ='Plot (6)'!$S$11 -> 0 | AC58: ='Plot (6)'!$R$12 -> 0 | AD58: ='Plot (6)'!$S$12 -> 0 | AE58: ='Plot (6)'!$R$13 -> 0 | AF58: ='Plot (6)'!$S$13 -> 0
A59: 6 | B59: =+'Plot (6)'!A$14 -> 0 | C59: ='Plot (6)'!$J$14 -> 0 | D59: ='Plot (6)'!$K$14 -> 0 | E59: ='Plot (6)'!$J$15 -> 0 | F59: ='Plot (6)'!$K$15 -> 0 | G59: ='Plot (6)'!$J$16 -> 0 | H59: ='Plot (6)'!$K$16 -> 0 | I59: ='Plot (6)'!$L$14 -> 0 | J59: ='Plot (6)'!$M$14 -> 0 | K59: ='Plot (6)'!$L$15 -> 0 | L59: ='Plot (6)'!$M$15 -> 0 | M59: ='Plot (6)'!$L$16 -> 0 | N59: ='Plot (6)'!$M$16 -> 0 | O59: ='Plot (6)'!$N$14 -> 0 | P59: ='Plot (6)'!$O$14 -> 0 | Q59: ='Plot (6)'!$N$15 -> 0 | R59: ='Plot (6)'!$O$15 -> 0 | S59: ='Plot (6)'!$N$16 -> 0 | T59: ='Plot (6)'!$O$16 -> 0 | U59: ='Plot (6)'!$P$14 -> 0 | V59: ='Plot (6)'!$Q$14 -> 0 | W59: ='Plot (6)'!$P$15 -> 0 | X59: ='Plot (6)'!$Q$15 -> 0 | Y59: ='Plot (6)'!$P$16 -> 0 | Z59: ='Plot (6)'!$Q$16 -> 0 | AA59: ='Plot (6)'!$R$14 -> 0 | AB59: ='Plot (6)'!$S$14 -> 0 | AC59: ='Plot (6)'!$R$15 -> 0 | AD59: ='Plot (6)'!$S$15 -> 0 | AE59: ='Plot (6)'!$R$16 -> 0 | AF59: ='Plot (6)'!$S$16 -> 0
A60: 6 | B60: =+'Plot (6)'!A$17 -> 0 | C60: ='Plot (6)'!$J$17 -> 0 | D60: ='Plot (6)'!$K$17 -> 0 | E60: ='Plot (6)'!$J$18 -> 0 | F60: ='Plot (6)'!$K$18 -> 0 | G60: ='Plot (6)'!$J$19 -> 0 | H60: ='Plot (6)'!$K$19 -> 0 | I60: ='Plot (6)'!$L$17 -> 0 | J60: ='Plot (6)'!$M$17 -> 0 | K60: ='Plot (6)'!$L$18 -> 0 | L60: ='Plot (6)'!$M$18 -> 0 | M60: ='Plot (6)'!$L$19 -> 0 | N60: ='Plot (6)'!$M$19 -> 0 | O60: ='Plot (6)'!$N$17 -> 0 | P60: ='Plot (6)'!$O$17 -> 0 | Q60: ='Plot (6)'!$N$18 -> 0 | R60: ='Plot (6)'!$O$18 -> 0 | S60: ='Plot (6)'!$N$19 -> 0 | T60: ='Plot (6)'!$O$19 -> 0 | U60: ='Plot (6)'!$P$17 -> 0 | V60: ='Plot (6)'!$Q$17 -> 0 | W60: ='Plot (6)'!$P$18 -> 0 | X60: ='Plot (6)'!$Q$18 -> 0 | Y60: ='Plot (6)'!$P$19 -> 0 | Z60: ='Plot (6)'!$Q$19 -> 0 | AA60: ='Plot (6)'!$R$17 -> 0 | AB60: ='Plot (6)'!$S$17 -> 0 | AC60: ='Plot (6)'!$R$18 -> 0 | AD60: ='Plot (6)'!$S$18 -> 0 | AE60: ='Plot (6)'!$R$19 -> 0 | AF60: ='Plot (6)'!$S$19 -> 0
A61: 6 | B61: =+'Plot (6)'!A$20 -> 0 | C61: ='Plot (6)'!$J$20 -> 0 | D61: ='Plot (6)'!$K$20 -> 0 | E61: ='Plot (6)'!$J$21 -> 0 | F61: ='Plot (6)'!$K$21 -> 0 | G61: ='Plot (6)'!$J$22 -> 0 | H61: ='Plot (6)'!$K$22 -> 0 | I61: ='Plot (6)'!$L$20 -> 0 | J61: ='Plot (6)'!$M$20 -> 0 | K61: ='Plot (6)'!$L$21 -> 0 | L61: ='Plot (6)'!$M$21 -> 0 | M61: ='Plot (6)'!$L$22 -> 0 | N61: ='Plot (6)'!$M$22 -> 0 | O61: ='Plot (6)'!$N$20 -> 0 | P61: ='Plot (6)'!$O$20 -> 0 | Q61: ='Plot (6)'!$N$21 -> 0 | R61: ='Plot (6)'!$O$21 -> 0 | S61: ='Plot (6)'!$N$22 -> 0 | T61: ='Plot (6)'!$O$22 -> 0 | U61: ='Plot (6)'!$P$20 -> 0 | V61: ='Plot (6)'!$Q$20 -> 0 | W61: ='Plot (6)'!$P$21 -> 0 | X61: ='Plot (6)'!$Q$21 -> 0 | Y61: ='Plot (6)'!$P$22 -> 0 | Z61: ='Plot (6)'!$Q$22 -> 0 | AA61: ='Plot (6)'!$R$20 -> 0 | AB61: ='Plot (6)'!$S$20 -> 0 | AC61: ='Plot (6)'!$R$21 -> 0 | AD61: ='Plot (6)'!$S$21 -> 0 | AE61: ='Plot (6)'!$R$22 -> 0 | AF61: ='Plot (6)'!$S$22 -> 0
A62: 6 | B62: =+'Plot (6)'!A$23 -> 0 | C62: ='Plot (6)'!$J$23 -> 0 | D62: ='Plot (6)'!$K$23 -> 0 | E62: ='Plot (6)'!$J$24 -> 0 | F62: ='Plot (6)'!$K$24 -> 0 | G62: ='Plot (6)'!$J$25 -> 0 | H62: ='Plot (6)'!$K$25 -> 0 | I62: ='Plot (6)'!$L$23 -> 0 | J62: ='Plot (6)'!$M$23 -> 0 | K62: ='Plot (6)'!$L$24 -> 0 | L62: ='Plot (6)'!$M$24 -> 0 | M62: ='Plot (6)'!$L$25 -> 0 | N62: ='Plot (6)'!$M$25 -> 0 | O62: ='Plot (6)'!$N$23 -> 0 | P62: ='Plot (6)'!$O$23 -> 0 | Q62: ='Plot (6)'!$N$24 -> 0 | R62: ='Plot (6)'!$O$24 -> 0 | S62: ='Plot (6)'!$N$25 -> 0 | T62: ='Plot (6)'!$O$25 -> 0 | U62: ='Plot (6)'!$P$23 -> 0 | V62: ='Plot (6)'!$Q$23 -> 0 | W62: ='Plot (6)'!$P$24 -> 0 | X62: ='Plot (6)'!$Q$24 -> 0 | Y62: ='Plot (6)'!$P$25 -> 0 | Z62: ='Plot (6)'!$Q$25 -> 0 | AA62: ='Plot (6)'!$R$23 -> 0 | AB62: ='Plot (6)'!$S$23 -> 0 | AC62: ='Plot (6)'!$R$24 -> 0 | AD62: ='Plot (6)'!$S$24 -> 0 | AE62: ='Plot (6)'!$R$25 -> 0 | AF62: ='Plot (6)'!$S$25 -> 0
A63: 6 | B63: =+'Plot (6)'!A$26 -> 0 | C63: ='Plot (6)'!$J$26 -> 0 | D63: ='Plot (6)'!$K$26 -> 0 | E63: ='Plot (6)'!$J$27 -> 0 | F63: ='Plot (6)'!$K$27 -> 0 | G63: ='Plot (6)'!$J$28 -> 0 | H63: ='Plot (6)'!$K$28 -> 0 | I63: ='Plot (6)'!$L$26 -> 0 | J63: ='Plot (6)'!$M$26 -> 0 | K63: ='Plot (6)'!$L$27 -> 0 | L63: ='Plot (6)'!$M$27 -> 0 | M63: ='Plot (6)'!$L$28 -> 0 | N63: ='Plot (6)'!$M$28 -> 0 | O63: ='Plot (6)'!$N$26 -> 0 | P63: ='Plot (6)'!$O$26 -> 0 | Q63: ='Plot (6)'!$N$27 -> 0 | R63: ='Plot (6)'!$O$27 -> 0 | S63: ='Plot (6)'!$N$28 -> 0 | T63: ='Plot (6)'!$O$28 -> 0 | U63: ='Plot (6)'!$P$26 -> 0 | V63: ='Plot (6)'!$Q$26 -> 0 | W63: ='Plot (6)'!$P$27 -> 0 | X63: ='Plot (6)'!$Q$27 -> 0 | Y63: ='Plot (6)'!$P$28 -> 0 | Z63: ='Plot (6)'!$Q$28 -> 0 | AA63: ='Plot (6)'!$R$26 -> 0 | AB63: ='Plot (6)'!$S$26 -> 0 | AC63: ='Plot (6)'!$R$27 -> 0 | AD63: ='Plot (6)'!$S$27 -> 0 | AE63: ='Plot (6)'!$R$28 -> 0 | AF63: ='Plot (6)'!$S$28 -> 0
A64: 6 | B64: =+'Plot (6)'!A$29 -> 0 | C64: ='Plot (6)'!$J$29 -> 0 | D64: ='Plot (6)'!$K$29 -> 0 | E64: ='Plot (6)'!$J$30 -> 0 | F64: ='Plot (6)'!$K$30 -> 0 | G64: ='Plot (6)'!$J$31 -> 0 | H64: ='Plot (6)'!$K$31 -> 0 | I64: ='Plot (6)'!$L$29 -> 0 | J64: ='Plot (6)'!$M$29 -> 0 | K64: ='Plot (6)'!$L$30 -> 0 | L64: ='Plot (6)'!$M$30 -> 0 | M64: ='Plot (6)'!$L$31 -> 0 | N64: ='Plot (6)'!$M$31 -> 0 | O64: ='Plot (6)'!$N$29 -> 0 | P64: ='Plot (6)'!$O$29 -> 0 | Q64: ='Plot (6)'!$N$30 -> 0 | R64: ='Plot (6)'!$O$30 -> 0 | S64: ='Plot (6)'!$N$31 -> 0 | T64: ='Plot (6)'!$O$31 -> 0 | U64: ='Plot (6)'!$P$29 -> 0 | V64: ='Plot (6)'!$Q$29 -> 0 | W64: ='Plot (6)'!$P$30 -> 0 | X64: ='Plot (6)'!$Q$30 -> 0 | Y64: ='Plot (6)'!$P$31 -> 0 | Z64: ='Plot (6)'!$Q$31 -> 0 | AA64: ='Plot (6)'!$R$29 -> 0 | AB64: ='Plot (6)'!$S$29 -> 0 | AC64: ='Plot (6)'!$R$30 -> 0 | AD64: ='Plot (6)'!$S$30 -> 0 | AE64: ='Plot (6)'!$R$31 -> 0 | AF64: ='Plot (6)'!$S$31 -> 0
A65: 6 | B65: =+'Plot (6)'!A$32 -> 0 | C65: ='Plot (6)'!$J$32 -> 0 | D65: ='Plot (6)'!$K$32 -> 0 | E65: ='Plot (6)'!$J$33 -> 0 | F65: ='Plot (6)'!$K$33 -> 0 | G65: ='Plot (6)'!$J$34 -> 0 | H65: ='Plot (6)'!$K$34 -> 0 | I65: ='Plot (6)'!$L$32 -> 0 | J65: ='Plot (6)'!$M$32 -> 0 | K65: ='Plot (6)'!$L$33 -> 0 | L65: ='Plot (6)'!$M$33 -> 0 | M65: ='Plot (6)'!$L$34 -> 0 | N65: ='Plot (6)'!$M$34 -> 0 | O65: ='Plot (6)'!$N$32 -> 0 | P65: ='Plot (6)'!$O$32 -> 0 | Q65: ='Plot (6)'!$N$33 -> 0 | R65: ='Plot (6)'!$O$33 -> 0 | S65: ='Plot (6)'!$N$34 -> 0 | T65: ='Plot (6)'!$O$34 -> 0 | U65: ='Plot (6)'!$P$32 -> 0 | V65: ='Plot (6)'!$Q$32 -> 0 | W65: ='Plot (6)'!$P$33 -> 0 | X65: ='Plot (6)'!$Q$33 -> 0 | Y65: ='Plot (6)'!$P$34 -> 0 | Z65: ='Plot (6)'!$Q$34 -> 0 | AA65: ='Plot (6)'!$R$32 -> 0 | AB65: ='Plot (6)'!$S$32 -> 0 | AC65: ='Plot (6)'!$R$33 -> 0 | AD65: ='Plot (6)'!$S$33 -> 0 | AE65: ='Plot (6)'!$R$34 -> 0 | AF65: ='Plot (6)'!$S$34 -> 0
A66: 6 | B66: =+'Plot (6)'!A$35 -> 0 | C66: ='Plot (6)'!$J$35 -> 0 | D66: ='Plot (6)'!$K$35 -> 0 | E66: ='Plot (6)'!$J$36 -> 0 | F66: ='Plot (6)'!$K$36 -> 0 | G66: ='Plot (6)'!$J$37 -> 0 | H66: ='Plot (6)'!$K$37 -> 0 | I66: ='Plot (6)'!$L$35 -> 0 | J66: ='Plot (6)'!$M$35 -> 0 | K66: ='Plot (6)'!$L$36 -> 0 | L66: ='Plot (6)'!$M$36 -> 0 | M66: ='Plot (6)'!$L$37 -> 0 | N66: ='Plot (6)'!$M$37 -> 0 | O66: ='Plot (6)'!$N$35 -> 0 | P66: ='Plot (6)'!$O$35 -> 0 | Q66: ='Plot (6)'!$N$36 -> 0 | R66: ='Plot (6)'!$O$36 -> 0 | S66: ='Plot (6)'!$N$37 -> 0 | T66: ='Plot (6)'!$O$37 -> 0 | U66: ='Plot (6)'!$P$35 -> 0 | V66: ='Plot (6)'!$Q$35 -> 0 | W66: ='Plot (6)'!$P$36 -> 0 | X66: ='Plot (6)'!$Q$36 -> 0 | Y66: ='Plot (6)'!$P$37 -> 0 | Z66: ='Plot (6)'!$Q$37 -> 0 | AA66: ='Plot (6)'!$R$35 -> 0 | AB66: ='Plot (6)'!$S$35 -> 0 | AC66: ='Plot (6)'!$R$36 -> 0 | AD66: ='Plot (6)'!$S$36 -> 0 | AE66: ='Plot (6)'!$R$37 -> 0 | AF66: ='Plot (6)'!$S$37 -> 0
A67: 6 | B67: =+'Plot (6)'!A$38 -> 0 | C67: ='Plot (6)'!$J$38 -> 0 | D67: ='Plot (6)'!$K$38 -> 0 | E67: ='Plot (6)'!$J$39 -> 0 | F67: ='Plot (6)'!$K$39 -> 0 | G67: ='Plot (6)'!$J$40 -> 0 | H67: ='Plot (6)'!$K$40 -> 0 | I67: ='Plot (6)'!$L$38 -> 0 | J67: ='Plot (6)'!$M$38 -> 0 | K67: ='Plot (6)'!$L$39 -> 0 | L67: ='Plot (6)'!$M$39 -> 0 | M67: ='Plot (6)'!$L$40 -> 0 | N67: ='Plot (6)'!$M$40 -> 0 | O67: ='Plot (6)'!$N$38 -> 0 | P67: ='Plot (6)'!$O$38 -> 0 | Q67: ='Plot (6)'!$N$39 -> 0 | R67: ='Plot (6)'!$O$39 -> 0 | S67: ='Plot (6)'!$N$40 -> 0 | T67: ='Plot (6)'!$O$40 -> 0 | U67: ='Plot (6)'!$P$38 -> 0 | V67: ='Plot (6)'!$Q$38 -> 0 | W67: ='Plot (6)'!$P$39 -> 0 | X67: ='Plot (6)'!$Q$39 -> 0 | Y67: ='Plot (6)'!$P$40 -> 0 | Z67: ='Plot (6)'!$Q$40 -> 0 | AA67: ='Plot (6)'!$R$38 -> 0 | AB67: ='Plot (6)'!$S$38 -> 0 | AC67: ='Plot (6)'!$R$39 -> 0 | AD67: ='Plot (6)'!$S$39 -> 0 | AE67: ='Plot (6)'!$R$40 -> 0 | AF67: ='Plot (6)'!$S$40 -> 0
A68: 7 | B68: FOREST HEALTH DAMAGE AGENTS | C68: =IF(CELL("type",('Plot (7)'!$J$8))="b","N/A",'Plot (7)'!$J$8) -> N/A | I68: =IF(CELL("type",('Plot (7)'!$L$8))="b","N/A",'Plot (7)'!$L$8) -> N/A | O68: =IF(CELL("type",('Plot (7)'!$N$8))="b","N/A",'Plot (7)'!$N$8) -> N/A | U68: =IF(CELL("type",('Plot (7)'!$P$8))="b","N/A",'Plot (7)'!$P$8) -> N/A | AA68: =IF(CELL("type",('Plot (7)'!$R$8))="b","N/A",'Plot (7)'!$R$8) -> N/A
A69: 7 | B69: =+'Plot (7)'!A$11 -> 0 | C69: ='Plot (7)'!$J$11 -> 0 | D69: ='Plot (7)'!$K$11 -> 0 | E69: ='Plot (7)'!$J$12 -> 0 | F69: ='Plot (7)'!$K$12 -> 0 | G69: ='Plot (7)'!$J$13 -> 0 | H69: ='Plot (7)'!$K$13 -> 0 | I69: ='Plot (7)'!$L$11 -> 0 | J69: ='Plot (7)'!$M$11 -> 0 | K69: ='Plot (7)'!$L$12 -> 0 | L69: ='Plot (7)'!$M$12 -> 0 | M69: ='Plot (7)'!$L$13 -> 0 | N69: ='Plot (7)'!$M$13 -> 0 | O69: ='Plot (7)'!$N$11 -> 0 | P69: ='Plot (7)'!$O$11 -> 0 | Q69: ='Plot (7)'!$N$12 -> 0 | R69: ='Plot (7)'!$O$12 -> 0 | S69: ='Plot (7)'!$N$13 -> 0 | T69: ='Plot (7)'!$O$13 -> 0 | U69: ='Plot (7)'!$P$11 -> 0 | V69: ='Plot (7)'!$Q$11 -> 0 | W69: ='Plot (7)'!$P$12 -> 0 | X69: ='Plot (7)'!$Q$12 -> 0 | Y69: ='Plot (7)'!$P$13 -> 0 | Z69: ='Plot (7)'!$Q$13 -> 0 | AA69: ='Plot (7)'!$R$11 -> 0 | AB69: ='Plot (7)'!$S$11 -> 0 | AC69: ='Plot (7)'!$R$12 -> 0 | AD69: ='Plot (7)'!$S$12 -> 0 | AE69: ='Plot (7)'!$R$13 -> 0 | AF69: ='Plot (7)'!$S$13 -> 0
A70: 7 | B70: =+'Plot (7)'!A$14 -> 0 | C70: ='Plot (7)'!$J$14 -> 0 | D70: ='Plot (7)'!$K$14 -> 0 | E70: ='Plot (7)'!$J$15 -> 0 | F70: ='Plot (7)'!$K$15 -> 0 | G70: ='Plot (7)'!$J$16 -> 0 | H70: ='Plot (7)'!$K$16 -> 0 | I70: ='Plot (7)'!$L$14 -> 0 | J70: ='Plot (7)'!$M$14 -> 0 | K70: ='Plot (7)'!$L$15 -> 0 | L70: ='Plot (7)'!$M$15 -> 0 | M70: ='Plot (7)'!$L$16 -> 0 | N70: ='Plot (7)'!$M$16 -> 0 | O70: ='Plot (7)'!$N$14 -> 0 | P70: ='Plot (7)'!$O$14 -> 0 | Q70: ='Plot (7)'!$N$15 -> 0 | R70: ='Plot (7)'!$O$15 -> 0 | S70: ='Plot (7)'!$N$16 -> 0 | T70: ='Plot (7)'!$O$16 -> 0 | U70: ='Plot (7)'!$P$14 -> 0 | V70: ='Plot (7)'!$Q$14 -> 0 | W70: ='Plot (7)'!$P$15 -> 0 | X70: ='Plot (7)'!$Q$15 -> 0 | Y70: ='Plot (7)'!$P$16 -> 0 | Z70: ='Plot (7)'!$Q$16 -> 0 | AA70: ='Plot (7)'!$R$14 -> 0 | AB70: ='Plot (7)'!$S$14 -> 0 | AC70: ='Plot (7)'!$R$15 -> 0 | AD70: ='Plot (7)'!$S$15 -> 0 | AE70: ='Plot (7)'!$R$16 -> 0 | AF70: ='Plot (7)'!$S$16 -> 0
A71: 7 | B71: =+'Plot (7)'!A$17 -> 0 | C71: ='Plot (7)'!$J$17 -> 0 | D71: ='Plot (7)'!$K$17 -> 0 | E71: ='Plot (7)'!$J$18 -> 0 | F71: ='Plot (7)'!$K$18 -> 0 | G71: ='Plot (7)'!$J$19 -> 0 | H71: ='Plot (7)'!$K$19 -> 0 | I71: ='Plot (7)'!$L$17 -> 0 | J71: ='Plot (7)'!$M$17 -> 0 | K71: ='Plot (7)'!$L$18 -> 0 | L71: ='Plot (7)'!$M$18 -> 0 | M71: ='Plot (7)'!$L$19 -> 0 | N71: ='Plot (7)'!$M$19 -> 0 | O71: ='Plot (7)'!$N$17 -> 0 | P71: ='Plot (7)'!$O$17 -> 0 | Q71: ='Plot (7)'!$N$18 -> 0 | R71: ='Plot (7)'!$O$18 -> 0 | S71: ='Plot (7)'!$N$19 -> 0 | T71: ='Plot (7)'!$O$19 -> 0 | U71: ='Plot (7)'!$P$17 -> 0 | V71: ='Plot (7)'!$Q$17 -> 0 | W71: ='Plot (7)'!$P$18 -> 0 | X71: ='Plot (7)'!$Q$18 -> 0 | Y71: ='Plot (7)'!$P$19 -> 0 | Z71: ='Plot (7)'!$Q$19 -> 0 | AA71: ='Plot (7)'!$R$17 -> 0 | AB71: ='Plot (7)'!$S$17 -> 0 | AC71: ='Plot (7)'!$R$18 -> 0 | AD71: ='Plot (7)'!$S$18 -> 0 | AE71: ='Plot (7)'!$R$19 -> 0 | AF71: ='Plot (7)'!$S$19 -> 0
A72: 7 | B72: =+'Plot (7)'!A$20 -> 0 | C72: ='Plot (7)'!$J$20 -> 0 | D72: ='Plot (7)'!$K$20 -> 0 | E72: ='Plot (7)'!$J$21 -> 0 | F72: ='Plot (7)'!$K$21 -> 0 | G72: ='Plot (7)'!$J$22 -> 0 | H72: ='Plot (7)'!$K$22 -> 0 | I72: ='Plot (7)'!$L$20 -> 0 | J72: ='Plot (7)'!$M$20 -> 0 | K72: ='Plot (7)'!$L$21 -> 0 | L72: ='Plot (7)'!$M$21 -> 0 | M72: ='Plot (7)'!$L$22 -> 0 | N72: ='Plot (7)'!$M$22 -> 0 | O72: ='Plot (7)'!$N$20 -> 0 | P72: ='Plot (7)'!$O$20 -> 0 | Q72: ='Plot (7)'!$N$21 -> 0 | R72: ='Plot (7)'!$O$21 -> 0 | S72: ='Plot (7)'!$N$22 -> 0 | T72: ='Plot (7)'!$O$22 -> 0 | U72: ='Plot (7)'!$P$20 -> 0 | V72: ='Plot (7)'!$Q$20 -> 0 | W72: ='Plot (7)'!$P$21 -> 0 | X72: ='Plot (7)'!$Q$21 -> 0 | Y72: ='Plot (7)'!$P$22 -> 0 | Z72: ='Plot (7)'!$Q$22 -> 0 | AA72: ='Plot (7)'!$R$20 -> 0 | AB72: ='Plot (7)'!$S$20 -> 0 | AC72: ='Plot (7)'!$R$21 -> 0 | AD72: ='Plot (7)'!$S$21 -> 0 | AE72: ='Plot (7)'!$R$22 -> 0 | AF72: ='Plot (7)'!$S$22 -> 0
A73: 7 | B73: =+'Plot (7)'!A$23 -> 0 | C73: ='Plot (7)'!$J$23 -> 0 | D73: ='Plot (7)'!$K$23 -> 0 | E73: ='Plot (7)'!$J$24 -> 0 | F73: ='Plot (7)'!$K$24 -> 0 | G73: ='Plot (7)'!$J$25 -> 0 | H73: ='Plot (7)'!$K$25 -> 0 | I73: ='Plot (7)'!$L$23 -> 0 | J73: ='Plot (7)'!$M$23 -> 0 | K73: ='Plot (7)'!$L$24 -> 0 | L73: ='Plot (7)'!$M$24 -> 0 | M73: ='Plot (7)'!$L$25 -> 0 | N73: ='Plot (7)'!$M$25 -> 0 | O73: ='Plot (7)'!$N$23 -> 0 | P73: ='Plot (7)'!$O$23 -> 0 | Q73: ='Plot (7)'!$N$24 -> 0 | R73: ='Plot (7)'!$O$24 -> 0 | S73: ='Plot (7)'!$N$25 -> 0 | T73: ='Plot (7)'!$O$25 -> 0 | U73: ='Plot (7)'!$P$23 -> 0 | V73: ='Plot (7)'!$Q$23 -> 0 | W73: ='Plot (7)'!$P$24 -> 0 | X73: ='Plot (7)'!$Q$24 -> 0 | Y73: ='Plot (7)'!$P$25 -> 0 | Z73: ='Plot (7)'!$Q$25 -> 0 | AA73: ='Plot (7)'!$R$23 -> 0 | AB73: ='Plot (7)'!$S$23 -> 0 | AC73: ='Plot (7)'!$R$24 -> 0 | AD73: ='Plot (7)'!$S$24 -> 0 | AE73: ='Plot (7)'!$R$25 -> 0 | AF73: ='Plot (7)'!$S$25 -> 0
A74: 7 | B74: =+'Plot (7)'!A$26 -> 0 | C74: ='Plot (7)'!$J$26 -> 0 | D74: ='Plot (7)'!$K$26 -> 0 | E74: ='Plot (7)'!$J$27 -> 0 | F74: ='Plot (7)'!$K$27 -> 0 | G74: ='Plot (7)'!$J$28 -> 0 | H74: ='Plot (7)'!$K$28 -> 0 | I74: ='Plot (7)'!$L$26 -> 0 | J74: ='Plot (7)'!$M$26 -> 0 | K74: ='Plot (7)'!$L$27 -> 0 | L74: ='Plot (7)'!$M$27 -> 0 | M74: ='Plot (7)'!$L$28 -> 0 | N74: ='Plot (7)'!$M$28 -> 0 | O74: ='Plot (7)'!$N$26 -> 0 | P74: ='Plot (7)'!$O$26 -> 0 | Q74: ='Plot (7)'!$N$27 -> 0 | R74: ='Plot (7)'!$O$27 -> 0 | S74: ='Plot (7)'!$N$28 -> 0 | T74: ='Plot (7)'!$O$28 -> 0 | U74: ='Plot (7)'!$P$26 -> 0 | V74: ='Plot (7)'!$Q$26 -> 0 | W74: ='Plot (7)'!$P$27 -> 0 | X74: ='Plot (7)'!$Q$27 -> 0 | Y74: ='Plot (7)'!$P$28 -> 0 | Z74: ='Plot (7)'!$Q$28 -> 0 | AA74: ='Plot (7)'!$R$26 -> 0 | AB74: ='Plot (7)'!$S$26 -> 0 | AC74: ='Plot (7)'!$R$27 -> 0 | AD74: ='Plot (7)'!$S$27 -> 0 | AE74: ='Plot (7)'!$R$28 -> 0 | AF74: ='Plot (7)'!$S$28 -> 0
A75: 7 | B75: =+'Plot (7)'!A$29 -> 0 | C75: ='Plot (7)'!$J$29 -> 0 | D75: ='Plot (7)'!$K$29 -> 0 | E75: ='Plot (7)'!$J$30 -> 0 | F75: ='Plot (7)'!$K$30 -> 0 | G75: ='Plot (7)'!$J$31 -> 0 | H75: ='Plot (7)'!$K$31 -> 0 | I75: ='Plot (7)'!$L$29 -> 0 | J75: ='Plot (7)'!$M$29 -> 0 | K75: ='Plot (7)'!$L$30 -> 0 | L75: ='Plot (7)'!$M$30 -> 0 | M75: ='Plot (7)'!$L$31 -> 0 | N75: ='Plot (7)'!$M$31 -> 0 | O75: ='Plot (7)'!$N$29 -> 0 | P75: ='Plot (7)'!$O$29 -> 0 | Q75: ='Plot (7)'!$N$30 -> 0 | R75: ='Plot (7)'!$O$30 -> 0 | S75: ='Plot (7)'!$N$31 -> 0 | T75: ='Plot (7)'!$O$31 -> 0 | U75: ='Plot (7)'!$P$29 -> 0 | V75: ='Plot (7)'!$Q$29 -> 0 | W75: ='Plot (7)'!$P$30 -> 0 | X75: ='Plot (7)'!$Q$30 -> 0 | Y75: ='Plot (7)'!$P$31 -> 0 | Z75: ='Plot (7)'!$Q$31 -> 0 | AA75: ='Plot (7)'!$R$29 -> 0 | AB75: ='Plot (7)'!$S$29 -> 0 | AC75: ='Plot (7)'!$R$30 -> 0 | AD75: ='Plot (7)'!$S$30 -> 0 | AE75: ='Plot (7)'!$R$31 -> 0 | AF75: ='Plot (7)'!$S$31 -> 0
A76: 7 | B76: =+'Plot (7)'!A$32 -> 0 | C76: ='Plot (7)'!$J$32 -> 0 | D76: ='Plot (7)'!$K$32 -> 0 | E76: ='Plot (7)'!$J$33 -> 0 | F76: ='Plot (7)'!$K$33 -> 0 | G76: ='Plot (7)'!$J$34 -> 0 | H76: ='Plot (7)'!$K$34 -> 0 | I76: ='Plot (7)'!$L$32 -> 0 | J76: ='Plot (7)'!$M$32 -> 0 | K76: ='Plot (7)'!$L$33 -> 0 | L76: ='Plot (7)'!$M$33 -> 0 | M76: ='Plot (7)'!$L$34 -> 0 | N76: ='Plot (7)'!$M$34 -> 0 | O76: ='Plot (7)'!$N$32 -> 0 | P76: ='Plot (7)'!$O$32 -> 0 | Q76: ='Plot (7)'!$N$33 -> 0 | R76: ='Plot (7)'!$O$33 -> 0 | S76: ='Plot (7)'!$N$34 -> 0 | T76: ='Plot (7)'!$O$34 -> 0 | U76: ='Plot (7)'!$P$32 -> 0 | V76: ='Plot (7)'!$Q$32 -> 0 | W76: ='Plot (7)'!$P$33 -> 0 | X76: ='Plot (7)'!$Q$33 -> 0 | Y76: ='Plot (7)'!$P$34 -> 0 | Z76: ='Plot (7)'!$Q$34 -> 0 | AA76: ='Plot (7)'!$R$32 -> 0 | AB76: ='Plot (7)'!$S$32 -> 0 | AC76: ='Plot (7)'!$R$33 -> 0 | AD76: ='Plot (7)'!$S$33 -> 0 | AE76: ='Plot (7)'!$R$34 -> 0 | AF76: ='Plot (7)'!$S$34 -> 0
A77: 7 | B77: =+'Plot (7)'!A$35 -> 0 | C77: ='Plot (7)'!$J$35 -> 0 | D77: ='Plot (7)'!$K$35 -> 0 | E77: ='Plot (7)'!$J$36 -> 0 | F77: ='Plot (7)'!$K$36 -> 0 | G77: ='Plot (7)'!$J$37 -> 0 | H77: ='Plot (7)'!$K$37 -> 0 | I77: ='Plot (7)'!$L$35 -> 0 | J77: ='Plot (7)'!$M$35 -> 0 | K77: ='Plot (7)'!$L$36 -> 0 | L77: ='Plot (7)'!$M$36 -> 0 | M77: ='Plot (7)'!$L$37 -> 0 | N77: ='Plot (7)'!$M$37 -> 0 | O77: ='Plot (7)'!$N$35 -> 0 | P77: ='Plot (7)'!$O$35 -> 0 | Q77: ='Plot (7)'!$N$36 -> 0 | R77: ='Plot (7)'!$O$36 -> 0 | S77: ='Plot (7)'!$N$37 -> 0 | T77: ='Plot (7)'!$O$37 -> 0 | U77: ='Plot (7)'!$P$35 -> 0 | V77: ='Plot (7)'!$Q$35 -> 0 | W77: ='Plot (7)'!$P$36 -> 0 | X77: ='Plot (7)'!$Q$36 -> 0 | Y77: ='Plot (7)'!$P$37 -> 0 | Z77: ='Plot (7)'!$Q$37 -> 0 | AA77: ='Plot (7)'!$R$35 -> 0 | AB77: ='Plot (7)'!$S$35 -> 0 | AC77: ='Plot (7)'!$R$36 -> 0 | AD77: ='Plot (7)'!$S$36 -> 0 | AE77: ='Plot (7)'!$R$37 -> 0 | AF77: ='Plot (7)'!$S$37 -> 0
A78: 7 | B78: =+'Plot (7)'!A$38 -> 0 | C78: ='Plot (7)'!$J$38 -> 0 | D78: ='Plot (7)'!$K$38 -> 0 | E78: ='Plot (7)'!$J$39 -> 0 | F78: ='Plot (7)'!$K$39 -> 0 | G78: ='Plot (7)'!$J$40 -> 0 | H78: ='Plot (7)'!$K$40 -> 0 | I78: ='Plot (7)'!$L$38 -> 0 | J78: ='Plot (7)'!$M$38 -> 0 | K78: ='Plot (7)'!$L$39 -> 0 | L78: ='Plot (7)'!$M$39 -> 0 | M78: ='Plot (7)'!$L$40 -> 0 | N78: ='Plot (7)'!$M$40 -> 0 | O78: ='Plot (7)'!$N$38 -> 0 | P78: ='Plot (7)'!$O$38 -> 0 | Q78: ='Plot (7)'!$N$39 -> 0 | R78: ='Plot (7)'!$O$39 -> 0 | S78: ='Plot (7)'!$N$40 -> 0 | T78: ='Plot (7)'!$O$40 -> 0 | U78: ='Plot (7)'!$P$38 -> 0 | V78: ='Plot (7)'!$Q$38 -> 0 | W78: ='Plot (7)'!$P$39 -> 0 | X78: ='Plot (7)'!$Q$39 -> 0 | Y78: ='Plot (7)'!$P$40 -> 0 | Z78: ='Plot (7)'!$Q$40 -> 0 | AA78: ='Plot (7)'!$R$38 -> 0 | AB78: ='Plot (7)'!$S$38 -> 0 | AC78: ='Plot (7)'!$R$39 -> 0 | AD78: ='Plot (7)'!$S$39 -> 0 | AE78: ='Plot (7)'!$R$40 -> 0 | AF78: ='Plot (7)'!$S$40 -> 0
A79: 8 | B79: FOREST HEALTH DAMAGE AGENTS | C79: =IF(CELL("type",('Plot (8)'!$J$8))="b","N/A",'Plot (8)'!$J$8) -> N/A | I79: =IF(CELL("type",('Plot (8)'!$L$8))="b","N/A",'Plot (8)'!$L$8) -> N/A | O79: =IF(CELL("type",('Plot (8)'!$N$8))="b","N/A",'Plot (8)'!$N$8) -> N/A | U79: =IF(CELL("type",('Plot (8)'!$P$8))="b","N/A",'Plot (8)'!$P$8) -> N/A | AA79: =IF(CELL("type",('Plot (8)'!$R$8))="b","N/A",'Plot (8)'!$R$8) -> N/A
A80: 8 | B80: =+'Plot (8)'!A$11 -> 0 | C80: ='Plot (8)'!$J$11 -> 0 | D80: ='Plot (8)'!$K$11 -> 0 | E80: ='Plot (8)'!$J$12 -> 0 | F80: ='Plot (8)'!$K$12 -> 0 | G80: ='Plot (8)'!$J$13 -> 0 | H80: ='Plot (8)'!$K$13 -> 0 | I80: ='Plot (8)'!$L$11 -> 0 | J80: ='Plot (8)'!$M$11 -> 0 | K80: ='Plot (8)'!$L$12 -> 0 | L80: ='Plot (8)'!$M$12 -> 0 | M80: ='Plot (8)'!$L$13 -> 0 | N80: ='Plot (8)'!$M$13 -> 0 | O80: ='Plot (8)'!$N$11 -> 0 | P80: ='Plot (8)'!$O$11 -> 0 | Q80: ='Plot (8)'!$N$12 -> 0 | R80: ='Plot (8)'!$O$12 -> 0 | S80: ='Plot (8)'!$N$13 -> 0 | T80: ='Plot (8)'!$O$13 -> 0 | U80: ='Plot (8)'!$P$11 -> 0 | V80: ='Plot (8)'!$Q$11 -> 0 | W80: ='Plot (8)'!$P$12 -> 0 | X80: ='Plot (8)'!$Q$12 -> 0 | Y80: ='Plot (8)'!$P$13 -> 0 | Z80: ='Plot (8)'!$Q$13 -> 0 | AA80: ='Plot (8)'!$R$11 -> 0 | AB80: ='Plot (8)'!$S$11 -> 0 | AC80: ='Plot (8)'!$R$12 -> 0 | AD80: ='Plot (8)'!$S$12 -> 0 | AE80: ='Plot (8)'!$R$13 -> 0 | AF80: ='Plot (8)'!$S$13 -> 0
A81: 8 | B81: =+'Plot (8)'!A$14 -> 0 | C81: ='Plot (8)'!$J$14 -> 0 | D81: ='Plot (8)'!$K$14 -> 0 | E81: ='Plot (8)'!$J$15 -> 0 | F81: ='Plot (8)'!$K$15 -> 0 | G81: ='Plot (8)'!$J$16 -> 0 | H81: ='Plot (8)'!$K$16 -> 0 | I81: ='Plot (8)'!$L$14 -> 0 | J81: ='Plot (8)'!$M$14 -> 0 | K81: ='Plot (8)'!$L$15 -> 0 | L81: ='Plot (8)'!$M$15 -> 0 | M81: ='Plot (8)'!$L$16 -> 0 | N81: ='Plot (8)'!$M$16 -> 0 | O81: ='Plot (8)'!$N$14 -> 0 | P81: ='Plot (8)'!$O$14 -> 0 | Q81: ='Plot (8)'!$N$15 -> 0 | R81: ='Plot (8)'!$O$15 -> 0 | S81: ='Plot (8)'!$N$16 -> 0 | T81: ='Plot (8)'!$O$16 -> 0 | U81: ='Plot (8)'!$P$14 -> 0 | V81: ='Plot (8)'!$Q$14 -> 0 | W81: ='Plot (8)'!$P$15 -> 0 | X81: ='Plot (8)'!$Q$15 -> 0 | Y81: ='Plot (8)'!$P$16 -> 0 | Z81: ='Plot (8)'!$Q$16 -> 0 | AA81: ='Plot (8)'!$R$14 -> 0 | AB81: ='Plot (8)'!$S$14 -> 0 | AC81: ='Plot (8)'!$R$15 -> 0 | AD81: ='Plot (8)'!$S$15 -> 0 | AE81: ='Plot (8)'!$R$16 -> 0 | AF81: ='Plot (8)'!$S$16 -> 0
A82: 8 | B82: =+'Plot (8)'!A$17 -> 0 | C82: ='Plot (8)'!$J$17 -> 0 | D82: ='Plot (8)'!$K$17 -> 0 | E82: ='Plot (8)'!$J$18 -> 0 | F82: ='Plot (8)'!$K$18 -> 0 | G82: ='Plot (8)'!$J$19 -> 0 | H82: ='Plot (8)'!$K$19 -> 0 | I82: ='Plot (8)'!$L$17 -> 0 | J82: ='Plot (8)'!$M$17 -> 0 | K82: ='Plot (8)'!$L$18 -> 0 | L82: ='Plot (8)'!$M$18 -> 0 | M82: ='Plot (8)'!$L$19 -> 0 | N82: ='Plot (8)'!$M$19 -> 0 | O82: ='Plot (8)'!$N$17 -> 0 | P82: ='Plot (8)'!$O$17 -> 0 | Q82: ='Plot (8)'!$N$18 -> 0 | R82: ='Plot (8)'!$O$18 -> 0 | S82: ='Plot (8)'!$N$19 -> 0 | T82: ='Plot (8)'!$O$19 -> 0 | U82: ='Plot (8)'!$P$17 -> 0 | V82: ='Plot (8)'!$Q$17 -> 0 | W82: ='Plot (8)'!$P$18 -> 0 | X82: ='Plot (8)'!$Q$18 -> 0 | Y82: ='Plot (8)'!$P$19 -> 0 | Z82: ='Plot (8)'!$Q$19 -> 0 | AA82: ='Plot (8)'!$R$17 -> 0 | AB82: ='Plot (8)'!$S$17 -> 0 | AC82: ='Plot (8)'!$R$18 -> 0 | AD82: ='Plot (8)'!$S$18 -> 0 | AE82: ='Plot (8)'!$R$19 -> 0 | AF82: ='Plot (8)'!$S$19 -> 0
A83: 8 | B83: =+'Plot (8)'!A$20 -> 0 | C83: ='Plot (8)'!$J$20 -> 0 | D83: ='Plot (8)'!$K$20 -> 0 | E83: ='Plot (8)'!$J$21 -> 0 | F83: ='Plot (8)'!$K$21 -> 0 | G83: ='Plot (8)'!$J$22 -> 0 | H83: ='Plot (8)'!$K$22 -> 0 | I83: ='Plot (8)'!$L$20 -> 0 | J83: ='Plot (8)'!$M$20 -> 0 | K83: ='Plot (8)'!$L$21 -> 0 | L83: ='Plot (8)'!$M$21 -> 0 | M83: ='Plot (8)'!$L$22 -> 0 | N83: ='Plot (8)'!$M$22 -> 0 | O83: ='Plot (8)'!$N$20 -> 0 | P83: ='Plot (8)'!$O$20 -> 0 | Q83: ='Plot (8)'!$N$21 -> 0 | R83: ='Plot (8)'!$O$21 -> 0 | S83: ='Plot (8)'!$N$22 -> 0 | T83: ='Plot (8)'!$O$22 -> 0 | U83: ='Plot (8)'!$P$20 -> 0 | V83: ='Plot (8)'!$Q$20 -> 0 | W83: ='Plot (8)'!$P$21 -> 0 | X83: ='Plot (8)'!$Q$21 -> 0 | Y83: ='Plot (8)'!$P$22 -> 0 | Z83: ='Plot (8)'!$Q$22 -> 0 | AA83: ='Plot (8)'!$R$20 -> 0 | AB83: ='Plot (8)'!$S$20 -> 0 | AC83: ='Plot (8)'!$R$21 -> 0 | AD83: ='Plot (8)'!$S$21 -> 0 | AE83: ='Plot (8)'!$R$22 -> 0 | AF83: ='Plot (8)'!$S$22 -> 0
A84: 8 | B84: =+'Plot (8)'!A$23 -> 0 | C84: ='Plot (8)'!$J$23 -> 0 | D84: ='Plot (8)'!$K$23 -> 0 | E84: ='Plot (8)'!$J$24 -> 0 | F84: ='Plot (8)'!$K$24 -> 0 | G84: ='Plot (8)'!$J$25 -> 0 | H84: ='Plot (8)'!$K$25 -> 0 | I84: ='Plot (8)'!$L$23 -> 0 | J84: ='Plot (8)'!$M$23 -> 0 | K84: ='Plot (8)'!$L$24 -> 0 | L84: ='Plot (8)'!$M$24 -> 0 | M84: ='Plot (8)'!$L$25 -> 0 | N84: ='Plot (8)'!$M$25 -> 0 | O84: ='Plot (8)'!$N$23 -> 0 | P84: ='Plot (8)'!$O$23 -> 0 | Q84: ='Plot (8)'!$N$24 -> 0 | R84: ='Plot (8)'!$O$24 -> 0 | S84: ='Plot (8)'!$N$25 -> 0 | T84: ='Plot (8)'!$O$25 -> 0 | U84: ='Plot (8)'!$P$23 -> 0 | V84: ='Plot (8)'!$Q$23 -> 0 | W84: ='Plot (8)'!$P$24 -> 0 | X84: ='Plot (8)'!$Q$24 -> 0 | Y84: ='Plot (8)'!$P$25 -> 0 | Z84: ='Plot (8)'!$Q$25 -> 0 | AA84: ='Plot (8)'!$R$23 -> 0 | AB84: ='Plot (8)'!$S$23 -> 0 | AC84: ='Plot (8)'!$R$24 -> 0 | AD84: ='Plot (8)'!$S$24 -> 0 | AE84: ='Plot (8)'!$R$25 -> 0 | AF84: ='Plot (8)'!$S$25 -> 0
A85: 8 | B85: =+'Plot (8)'!A$26 -> 0 | C85: ='Plot (8)'!$J$26 -> 0 | D85: ='Plot (8)'!$K$26 -> 0 | E85: ='Plot (8)'!$J$27 -> 0 | F85: ='Plot (8)'!$K$27 -> 0 | G85: ='Plot (8)'!$J$28 -> 0 | H85: ='Plot (8)'!$K$28 -> 0 | I85: ='Plot (8)'!$L$26 -> 0 | J85: ='Plot (8)'!$M$26 -> 0 | K85: ='Plot (8)'!$L$27 -> 0 | L85: ='Plot (8)'!$M$27 -> 0 | M85: ='Plot (8)'!$L$28 -> 0 | N85: ='Plot (8)'!$M$28 -> 0 | O85: ='Plot (8)'!$N$26 -> 0 | P85: ='Plot (8)'!$O$26 -> 0 | Q85: ='Plot (8)'!$N$27 -> 0 | R85: ='Plot (8)'!$O$27 -> 0 | S85: ='Plot (8)'!$N$28 -> 0 | T85: ='Plot (8)'!$O$28 -> 0 | U85: ='Plot (8)'!$P$26 -> 0 | V85: ='Plot (8)'!$Q$26 -> 0 | W85: ='Plot (8)'!$P$27 -> 0 | X85: ='Plot (8)'!$Q$27 -> 0 | Y85: ='Plot (8)'!$P$28 -> 0 | Z85: ='Plot (8)'!$Q$28 -> 0 | AA85: ='Plot (8)'!$R$26 -> 0 | AB85: ='Plot (8)'!$S$26 -> 0 | AC85: ='Plot (8)'!$R$27 -> 0 | AD85: ='Plot (8)'!$S$27 -> 0 | AE85: ='Plot (8)'!$R$28 -> 0 | AF85: ='Plot (8)'!$S$28 -> 0
A86: 8 | B86: =+'Plot (8)'!A$29 -> 0 | C86: ='Plot (8)'!$J$29 -> 0 | D86: ='Plot (8)'!$K$29 -> 0 | E86: ='Plot (8)'!$J$30 -> 0 | F86: ='Plot (8)'!$K$30 -> 0 | G86: ='Plot (8)'!$J$31 -> 0 | H86: ='Plot (8)'!$K$31 -> 0 | I86: ='Plot (8)'!$L$29 -> 0 | J86: ='Plot (8)'!$M$29 -> 0 | K86: ='Plot (8)'!$L$30 -> 0 | L86: ='Plot (8)'!$M$30 -> 0 | M86: ='Plot (8)'!$L$31 -> 0 | N86: ='Plot (8)'!$M$31 -> 0 | O86: ='Plot (8)'!$N$29 -> 0 | P86: ='Plot (8)'!$O$29 -> 0 | Q86: ='Plot (8)'!$N$30 -> 0 | R86: ='Plot (8)'!$O$30 -> 0 | S86: ='Plot (8)'!$N$31 -> 0 | T86: ='Plot (8)'!$O$31 -> 0 | U86: ='Plot (8)'!$P$29 -> 0 | V86: ='Plot (8)'!$Q$29 -> 0 | W86: ='Plot (8)'!$P$30 -> 0 | X86: ='Plot (8)'!$Q$30 -> 0 | Y86: ='Plot (8)'!$P$31 -> 0 | Z86: ='Plot (8)'!$Q$31 -> 0 | AA86: ='Plot (8)'!$R$29 -> 0 | AB86: ='Plot (8)'!$S$29 -> 0 | AC86: ='Plot (8)'!$R$30 -> 0 | AD86: ='Plot (8)'!$S$30 -> 0 | AE86: ='Plot (8)'!$R$31 -> 0 | AF86: ='Plot (8)'!$S$31 -> 0
A87: 8 | B87: =+'Plot (8)'!A$32 -> 0 | C87: ='Plot (8)'!$J$32 -> 0 | D87: ='Plot (8)'!$K$32 -> 0 | E87: ='Plot (8)'!$J$33 -> 0 | F87: ='Plot (8)'!$K$33 -> 0 | G87: ='Plot (8)'!$J$34 -> 0 | H87: ='Plot (8)'!$K$34 -> 0 | I87: ='Plot (8)'!$L$32 -> 0 | J87: ='Plot (8)'!$M$32 -> 0 | K87: ='Plot (8)'!$L$33 -> 0 | L87: ='Plot (8)'!$M$33 -> 0 | M87: ='Plot (8)'!$L$34 -> 0 | N87: ='Plot (8)'!$M$34 -> 0 | O87: ='Plot (8)'!$N$32 -> 0 | P87: ='Plot (8)'!$O$32 -> 0 | Q87: ='Plot (8)'!$N$33 -> 0 | R87: ='Plot (8)'!$O$33 -> 0 | S87: ='Plot (8)'!$N$34 -> 0 | T87: ='Plot (8)'!$O$34 -> 0 | U87: ='Plot (8)'!$P$32 -> 0 | V87: ='Plot (8)'!$Q$32 -> 0 | W87: ='Plot (8)'!$P$33 -> 0 | X87: ='Plot (8)'!$Q$33 -> 0 | Y87: ='Plot (8)'!$P$34 -> 0 | Z87: ='Plot (8)'!$Q$34 -> 0 | AA87: ='Plot (8)'!$R$32 -> 0 | AB87: ='Plot (8)'!$S$32 -> 0 | AC87: ='Plot (8)'!$R$33 -> 0 | AD87: ='Plot (8)'!$S$33 -> 0 | AE87: ='Plot (8)'!$R$34 -> 0 | AF87: ='Plot (8)'!$S$34 -> 0
A88: 8 | B88: =+'Plot (8)'!A$35 -> 0 | C88: ='Plot (8)'!$J$35 -> 0 | D88: ='Plot (8)'!$K$35 -> 0 | E88: ='Plot (8)'!$J$36 -> 0 | F88: ='Plot (8)'!$K$36 -> 0 | G88: ='Plot (8)'!$J$37 -> 0 | H88: ='Plot (8)'!$K$37 -> 0 | I88: ='Plot (8)'!$L$35 -> 0 | J88: ='Plot (8)'!$M$35 -> 0 | K88: ='Plot (8)'!$L$36 -> 0 | L88: ='Plot (8)'!$M$36 -> 0 | M88: ='Plot (8)'!$L$37 -> 0 | N88: ='Plot (8)'!$M$37 -> 0 | O88: ='Plot (8)'!$N$35 -> 0 | P88: ='Plot (8)'!$O$35 -> 0 | Q88: ='Plot (8)'!$N$36 -> 0 | R88: ='Plot (8)'!$O$36 -> 0 | S88: ='Plot (8)'!$N$37 -> 0 | T88: ='Plot (8)'!$O$37 -> 0 | U88: ='Plot (8)'!$P$35 -> 0 | V88: ='Plot (8)'!$Q$35 -> 0 | W88: ='Plot (8)'!$P$36 -> 0 | X88: ='Plot (8)'!$Q$36 -> 0 | Y88: ='Plot (8)'!$P$37 -> 0 | Z88: ='Plot (8)'!$Q$37 -> 0 | AA88: ='Plot (8)'!$R$35 -> 0 | AB88: ='Plot (8)'!$S$35 -> 0 | AC88: ='Plot (8)'!$R$36 -> 0 | AD88: ='Plot (8)'!$S$36 -> 0 | AE88: ='Plot (8)'!$R$37 -> 0 | AF88: ='Plot (8)'!$S$37 -> 0
A89: 8 | B89: =+'Plot (8)'!A$38 -> 0 | C89: ='Plot (8)'!$J$38 -> 0 | D89: ='Plot (8)'!$K$38 -> 0 | E89: ='Plot (8)'!$J$39 -> 0 | F89: ='Plot (8)'!$K$39 -> 0 | G89: ='Plot (8)'!$J$40 -> 0 | H89: ='Plot (8)'!$K$40 -> 0 | I89: ='Plot (8)'!$L$38 -> 0 | J89: ='Plot (8)'!$M$38 -> 0 | K89: ='Plot (8)'!$L$39 -> 0 | L89: ='Plot (8)'!$M$39 -> 0 | M89: ='Plot (8)'!$L$40 -> 0 | N89: ='Plot (8)'!$M$40 -> 0 | O89: ='Plot (8)'!$N$38 -> 0 | P89: ='Plot (8)'!$O$38 -> 0 | Q89: ='Plot (8)'!$N$39 -> 0 | R89: ='Plot (8)'!$O$39 -> 0 | S89: ='Plot (8)'!$N$40 -> 0 | T89: ='Plot (8)'!$O$40 -> 0 | U89: ='Plot (8)'!$P$38 -> 0 | V89: ='Plot (8)'!$Q$38 -> 0 | W89: ='Plot (8)'!$P$39 -> 0 | X89: ='Plot (8)'!$Q$39 -> 0 | Y89: ='Plot (8)'!$P$40 -> 0 | Z89: ='Plot (8)'!$Q$40 -> 0 | AA89: ='Plot (8)'!$R$38 -> 0 | AB89: ='Plot (8)'!$S$38 -> 0 | AC89: ='Plot (8)'!$R$39 -> 0 | AD89: ='Plot (8)'!$S$39 -> 0 | AE89: ='Plot (8)'!$R$40 -> 0 | AF89: ='Plot (8)'!$S$40 -> 0
A90: 9 | B90: FOREST HEALTH DAMAGE AGENTS | C90: =IF(CELL("type",('Plot (9)'!$J$8))="b","N/A",'Plot (9)'!$J$8) -> N/A | I90: =IF(CELL("type",('Plot (9)'!$L$8))="b","N/A",'Plot (9)'!$L$8) -> N/A | O90: =IF(CELL("type",('Plot (9)'!$N$8))="b","N/A",'Plot (9)'!$N$8) -> N/A | U90: =IF(CELL("type",('Plot (9)'!$P$8))="b","N/A",'Plot (9)'!$P$8) -> N/A | AA90: =IF(CELL("type",('Plot (9)'!$R$8))="b","N/A",'Plot (9)'!$R$8) -> N/A
A91: 9 | B91: =+'Plot (9)'!A$11 -> 0 | C91: ='Plot (9)'!$J$11 -> 0 | D91: ='Plot (9)'!$K$11 -> 0 | E91: ='Plot (9)'!$J$12 -> 0 | F91: ='Plot (9)'!$K$12 -> 0 | G91: ='Plot (9)'!$J$13 -> 0 | H91: ='Plot (9)'!$K$13 -> 0 | I91: ='Plot (9)'!$L$11 -> 0 | J91: ='Plot (9)'!$M$11 -> 0 | K91: ='Plot (9)'!$L$12 -> 0 | L91: ='Plot (9)'!$M$12 -> 0 | M91: ='Plot (9)'!$L$13 -> 0 | N91: ='Plot (9)'!$M$13 -> 0 | O91: ='Plot (9)'!$N$11 -> 0 | P91: ='Plot (9)'!$O$11 -> 0 | Q91: ='Plot (9)'!$N$12 -> 0 | R91: ='Plot (9)'!$O$12 -> 0 | S91: ='Plot (9)'!$N$13 -> 0 | T91: ='Plot (9)'!$O$13 -> 0 | U91: ='Plot (9)'!$P$11 -> 0 | V91: ='Plot (9)'!$Q$11 -> 0 | W91: ='Plot (9)'!$P$12 -> 0 | X91: ='Plot (9)'!$Q$12 -> 0 | Y91: ='Plot (9)'!$P$13 -> 0 | Z91: ='Plot (9)'!$Q$13 -> 0 | AA91: ='Plot (9)'!$R$11 -> 0 | AB91: ='Plot (9)'!$S$11 -> 0 | AC91: ='Plot (9)'!$R$12 -> 0 | AD91: ='Plot (9)'!$S$12 -> 0 | AE91: ='Plot (9)'!$R$13 -> 0 | AF91: ='Plot (9)'!$S$13 -> 0
A92: 9 | B92: =+'Plot (9)'!A$14 -> 0 | C92: ='Plot (9)'!$J$14 -> 0 | D92: ='Plot (9)'!$K$14 -> 0 | E92: ='Plot (9)'!$J$15 -> 0 | F92: ='Plot (9)'!$K$15 -> 0 | G92: ='Plot (9)'!$J$16 -> 0 | H92: ='Plot (9)'!$K$16 -> 0 | I92: ='Plot (9)'!$L$14 -> 0 | J92: ='Plot (9)'!$M$14 -> 0 | K92: ='Plot (9)'!$L$15 -> 0 | L92: ='Plot (9)'!$M$15 -> 0 | M92: ='Plot (9)'!$L$16 -> 0 | N92: ='Plot (9)'!$M$16 -> 0 | O92: ='Plot (9)'!$N$14 -> 0 | P92: ='Plot (9)'!$O$14 -> 0 | Q92: ='Plot (9)'!$N$15 -> 0 | R92: ='Plot (9)'!$O$15 -> 0 | S92: ='Plot (9)'!$N$16 -> 0 | T92: ='Plot (9)'!$O$16 -> 0 | U92: ='Plot (9)'!$P$14 -> 0 | V92: ='Plot (9)'!$Q$14 -> 0 | W92: ='Plot (9)'!$P$15 -> 0 | X92: ='Plot (9)'!$Q$15 -> 0 | Y92: ='Plot (9)'!$P$16 -> 0 | Z92: ='Plot (9)'!$Q$16 -> 0 | AA92: ='Plot (9)'!$R$14 -> 0 | AB92: ='Plot (9)'!$S$14 -> 0 | AC92: ='Plot (9)'!$R$15 -> 0 | AD92: ='Plot (9)'!$S$15 -> 0 | AE92: ='Plot (9)'!$R$16 -> 0 | AF92: ='Plot (9)'!$S$16 -> 0
A93: 9 | B93: =+'Plot (9)'!A$17 -> 0 | C93: ='Plot (9)'!$J$17 -> 0 | D93: ='Plot (9)'!$K$17 -> 0 | E93: ='Plot (9)'!$J$18 -> 0 | F93: ='Plot (9)'!$K$18 -> 0 | G93: ='Plot (9)'!$J$19 -> 0 | H93: ='Plot (9)'!$K$19 -> 0 | I93: ='Plot (9)'!$L$17 -> 0 | J93: ='Plot (9)'!$M$17 -> 0 | K93: ='Plot (9)'!$L$18 -> 0 | L93: ='Plot (9)'!$M$18 -> 0 | M93: ='Plot (9)'!$L$19 -> 0 | N93: ='Plot (9)'!$M$19 -> 0 | O93: ='Plot (9)'!$N$17 -> 0 | P93: ='Plot (9)'!$O$17 -> 0 | Q93: ='Plot (9)'!$N$18 -> 0 | R93: ='Plot (9)'!$O$18 -> 0 | S93: ='Plot (9)'!$N$19 -> 0 | T93: ='Plot (9)'!$O$19 -> 0 | U93: ='Plot (9)'!$P$17 -> 0 | V93: ='Plot (9)'!$Q$17 -> 0 | W93: ='Plot (9)'!$P$18 -> 0 | X93: ='Plot (9)'!$Q$18 -> 0 | Y93: ='Plot (9)'!$P$19 -> 0 | Z93: ='Plot (9)'!$Q$19 -> 0 | AA93: ='Plot (9)'!$R$17 -> 0 | AB93: ='Plot (9)'!$S$17 -> 0 | AC93: ='Plot (9)'!$R$18 -> 0 | AD93: ='Plot (9)'!$S$18 -> 0 | AE93: ='Plot (9)'!$R$19 -> 0 | AF93: ='Plot (9)'!$S$19 -> 0
A94: 9 | B94: =+'Plot (9)'!A$20 -> 0 | C94: ='Plot (9)'!$J$20 -> 0 | D94: ='Plot (9)'!$K$20 -> 0 | E94: ='Plot (9)'!$J$21 -> 0 | F94: ='Plot (9)'!$K$21 -> 0 | G94: ='Plot (9)'!$J$22 -> 0 | H94: ='Plot (9)'!$K$22 -> 0 | I94: ='Plot (9)'!$L$20 -> 0 | J94: ='Plot (9)'!$M$20 -> 0 | K94: ='Plot (9)'!$L$21 -> 0 | L94: ='Plot (9)'!$M$21 -> 0 | M94: ='Plot (9)'!$L$22 -> 0 | N94: ='Plot (9)'!$M$22 -> 0 | O94: ='Plot (9)'!$N$20 -> 0 | P94: ='Plot (9)'!$O$20 -> 0 | Q94: ='Plot (9)'!$N$21 -> 0 | R94: ='Plot (9)'!$O$21 -> 0 | S94: ='Plot (9)'!$N$22 -> 0 | T94: ='Plot (9)'!$O$22 -> 0 | U94: ='Plot (9)'!$P$20 -> 0 | V94: ='Plot (9)'!$Q$20 -> 0 | W94: ='Plot (9)'!$P$21 -> 0 | X94: ='Plot (9)'!$Q$21 -> 0 | Y94: ='Plot (9)'!$P$22 -> 0 | Z94: ='Plot (9)'!$Q$22 -> 0 | AA94: ='Plot (9)'!$R$20 -> 0 | AB94: ='Plot (9)'!$S$20 -> 0 | AC94: ='Plot (9)'!$R$21 -> 0 | AD94: ='Plot (9)'!$S$21 -> 0 | AE94: ='Plot (9)'!$R$22 -> 0 | AF94: ='Plot (9)'!$S$22 -> 0
A95: 9 | B95: =+'Plot (9)'!A$23 -> 0 | C95: ='Plot (9)'!$J$23 -> 0 | D95: ='Plot (9)'!$K$23 -> 0 | E95: ='Plot (9)'!$J$24 -> 0 | F95: ='Plot (9)'!$K$24 -> 0 | G95: ='Plot (9)'!$J$25 -> 0 | H95: ='Plot (9)'!$K$25 -> 0 | I95: ='Plot (9)'!$L$23 -> 0 | J95: ='Plot (9)'!$M$23 -> 0 | K95: ='Plot (9)'!$L$24 -> 0 | L95: ='Plot (9)'!$M$24 -> 0 | M95: ='Plot (9)'!$L$25 -> 0 | N95: ='Plot (9)'!$M$25 -> 0 | O95: ='Plot (9)'!$N$23 -> 0 | P95: ='Plot (9)'!$O$23 -> 0 | Q95: ='Plot (9)'!$N$24 -> 0 | R95: ='Plot (9)'!$O$24 -> 0 | S95: ='Plot (9)'!$N$25 -> 0 | T95: ='Plot (9)'!$O$25 -> 0 | U95: ='Plot (9)'!$P$23 -> 0 | V95: ='Plot (9)'!$Q$23 -> 0 | W95: ='Plot (9)'!$P$24 -> 0 | X95: ='Plot (9)'!$Q$24 -> 0 | Y95: ='Plot (9)'!$P$25 -> 0 | Z95: ='Plot (9)'!$Q$25 -> 0 | AA95: ='Plot (9)'!$R$23 -> 0 | AB95: ='Plot (9)'!$S$23 -> 0 | AC95: ='Plot (9)'!$R$24 -> 0 | AD95: ='Plot (9)'!$S$24 -> 0 | AE95: ='Plot (9)'!$R$25 -> 0 | AF95: ='Plot (9)'!$S$25 -> 0
A96: 9 | B96: =+'Plot (9)'!A$26 -> 0 | C96: ='Plot (9)'!$J$26 -> 0 | D96: ='Plot (9)'!$K$26 -> 0 | E96: ='Plot (9)'!$J$27 -> 0 | F96: ='Plot (9)'!$K$27 -> 0 | G96: ='Plot (9)'!$J$28 -> 0 | H96: ='Plot (9)'!$K$28 -> 0 | I96: ='Plot (9)'!$L$26 -> 0 | J96: ='Plot (9)'!$M$26 -> 0 | K96: ='Plot (9)'!$L$27 -> 0 | L96: ='Plot (9)'!$M$27 -> 0 | M96: ='Plot (9)'!$L$28 -> 0 | N96: ='Plot (9)'!$M$28 -> 0 | O96: ='Plot (9)'!$N$26 -> 0 | P96: ='Plot (9)'!$O$26 -> 0 | Q96: ='Plot (9)'!$N$27 -> 0 | R96: ='Plot (9)'!$O$27 -> 0 | S96: ='Plot (9)'!$N$28 -> 0 | T96: ='Plot (9)'!$O$28 -> 0 | U96: ='Plot (9)'!$P$26 -> 0 | V96: ='Plot (9)'!$Q$26 -> 0 | W96: ='Plot (9)'!$P$27 -> 0 | X96: ='Plot (9)'!$Q$27 -> 0 | Y96: ='Plot (9)'!$P$28 -> 0 | Z96: ='Plot (9)'!$Q$28 -> 0 | AA96: ='Plot (9)'!$R$26 -> 0 | AB96: ='Plot (9)'!$S$26 -> 0 | AC96: ='Plot (9)'!$R$27 -> 0 | AD96: ='Plot (9)'!$S$27 -> 0 | AE96: ='Plot (9)'!$R$28 -> 0 | AF96: ='Plot (9)'!$S$28 -> 0
A97: 9 | B97: =+'Plot (9)'!A$29 -> 0 | C97: ='Plot (9)'!$J$29 -> 0 | D97: ='Plot (9)'!$K$29 -> 0 | E97: ='Plot (9)'!$J$30 -> 0 | F97: ='Plot (9)'!$K$30 -> 0 | G97: ='Plot (9)'!$J$31 -> 0 | H97: ='Plot (9)'!$K$31 -> 0 | I97: ='Plot (9)'!$L$29 -> 0 | J97: ='Plot (9)'!$M$29 -> 0 | K97: ='Plot (9)'!$L$30 -> 0 | L97: ='Plot (9)'!$M$30 -> 0 | M97: ='Plot (9)'!$L$31 -> 0 | N97: ='Plot (9)'!$M$31 -> 0 | O97: ='Plot (9)'!$N$29 -> 0 | P97: ='Plot (9)'!$O$29 -> 0 | Q97: ='Plot (9)'!$N$30 -> 0 | R97: ='Plot (9)'!$O$30 -> 0 | S97: ='Plot (9)'!$N$31 -> 0 | T97: ='Plot (9)'!$O$31 -> 0 | U97: ='Plot (9)'!$P$29 -> 0 | V97: ='Plot (9)'!$Q$29 -> 0 | W97: ='Plot (9)'!$P$30 -> 0 | X97: ='Plot (9)'!$Q$30 -> 0 | Y97: ='Plot (9)'!$P$31 -> 0 | Z97: ='Plot (9)'!$Q$31 -> 0 | AA97: ='Plot (9)'!$R$29 -> 0 | AB97: ='Plot (9)'!$S$29 -> 0 | AC97: ='Plot (9)'!$R$30 -> 0 | AD97: ='Plot (9)'!$S$30 -> 0 | AE97: ='Plot (9)'!$R$31 -> 0 | AF97: ='Plot (9)'!$S$31 -> 0
A98: 9 | B98: =+'Plot (9)'!A$32 -> 0 | C98: ='Plot (9)'!$J$32 -> 0 | D98: ='Plot (9)'!$K$32 -> 0 | E98: ='Plot (9)'!$J$33 -> 0 | F98: ='Plot (9)'!$K$33 -> 0 | G98: ='Plot (9)'!$J$34 -> 0 | H98: ='Plot (9)'!$K$34 -> 0 | I98: ='Plot (9)'!$L$32 -> 0 | J98: ='Plot (9)'!$M$32 -> 0 | K98: ='Plot (9)'!$L$33 -> 0 | L98: ='Plot (9)'!$M$33 -> 0 | M98: ='Plot (9)'!$L$34 -> 0 | N98: ='Plot (9)'!$M$34 -> 0 | O98: ='Plot (9)'!$N$32 -> 0 | P98: ='Plot (9)'!$O$32 -> 0 | Q98: ='Plot (9)'!$N$33 -> 0 | R98: ='Plot (9)'!$O$33 -> 0 | S98: ='Plot (9)'!$N$34 -> 0 | T98: ='Plot (9)'!$O$34 -> 0 | U98: ='Plot (9)'!$P$32 -> 0 | V98: ='Plot (9)'!$Q$32 -> 0 | W98: ='Plot (9)'!$P$33 -> 0 | X98: ='Plot (9)'!$Q$33 -> 0 | Y98: ='Plot (9)'!$P$34 -> 0 | Z98: ='Plot (9)'!$Q$34 -> 0 | AA98: ='Plot (9)'!$R$32 -> 0 | AB98: ='Plot (9)'!$S$32 -> 0 | AC98: ='Plot (9)'!$R$33 -> 0 | AD98: ='Plot (9)'!$S$33 -> 0 | AE98: ='Plot (9)'!$R$34 -> 0 | AF98: ='Plot (9)'!$S$34 -> 0
A99: 9 | B99: =+'Plot (9)'!A$35 -> 0 | C99: ='Plot (9)'!$J$35 -> 0 | D99: ='Plot (9)'!$K$35 -> 0 | E99: ='Plot (9)'!$J$36 -> 0 | F99: ='Plot (9)'!$K$36 -> 0 | G99: ='Plot (9)'!$J$37 -> 0 | H99: ='Plot (9)'!$K$37 -> 0 | I99: ='Plot (9)'!$L$35 -> 0 | J99: ='Plot (9)'!$M$35 -> 0 | K99: ='Plot (9)'!$L$36 -> 0 | L99: ='Plot (9)'!$M$36 -> 0 | M99: ='Plot (9)'!$L$37 -> 0 | N99: ='Plot (9)'!$M$37 -> 0 | O99: ='Plot (9)'!$N$35 -> 0 | P99: ='Plot (9)'!$O$35 -> 0 | Q99: ='Plot (9)'!$N$36 -> 0 | R99: ='Plot (9)'!$O$36 -> 0 | S99: ='Plot (9)'!$N$37 -> 0 | T99: ='Plot (9)'!$O$37 -> 0 | U99: ='Plot (9)'!$P$35 -> 0 | V99: ='Plot (9)'!$Q$35 -> 0 | W99: ='Plot (9)'!$P$36 -> 0 | X99: ='Plot (9)'!$Q$36 -> 0 | Y99: ='Plot (9)'!$P$37 -> 0 | Z99: ='Plot (9)'!$Q$37 -> 0 | AA99: ='Plot (9)'!$R$35 -> 0 | AB99: ='Plot (9)'!$S$35 -> 0 | AC99: ='Plot (9)'!$R$36 -> 0 | AD99: ='Plot (9)'!$S$36 -> 0 | AE99: ='Plot (9)'!$R$37 -> 0 | AF99: ='Plot (9)'!$S$37 -> 0
A100: 9 | B100: =+'Plot (9)'!A$38 -> 0 | C100: ='Plot (9)'!$J$38 -> 0 | D100: ='Plot (9)'!$K$38 -> 0 | E100: ='Plot (9)'!$J$39 -> 0 | F100: ='Plot (9)'!$K$39 -> 0 | G100: ='Plot (9)'!$J$40 -> 0 | H100: ='Plot (9)'!$K$40 -> 0 | I100: ='Plot (9)'!$L$38 -> 0 | J100: ='Plot (9)'!$M$38 -> 0 | K100: ='Plot (9)'!$L$39 -> 0 | L100: ='Plot (9)'!$M$39 -> 0 | M100: ='Plot (9)'!$L$40 -> 0 | N100: ='Plot (9)'!$M$40 -> 0 | O100: ='Plot (9)'!$N$38 -> 0 | P100: ='Plot (9)'!$O$38 -> 0 | Q100: ='Plot (9)'!$N$39 -> 0 | R100: ='Plot (9)'!$O$39 -> 0 | S100: ='Plot (9)'!$N$40 -> 0 | T100: ='Plot (9)'!$O$40 -> 0 | U100: ='Plot (9)'!$P$38 -> 0 | V100: ='Plot (9)'!$Q$38 -> 0 | W100: ='Plot (9)'!$P$39 -> 0 | X100: ='Plot (9)'!$Q$39 -> 0 | Y100: ='Plot (9)'!$P$40 -> 0 | Z100: ='Plot (9)'!$Q$40 -> 0 | AA100: ='Plot (9)'!$R$38 -> 0 | AB100: ='Plot (9)'!$S$38 -> 0 | AC100: ='Plot (9)'!$R$39 -> 0 | AD100: ='Plot (9)'!$S$39 -> 0 | AE100: ='Plot (9)'!$R$40 -> 0 | AF100: ='Plot (9)'!$S$40 -> 0
...

Sheet Inventory Summary
B1: Plot | C1: Leading Species | D1: Code | E1: % | F1: Age | G1: Height (m) | H1: Secondary Species | I1: Code | J1: % | K1: Age | L1: Height (m) | P1: Species 1 | Q1: Species 2
B2: 1 | C2: ='Plot (1)'!U42 -> 0 | D2: =LOOKUP(C2,N:N,O:O) -> 111 | E2: ='Plot (1)'!T44 -> 0 | F2: ='Plot (1)'!U44 -> 0 | G2: ='Plot (1)'!V44 -> 0 | H2: ='Plot (1)'!X42 -> 0 | I2: =LOOKUP(H2,N:N,O:O) -> 111 | J2: ='Plot (1)'!W44 -> 0 | K2: ='Plot (1)'!X44 -> 0 | L2: ='Plot (1)'!Y44 -> 0 | N2: Ac | O2: 1 | P2: =COUNTIF($C$2:$C$11,N2) -> 0 | Q2: =COUNTIF($H$2:$H$11,N2) -> 0
B3: 2 | C3: ='Plot (2)'!U42 -> 0 | D3: =LOOKUP(C3,N:N,O:O) -> 111 | E3: ='Plot (2)'!T44 -> 0 | F3: ='Plot (2)'!U44 -> 0 | G3: ='Plot (2)'!V44 -> 0 | H3: ='Plot (2)'!X42 -> 0 | I3: =LOOKUP(H3,N:N,O:O) -> 111 | J3: ='Plot (2)'!W44 -> 0 | K3: ='Plot (2)'!X44 -> 0 | L3: ='Plot (2)'!Y44 -> 0 | N3: Acb | O3: 2 | P3: =COUNTIF($C$2:$C$11,N3) -> 0 | Q3: =COUNTIF($H$2:$H$11,N3) -> 0
B4: 3 | C4: ='Plot (3)'!U42 -> 0 | D4: =LOOKUP(C4,N:N,O:O) -> 111 | E4: ='Plot (3)'!T44 -> 0 | F4: ='Plot (3)'!U44 -> 0 | G4: ='Plot (3)'!V44 -> 0 | H4: ='Plot (3)'!X42 -> 0 | I4: =LOOKUP(H4,N:N,O:O) -> 111 | J4: ='Plot (3)'!W44 -> 0 | K4: ='Plot (3)'!X44 -> 0 | L4: ='Plot (3)'!Y44 -> 0 | N4: Act | O4: 3 | P4: =COUNTIF($C$2:$C$11,N4) -> 0 | Q4: =COUNTIF($H$2:$H$11,N4) -> 0
B5: 4 | C5: ='Plot (4)'!U42 -> 0 | D5: =LOOKUP(C5,N:N,O:O) -> 111 | E5: ='Plot (4)'!T44 -> 0 | F5: ='Plot (4)'!U44 -> 0 | G5: ='Plot (4)'!V44 -> 0 | H5: ='Plot (4)'!X42 -> 0 | I5: =LOOKUP(H5,N:N,O:O) -> 111 | J5: ='Plot (4)'!W44 -> 0 | K5: ='Plot (4)'!X44 -> 0 | L5: ='Plot (4)'!Y44 -> 0 | N5: Ad | O5: 4 | P5: =COUNTIF($C$2:$C$11,N5) -> 0 | Q5: =COUNTIF($H$2:$H$11,N5) -> 0
B6: 5 | C6: ='Plot (5)'!U42 -> 0 | D6: =LOOKUP(C6,N:N,O:O) -> 111 | E6: ='Plot (5)'!T44 -> 0 | F6: ='Plot (5)'!U44 -> 0 | G6: ='Plot (5)'!V44 -> 0 | H6: ='Plot (5)'!X42 -> 0 | I6: =LOOKUP(H6,N:N,O:O) -> 111 | J6: ='Plot (5)'!W44 -> 0 | K6: ='Plot (5)'!X44 -> 0 | L6: ='Plot (5)'!Y44 -> 0 | N6: At | O6: 5 | P6: =COUNTIF($C$2:$C$11,N6) -> 0 | Q6: =COUNTIF($H$2:$H$11,N6) -> 0
B7: 6 | C7: ='Plot (6)'!U42 -> 0 | D7: =LOOKUP(C7,N:N,O:O) -> 111 | E7: ='Plot (6)'!T44 -> 0 | F7: ='Plot (6)'!U44 -> 0 | G7: ='Plot (6)'!V44 -> 0 | H7: ='Plot (6)'!X42 -> 0 | I7: =LOOKUP(H7,N:N,O:O) -> 111 | J7: ='Plot (6)'!W44 -> 0 | K7: ='Plot (6)'!X44 -> 0 | L7: ='Plot (6)'!Y44 -> 0 | N7: Ax | O7: 6 | P7: =COUNTIF($C$2:$C$11,N7) -> 0 | Q7: =COUNTIF($H$2:$H$11,N7) -> 0
B8: 7 | C8: ='Plot (7)'!U42 -> 0 | D8: =LOOKUP(C8,N:N,O:O) -> 111 | E8: ='Plot (7)'!T44 -> 0 | F8: ='Plot (7)'!U44 -> 0 | G8: ='Plot (7)'!V44 -> 0 | H8: ='Plot (7)'!X42 -> 0 | I8: =LOOKUP(H8,N:N,O:O) -> 111 | J8: ='Plot (7)'!W44 -> 0 | K8: ='Plot (7)'!X44 -> 0 | L8: ='Plot (7)'!Y44 -> 0 | N8: Ba | O8: 7 | P8: =COUNTIF($C$2:$C$11,N8) -> 0 | Q8: =COUNTIF($H$2:$H$11,N8) -> 0
B9: 8 | C9: ='Plot (8)'!U42 -> 0 | D9: =LOOKUP(C9,N:N,O:O) -> 111 | E9: ='Plot (8)'!T44 -> 0 | F9: ='Plot (8)'!U44 -> 0 | G9: ='Plot (8)'!V44 -> 0 | H9: ='Plot (8)'!X42 -> 0 | I9: =LOOKUP(H9,N:N,O:O) -> 111 | J9: ='Plot (8)'!W44 -> 0 | K9: ='Plot (8)'!X44 -> 0 | L9: ='Plot (8)'!Y44 -> 0 | N9: Bb | O9: 8 | P9: =COUNTIF($C$2:$C$11,N9) -> 0 | Q9: =COUNTIF($H$2:$H$11,N9) -> 0
B10: 9 | C10: ='Plot (9)'!U42 -> 0 | D10: =LOOKUP(C10,N:N,O:O) -> 111 | E10: ='Plot (9)'!T44 -> 0 | F10: ='Plot (9)'!U44 -> 0 | G10: ='Plot (9)'!V44 -> 0 | H10: ='Plot (9)'!X42 -> 0 | I10: =LOOKUP(H10,N:N,O:O) -> 111 | J10: ='Plot (9)'!W44 -> 0 | K10: ='Plot (9)'!X44 -> 0 | L10: ='Plot (9)'!Y44 -> 0 | N10: Bc | O10: 9 | P10: =COUNTIF($C$2:$C$11,N10) -> 0 | Q10: =COUNTIF($H$2:$H$11,N10) -> 0
B11: 10 | C11: ='Plot (10)'!U42 -> 0 | D11: =LOOKUP(C11,N:N,O:O) -> 111 | E11: ='Plot (10)'!T44 -> 0 | F11: ='Plot (10)'!U44 -> 0 | G11: ='Plot (10)'!V44 -> 0 | H11: ='Plot (10)'!X42 -> 0 | I11: =LOOKUP(H11,N:N,O:O) -> 111 | J11: ='Plot (10)'!W44 -> 0 | K11: ='Plot (10)'!X44 -> 0 | L11: ='Plot (10)'!Y44 -> 0 | N11: Bg | O11: 10 | P11: =COUNTIF($C$2:$C$11,N11) -> 0 | Q11: =COUNTIF($H$2:$H$11,N11) -> 0
N12: Bl | O12: 11 | P12: =COUNTIF($C$2:$C$11,N12) -> 0 | Q12: =COUNTIF($H$2:$H$11,N12) -> 0
C13: Most Common in each Group: | N13: Bm | O13: 12 | P13: =COUNTIF($C$2:$C$11,N13) -> 0 | Q13: =COUNTIF($H$2:$H$11,N13) -> 0 | S13: CODES, FOR REFERENCE AND CALCULATION PURPOSES
C14: Inventory | D14: Code | E14: Species | F14: % | N14: Bn | O14: 13 | P14: =COUNTIF($C$2:$C$11,N14) -> 0 | Q14: =COUNTIF($H$2:$H$11,N14) -> 0
C15: Species 1 | D15: =MODE(D2:D11) -> 111 | E15: =LOOKUP(D15,O:O,N:N) -> 0 | F15: =(SUMIF(C2:C11,E15,E2:E11))/COUNTIF(C2:C11,E15) -> 0 | N15: Bp | O15: 14 | P15: =COUNTIF($C$2:$C$11,N15) -> 0 | Q15: =COUNTIF($H$2:$H$11,N15) -> 0
C16: Species 2 | D16: =MODE(I2:I11) -> 111 | E16: =LOOKUP(D16,O:O,N:N) -> 0 | F16: =(SUMIF(H2:H11,E16,J2:J11))/COUNTIF(H2:H11,E16) -> 0 | N16: Cw | O16: 15 | P16: =COUNTIF($C$2:$C$11,N16) -> 0 | Q16: =COUNTIF($H$2:$H$11,N16) -> 0
N17: Cg | O17: 16 | P17: =COUNTIF($C$2:$C$11,N17) -> 0 | Q17: =COUNTIF($H$2:$H$11,N17) -> 0
N18: Dm | O18: 17 | P18: =COUNTIF($C$2:$C$11,N18) -> 0 | Q18: =COUNTIF($H$2:$H$11,N18) -> 0
N19: Dr | O19: 18 | P19: =COUNTIF($C$2:$C$11,N19) -> 0 | Q19: =COUNTIF($H$2:$H$11,N19) -> 0
D20: The "Inventory Summary" tab is automated. It DOES NOT require any input. | N20: Ea | O20: 19 | P20: =COUNTIF($C$2:$C$11,N20) -> 0 | Q20: =COUNTIF($H$2:$H$11,N20) -> 0
N21: Eb | O21: 20 | P21: =COUNTIF($C$2:$C$11,N21) -> 0 | Q21: =COUNTIF($H$2:$H$11,N21) -> 0
N22: Ee | O22: 21 | P22: =COUNTIF($C$2:$C$11,N22) -> 0 | Q22: =COUNTIF($H$2:$H$11,N22) -> 0
N23: Ep | O23: 22 | P23: =COUNTIF($C$2:$C$11,N23) -> 0 | Q23: =COUNTIF($H$2:$H$11,N23) -> 0
N24: Es | O24: 23 | P24: =COUNTIF($C$2:$C$11,N24) -> 0 | Q24: =COUNTIF($H$2:$H$11,N24) -> 0
N25: Ew | O25: 24 | P25: =COUNTIF($C$2:$C$11,N25) -> 0 | Q25: =COUNTIF($H$2:$H$11,N25) -> 0
N26: Ex | O26: 25 | P26: =COUNTIF($C$2:$C$11,N26) -> 0 | Q26: =COUNTIF($H$2:$H$11,N26) -> 0
N27: Exp | O27: 26 | P27: =COUNTIF($C$2:$C$11,N27) -> 0 | Q27: =COUNTIF($H$2:$H$11,N27) -> 0
N28: Exw | O28: 27 | P28: =COUNTIF($C$2:$C$11,N28) -> 0 | Q28: =COUNTIF($H$2:$H$11,N28) -> 0
N29: Ey | O29: 28 | P29: =COUNTIF($C$2:$C$11,N29) -> 0 | Q29: =COUNTIF($H$2:$H$11,N29) -> 0
N30: Fd | O30: 29 | P30: =COUNTIF($C$2:$C$11,N30) -> 0 | Q30: =COUNTIF($H$2:$H$11,N30) -> 0
N31: Fdc | O31: 30 | P31: =COUNTIF($C$2:$C$11,N31) -> 0 | Q31: =COUNTIF($H$2:$H$11,N31) -> 0
N32: Fdi | O32: 31 | P32: =COUNTIF($C$2:$C$11,N32) -> 0 | Q32: =COUNTIF($H$2:$H$11,N32) -> 0
... N111: Yp | O111: 110 | P111: =COUNTIF($C$2:$C$11,N111) -> 0 | Q111: =COUNTIF($H$2:$H$11,N111) -> 0
N112: 0 | O112: 111 | P112: =COUNTIF($C$2:$C$11,N112) -> 10 | Q112: =COUNTIF($H$2:$H$11,N112) -> 10

Sheet Quadratic Mean Calculator
B1: Plot # | C1: DBH | D1: DBH^2 | G1: Q - Mean ALL | H1: Q - Mean - 10
B2: 1 | C2: ='Plot (1)'!X12 -> 0 | D2: =C2^2 -> 0 | F2: N | G2: =COUNTIF(C2:C291,">0") -> 0 | H2: 10
B3: 1 | C3: ='Plot (1)'!X13 -> 0 | D3: =C3^2 -> 0 | F3: SUM of Squares | G3: =SUM(D2:D282) -> 0 | H3: =SUM(H8:H17) -> 0
B4: 1 | C4: ='Plot (1)'!X14 -> 0 | D4: =C4^2 -> 0 | F4: SOS/N | G4: =G3/G2 -> #DIV/0! | H4: =H3/H2 -> 0
B5: 1 | C5: ='Plot (1)'!X15 -> 0 | D5: =C5^2 -> 0 | F5: SQRT of (SOS/N) | G5: =SQRT(G4) -> #DIV/0! | H5: =SQRT(H4) -> 0
B6: 1 | C6: ='Plot (1)'!X16 -> 0 | D6: =C6^2 -> 0
B7: 1 | C7: ='Plot (1)'!X17 -> 0 | D7: =C7^2 -> 0 | F7: Plot* | G7: TOP 10 | H7: ^2
B8: 1 | C8: ='Plot (1)'!X18 -> 0 | D8: =C8^2 -> 0 | F8: 1 | G8: =MAX(C2:C30) -> 0 | H8: =G8^2 -> 0
B9: 1 | C9: ='Plot (1)'!X19 -> 0 | D9: =C9^2 -> 0 | F9: 2 | G9: =MAX(C31:C59) -> 0 | H9: =G9^2 -> 0
B10: 1 | C10: ='Plot (1)'!X20 -> 0 | D10: =C10^2 -> 0 | F10: 3 | G10: =MAX(C60:C88) -> 0 | H10: =G10^2 -> 0
B11: 1 | C11: ='Plot (1)'!X21 -> 0 | D11: =C11^2 -> 0 | F11: 4 | G11: =MAX(C89:C117) -> 0 | H11: =G11^2 -> 0
B12: 1 | C12: ='Plot (1)'!X22 -> 0 | D12: =C12^2 -> 0 | F12: 5 | G12: =MAX(C118:C146) -> 0 | H12: =G12^2 -> 0
B13: 1 | C13: ='Plot (1)'!X23 -> 0 | D13: =C13^2 -> 0 | F13: 6 | G13: =MAX(C147:C175) -> 0 | H13: =G13^2 -> 0
B14: 1 | C14: ='Plot (1)'!X24 -> 0 | D14: =C14^2 -> 0 | F14: 7 | G14: =MAX(C176:C204) -> 0 | H14: =G14^2 -> 0
B15: 1 | C15: ='Plot (1)'!X25 -> 0 | D15: =C15^2 -> 0 | F15: 8 | G15: =MAX(C205:C233) -> 0 | H15: =G15^2 -> 0
B16: 1 | C16: ='Plot (1)'!X26 -> 0 | D16: =C16^2 -> 0 | F16: 9 | G16: =MAX(C234:C262) -> 0 | H16: =G16^2 -> 0
B17: 1 | C17: ='Plot (1)'!X27 -> 0 | D17: =C17^2 -> 0 | F17: 10 | G17: =MAX(C263:C291) -> 0 | H17: =G17^2 -> 0
B18: 1 | C18: ='Plot (1)'!X28 -> 0 | D18: =C18^2 -> 0 | F18: *Biggest Tree in each plot
B19: 1 | C19: ='Plot (1)'!X29 -> 0 | D19: =C19^2 -> 0
B20: 1 | C20: ='Plot (1)'!X30 -> 0 | D20: =C20^2 -> 0
B21: 1 | C21: ='Plot (1)'!X31 -> 0 | D21: =C21^2 -> 0
B22: 1 | C22: ='Plot (1)'!X32 -> 0 | D22: =C22^2 -> 0
B23: 1 | C23: ='Plot (1)'!X33 -> 0 | D23: =C23^2 -> 0
B24: 1 | C24: ='Plot (1)'!X34 -> 0 | D24: =C24^2 -> 0
B25: 1 | C25: ='Plot (1)'!X35 -> 0 | D25: =C25^2 -> 0
B26: 1 | C26: ='Plot (1)'!X36 -> 0 | D26: =C26^2 -> 0 | H26: The "Quadratic Mean Calculator" tab is automated. It DOES NOT require any input.
B27: 1 | C27: ='Plot (1)'!X37 -> 0 | D27: =C27^2 -> 0
B28: 1 | C28: ='Plot (1)'!X38 -> 0 | D28: =C28^2 -> 0
B29: 1 | C29: ='Plot (1)'!X39 -> 0 | D29: =C29^2 -> 0
B30: 1 | C30: ='Plot (1)'!X40 -> 0 | D30: =C30^2 -> 0
B31: 2 | C31: ='Plot (2)'!X12 -> 0 | D31: =C31^2 -> 0
B32: 2 | C32: ='Plot (2)'!X13 -> 0 | D32: =C32^2 -> 0
B33: 2 | C33: ='Plot (2)'!X14 -> 0 | D33: =C33^2 -> 0
B34: 2 | C34: ='Plot (2)'!X15 -> 0 | D34: =C34^2 -> 0
B35: 2 | C35: ='Plot (2)'!X16 -> 0 | D35: =C35^2 -> 0
B36: 2 | C36: ='Plot (2)'!X17 -> 0 | D36: =C36^2 -> 0
B37: 2 | C37: ='Plot (2)'!X18 -> 0 | D37: =C37^2 -> 0
B38: 2 | C38: ='Plot (2)'!X19 -> 0 | D38: =C38^2 -> 0
B39: 2 | C39: ='Plot (2)'!X20 -> 0 | D39: =C39^2 -> 0
B40: 2 | C40: ='Plot (2)'!X21 -> 0 | D40: =C40^2 -> 0
B41: 2 | C41: ='Plot (2)'!X22 -> 0 | D41: =C41^2 -> 0
B42: 2 | C42: ='Plot (2)'!X23 -> 0 | D42: =C42^2 -> 0
... B59: 2 | C59: ='Plot (2)'!X40 -> 0 | D59: =C59^2 -> 0
B60: 3 | C60: ='Plot (3)'!X12 -> 0 | D60: =C60^2 -> 0
B61: 3 | C61: ='Plot (3)'!X13 -> 0 | D61: =C61^2 -> 0
B62: 3 | C62: ='Plot (3)'!X14 -> 0 | D62: =C62^2 -> 0
B63: 3 | C63: ='Plot (3)'!X15 -> 0 | D63: =C63^2 -> 0
B64: 3 | C64: ='Plot (3)'!X16 -> 0 | D64: =C64^2 -> 0
B65: 3 | C65: ='Plot (3)'!X17 -> 0 | D65: =C65^2 -> 0
B66: 3 | C66: ='Plot (3)'!X18 -> 0 | D66: =C66^2 -> 0
B67: 3 | C67: ='Plot (3)'!X19 -> 0 | D67: =C67^2 -> 0
B68: 3 | C68: ='Plot (3)'!X20 -> 0 | D68: =C68^2 -> 0
B69: 3 | C69: ='Plot (3)'!X21 -> 0 | D69: =C69^2 -> 0
B70: 3 | C70: ='Plot (3)'!X22 -> 0 | D70: =C70^2 -> 0
B71: 3 | C71: ='Plot (3)'!X23 -> 0 | D71: =C71^2 -> 0
... B88: 3 | C88: ='Plot (3)'!X40 -> 0 | D88: =C88^2 -> 0
B89: 4 | C89: ='Plot (4)'!X12 -> 0 | D89: =C89^2 -> 0
B90: 4 | C90: ='Plot (4)'!X13 -> 0 | D90: =C90^2 -> 0
B91: 4 | C91: ='Plot (4)'!X14 -> 0 | D91: =C91^2 -> 0
B92: 4 | C92: ='Plot (4)'!X15 -> 0 | D92: =C92^2 -> 0
B93: 4 | C93: ='Plot (4)'!X16 -> 0 | D93: =C93^2 -> 0
B94: 4 | C94: ='Plot (4)'!X17 -> 0 | D94: =C94^2 -> 0
B95: 4 | C95: ='Plot (4)'!X18 -> 0 | D95: =C95^2 -> 0
B96: 4 | C96: ='Plot (4)'!X19 -> 0 | D96: =C96^2 -> 0
B97: 4 | C97: ='Plot (4)'!X20 -> 0 | D97: =C97^2 -> 0
B98: 4 | C98: ='Plot (4)'!X21 -> 0 | D98: =C98^2 -> 0
B99: 4 | C99: ='Plot (4)'!X22 -> 0 | D99: =C99^2 -> 0
B100: 4 | C100: ='Plot (4)'!X23 -> 0 | D100: =C100^2 -> 0
... B117: 4 | C117: ='Plot (4)'!X40 -> 0 | D117: =C117^2 -> 0
B118: 5 | C118: ='Plot (5)'!X12 -> 0 | D118: =C118^2 -> 0
B119: 5 | C119: ='Plot (5)'!X13 -> 0 | D119: =C119^2 -> 0
B120: 5 | C120: ='Plot (5)'!X14 -> 0 | D120: =C120^2 -> 0
B121: 5 | C121: ='Plot (5)'!X15 -> 0 | D121: =C121^2 -> 0
B122: 5 | C122: ='Plot (5)'!X16 -> 0 | D122: =C122^2 -> 0
B123: 5 | C123: ='Plot (5)'!X17 -> 0 | D123: =C123^2 -> 0
B124: 5 | C124: ='Plot (5)'!X18 -> 0 | D124: =C124^2 -> 0
B125: 5 | C125: ='Plot (5)'!X19 -> 0 | D125: =C125^2 -> 0
B126: 5 | C126: ='Plot (5)'!X20 -> 0 | D126: =C126^2 -> 0
B127: 5 | C127: ='Plot (5)'!X21 -> 0 | D127: =C127^2 -> 0
B128: 5 | C128: ='Plot (5)'!X22 -> 0 | D128: =C128^2 -> 0
B129: 5 | C129: ='Plot (5)'!X23 -> 0 | D129: =C129^2 -> 0
... B146: 5 | C146: ='Plot (5)'!X40 -> 0 | D146: =C146^2 -> 0
B147: 6 | C147: ='Plot (6)'!X12 -> 0 | D147: =C147^2 -> 0
B148: 6 | C148: ='Plot (6)'!X13 -> 0 | D148: =C148^2 -> 0
B149: 6 | C149: ='Plot (6)'!X14 -> 0 | D149: =C149^2 -> 0
B150: 6 | C150: ='Plot (6)'!X15 -> 0 | D150: =C150^2 -> 0
B151: 6 | C151: ='Plot (6)'!X16 -> 0 | D151: =C151^2 -> 0
B152: 6 | C152: ='Plot (6)'!X17 -> 0 | D152: =C152^2 -> 0
B153: 6 | C153: ='Plot (6)'!X18 -> 0 | D153: =C153^2 -> 0
B154: 6 | C154: ='Plot (6)'!X19 -> 0 | D154: =C154^2 -> 0
B155: 6 | C155: ='Plot (6)'!X20 -> 0 | D155: =C155^2 -> 0
B156: 6 | C156: ='Plot (6)'!X21 -> 0 | D156: =C156^2 -> 0
B157: 6 | C157: ='Plot (6)'!X22 -> 0 | D157: =C157^2 -> 0
B158: 6 | C158: ='Plot (6)'!X23 -> 0 | D158: =C158^2 -> 0
... B175: 6 | C175: ='Plot (6)'!X40 -> 0 | D175: =C175^2 -> 0
B176: 7 | C176: ='Plot (7)'!X12 -> 0 | D176: =C176^2 -> 0
B177: 7 | C177: ='Plot (7)'!X13 -> 0 | D177: =C177^2 -> 0
B178: 7 | C178: ='Plot (7)'!X14 -> 0 | D178: =C178^2 -> 0
B179: 7 | C179: ='Plot (7)'!X15 -> 0 | D179: =C179^2 -> 0
B180: 7 | C180: ='Plot (7)'!X16 -> 0 | D180: =C180^2 -> 0
...

Sheet Volume Calculator
A1: Plot | B1: Species | C1: DBH | D1: HT | E1: FIZ | F1: SS Vol | G1: Volume (m3) | I1: Plot | J1: Sum of Volumes (m3) | K1: x 200 (m3/ha) | O1: Code | P1: Species | R1: Districts | S1: FIZ | U1: F.I.Z. | V1: Ac | W1: Acb | X1: Act | Y1: At | Z1: Ba | AA1: Bb | AB1: Bg | AC1: Bl | AD1: Bn | AE1: Cw | AF1: Dr | AG1: Ea | AH1: Ep | AI1: Fd | AJ1: Fdc | AK1: Fdi | AL1: Hm | AM1: Hw | AN1: La | AO1: Ls | AP1: Lt | AQ1: Lw | AR1: Mb | AS1: Pa | AT1: Pf | AU1: Pj | AV1: Pl | AW1: Plc | AX1: Pli | AY1: Pw | AZ1: Py | BA1: Sa | BB1: Sb | BC1: Se | BD1: Ss | BE1: Sw | BF1: Sx | BG1: Sxb | BH1: Sxe | BI1: Sxl | BJ1: Sxs | BK1: Sxw | BL1: Sxx | BM1: Vb | BN1: Yc | BO1: Description
A2: 1 | B2: ='Plot (1)'!W12 -> 0 | C2: ='Plot (1)'!X12 -> 0 | D2: ='Plot (1)'!Y12 -> 0 | E2: =IF('Plot (1)'!U4=R2,S2,IF('Plot (1)'!U4=R3,S3,IF('Plot (1)'!U4=R4,S4,IF('Plot (1)'!U4=R5,S5,IF('Plot (1)'!U4=R6,S6,IF('Plot (1)'!U4=R7,S7,IF('Plot (1)'!U4=R8,S8,IF('Plot (1)'!U4=R9,S9,IF('Plot (1)'!U4=R10,S10,IF('Plot (1)'!U4=R11,S11,IF('Plot (1)'!U4=R12,S12,IF('Plot (1)'!U4=R13,S13,IF('Plot (1)'!U4=R14,S14,IF('Plot (1)'!U4=R15,S15,IF('Plot (1)'!U4=R16,S16,IF('Plot (1)'!U4=R17,S17,IF('Plot (1)'!U4=R18,S18,IF('Plot (1)'!U4=R19,S19,IF('Plot (1)'!U4=R20,S20,IF('Plot (1)'!U4=R21,S21,IF('Plot (1)'!U4=R22,S22,IF('Plot (1)'!U4=R23,S23,IF('Plot (1)'!U4=R24,S24,IF('Plot (1)'!U4=R25,S25,IF('Plot (1)'!U4=R26,S26,IF('Plot (1)'!U4=R27,S27,IF('Plot (1)'!U4=R28,S28,IF('Plot (1)'!U4=R29,S29,IF('Plot (1)'!U4=R30,S30))))))))))))))))))))))))))))) -> FALSE | F2: =IF(E2=0,0,IF(E2=U2,LOOKUP(B2,V1:BN1,V2:BN2),IF(E2=U3,LOOKUP(B2,V1:BN1,V3:BN3),IF(E2=U4,LOOKUP(B2,V1:BN1,V4:BN4),IF(E2=U5,LOOKUP(B2,V1:BN1,V5:BN5),IF(E2=U6,LOOKUP(B2,V1:BN1,V6:BN6),IF(E2=U7,LOOKUP(B2,V1:BN1,V7:BN7),IF(E2=U8,LOOKUP(B2,V1:BN1,V8:BN8),IF(E2=U9,LOOKUP(B2,V1:BN1,V9:BN9),IF(E2=U10,LOOKUP(B2,V1:BN1,V10:BN10),IF(E2=U11,LOOKUP(B2,V1:BN1,V11:BN11),IF(E2=U12,LOOKUP(B2,V1:BN1,V12:BN12),IF(E2=U13,LOOKUP(B2,V1:BN1,V13:BN13)))))))))))))) -> FALSE | G2: =IF(D2=0,"Not Measured",(IF((B2)=0,"No Species",IF((B2)="Pl",POWER(10,(-4.349054+(1.82276*LOG10(C2))+(1.10812*LOG10(D2)))),IF((B2)="Pli",POWER(10,(-4.349054+(1.82276*LOG10(C2))+(1.10812*LOG10(D2)))),IF((B2)="Cw",POWER(10,(-4.139118+(1.71677*LOG10(C2))+(1.04742*LOG10(D2)))),IF((B2)="Bl",POWER(10,(-4.266202+(1.78296*LOG10(C2))+(1.10382*LOG10(D2)))),IF((B2)="Fd",POWER(10,(-4.319071+(1.81382*LOG10(C2))+(1.04242*LOG10(D2)))),IF((B2)="Hw",POWER(10,(-4.41882+(1.86778*LOG10(C2))+(1.09989*LOG10(D2)))),IF((B2)="Sx",POWER(10,(-4.310416+(1.82284*LOG10(C2))+(1.05729*LOG10(D2)))),IF((B2)="Se",POWER(10,(-4.310416+(1.82284*LOG10(C2))+(1.05729*LOG10(D2)))),IF((B2)="Dr",POWER(10,(-4.431705+(1.89057*LOG10(C2))+(1.09077*LOG10(D2)))),IF((B2)="Pw",POWER(10,(-4.3005226+(1.8578*LOG10(C2))+(1.02225*LOG10(D2)))),IF((B2)="Yc",POWER(10,(-4.187127+(1.77736*LOG10(C2))+(1.03299*LOG10(D2)))),"Unknown Species")))))))))))))) -> Not Measured | I2: 1 | J2: =SUM(G2:G30) -> 0 | K2: =J2*200 -> 0 | O2: Ac | P2: Poplar | R2: DAB | S2: E | U2: A | V2: =POWER(10,(-4.648431+(1.73518*LOG10(C2))+(1.35601*LOG10(D2)))) -> #NUM! | W2: =POWER(10,(-4.648431+(1.73518*LOG10(C2))+(1.35601*LOG10(D2)))) -> #NUM! | X2: =POWER(10,(-4.648431+(1.73518*LOG10(C2))+(1.35601*LOG10(D2)))) -> #NUM! | Y2: =POWER(10,(-4.419728+(1.89476*LOG10(C2))+(1.05373*LOG10(D2)))) -> #NUM! | Z2: =POWER(10,(-4.266202+(1.78296*LOG10(C2))+(1.10382*LOG10(D2)))) -> #NUM! | AA2: =POWER(10,(-4.266202+(1.78296*LOG10(C2))+(1.10382*LOG10(D2)))) -> #NUM! | AB2: =POWER(10,(-4.266202+(1.78296*LOG10(C2))+(1.10382*LOG10(D2)))) -> #NUM! | AC2: =POWER(10,(-4.266202+(1.78296*LOG10(C2))+(1.10382*LOG10(D2)))) -> #NUM! | AD2: =POWER(10,(-4.266202+(1.78296*LOG10(C2))+(1.10382*LOG10(D2)))) -> #NUM! | AE2: =POWER(10,(-4.139118+(1.71677*LOG10(C2))+(1.04742*LOG10(D2)))) -> #NUM! | AF2: =POWER(10,(-4.431705+(1.89057*LOG10(C2))+(1.09077*LOG10(D2)))) -> #NUM! | AG2: =POWER(10,(-4.443142+(1.90956*LOG10(C2))+(1.05205*LOG10(D2)))) -> #NUM! | AH2: =POWER(10,(-4.443142+(1.90956*LOG10(C2))+(1.05205*LOG10(D2)))) -> #NUM! | AI2: =POWER(10,(-4.319071+(1.81382*LOG10(C2))+(1.04242*LOG10(D2)))) -> #NUM! | AJ2: =POWER(10,(-4.319071+(1.81382*LOG10(C2))+(1.04242*LOG10(D2)))) -> #NUM! | AK2: =POWER(10,(-4.319071+(1.81382*LOG10(C2))+(1.04242*LOG10(D2)))) -> #NUM! | AL2: =POWER(10,(-4.41882+(1.86778*LOG10(C2))+(1.09989*LOG10(D2)))) -> #NUM! | AM2: =POWER(10,(-4.41882+(1.86778*LOG10(C2))+(1.09989*LOG10(D2)))) -> #NUM! | AN2: - | AO2: - | AP2: - | AQ2: - | AR2: =POWER(10,(-4.536696+(1.90785*LOG10(C2))+(1.12016*LOG10(D2)))) -> #NUM! | AS2: =POWER(10,(-4.300522+(1.8578*LOG10(C2))+(1.02225*LOG10(D2)))) -> #NUM! | AT2: =POWER(10,(-4.300522+(1.8578*LOG10(C2))+(1.02225*LOG10(D2)))) -> #NUM! | AU2: =POWER(10,(-4.349054+(1.82276*LOG10(C2))+(1.10812*LOG10(D2)))) -> #NUM! | AV2: =POWER(10,(-4.349054+(1.82276*LOG10(C2))+(1.10812*LOG10(D2)))) -> #NUM! | AW2: =POWER(10,(-4.349054+(1.82276*LOG10(C2))+(1.10812*LOG10(D2)))) -> #NUM! | AX2: =POWER(10,(-4.349054+(1.82276*LOG10(C2))+(1.10812*LOG10(D2)))) -> #NUM! | AY2: =POWER(10,(-4.3005226+(1.8578*LOG10(C2))+(1.02225*LOG10(D2)))) -> #NUM! | AZ2: - | BA2: - | BB2: - | BC2: - | BD2: =POWER(10,(-4.310416+(1.82284*LOG10(C2))+(1.05729*LOG10(D2)))) -> #NUM! | BE2: - | BF2: - | BG2: - | BH2: - | BI2: - | BJ2: - | BK2: - | BL2: - | BM2: =POWER(10,(-4.431705+(1.89057*LOG10(C2))+(1.09077*LOG10(D2)))) -> #NUM! | BN2: =POWER(10,(-4.187127+(1.77736*LOG10(C2))+(1.03299*LOG10(D2)))) -> #NUM! | BO2: North and Central Coast Region. Cedar-Hemlock type
A3: 1 | B3: ='Plot (1)'!W13 -> 0 | C3: ='Plot (1)'!X13 -> 0 | D3: ='Plot (1)'!Y13 -> 0 | E3: =E2 -> FALSE | G3: =IF(D3=0,"Not Measured",(IF((B3)=0,"No Species",IF((B3)="Pl",POWER(10,(-4.349054+(1.82276*LOG10(C3))+(1.10812*LOG10(D3)))),IF((B3)="Pli",POWER(10,(-4.349054+(1.82276*LOG10(C3))+(1.10812*LOG10(D3)))),IF((B3)="Cw",POWER(10,(-4.139118+(1.71677*LOG10(C3))+(1.04742*LOG10(D3)))),IF((B3)="Bl",POWER(10,(-4.266202+(1.78296*LOG10(C3))+(1.10382*LOG10(D3)))),IF((B3)="Fd",POWER(10,(-4.319071+(1.81382*LOG10(C3))+(1.04242*LOG10(D3)))),IF((B3)="Hw",POWER(10,(-4.41882+(1.86778*LOG10(C3))+(1.09989*LOG10(D3)))),IF((B3)="Sx",POWER(10,(-4.310416+(1.82284*LOG10(C3))+(1.05729*LOG10(D3)))),IF((B3)="Se",POWER(10,(-4.310416+(1.82284*LOG10(C3))+(1.05729*LOG10(D3)))),IF((B3)="Dr",POWER(10,(-4.431705+(1.89057*LOG10(C3))+(1.09077*LOG10(D3)))),IF((B3)="Pw",POWER(10,(-4.3005226+(1.8578*LOG10(C3))+(1.02225*LOG10(D3)))),IF((B3)="Yc",POWER(10,(-4.187127+(1.77736*LOG10(C3))+(1.03299*LOG10(D3)))),"Unknown Species")))))))))))))) -> Not Measured | I3: 2 | J3: =SUM(G31:G59) -> 0 | K3: =J3*200 -> 0 | O3: Acb | P3: Balsam Poplar | R3: DCC | S3: H | U3: B | V3: =POWER(10,(-4.648431+(1.73518*LOG10(C2))+(1.35601*LOG10(D2)))) -> #NUM! | W3: =POWER(10,(-4.648431+(1.73518*LOG10(C2))+(1.35601*LOG10(D2)))) -> #NUM! | X3: =POWER(10,(-4.648431+(1.73518*LOG10(C2))+(1.35601*LOG10(D2)))) -> #NUM! | Y3: =POWER(10,(-4.419728+(1.89476*LOG10(C2))+(1.05373*LOG10(D2)))) -> #NUM! | Z3: =POWER(10,(-4.266202+(1.78296*LOG10(C2))+(1.10382*LOG10(D2)))) -> #NUM! | AA3: =POWER(10,(-4.266202+(1.78296*LOG10(C2))+(1.10382*LOG10(D2)))) -> #NUM! | AB3: =POWER(10,(-4.266202+(1.78296*LOG10(C2))+(1.10382*LOG10(D2)))) -> #NUM! | AC3: =POWER(10,(-4.266202+(1.78296*LOG10(C2))+(1.10382*LOG10(D2)))) -> #NUM! | AD3: =POWER(10,(-4.266202+(1.78296*LOG10(C2))+(1.10382*LOG10(D2)))) -> #NUM! | AE3: =POWER(10,(-4.139118+(1.71677*LOG10(C2))+(1.04742*LOG10(D2)))) -> #NUM! | AF3: =POWER(10,(-4.431705+(1.89057*LOG10(C2))+(1.09077*LOG10(D2)))) -> #NUM! | AG3: =POWER(10,(-4.443142+(1.90956*LOG10(C2))+(1.05205*LOG10(D2)))) -> #NUM! | AH3: =POWER(10,(-4.443142+(1.90956*LOG10(C2))+(1.05205*LOG10(D2)))) -> #NUM! | AI3: =POWER(10,(-4.319071+(1.81382*LOG10(C2))+(1.04242*LOG10(D2)))) -> #NUM! | AJ3: =POWER(10,(-4.319071+(1.81382*LOG10(C2))+(1.04242*LOG10(D2)))) -> #NUM! | AK3: =POWER(10,(-4.319071+(1.81382*LOG10(C2))+(1.04242*LOG10(D2)))) -> #NUM! | AL3: =POWER(10,(-4.41882+(1.86778*LOG10(C2))+(1.09989*LOG10(D2)))) -> #NUM! | AM3: =POWER(10,(-4.41882+(1.86778*LOG10(C2))+(1.09989*LOG10(D2)))) -> #NUM! | AN3: - | AO3: - | AP3: - | AQ3: - | AR3: =POWER(10,(-4.536696+(1.90785*LOG10(C2))+(1.12016*LOG10(D2)))) -> #NUM! | AS3: =POWER(10,(-4.300522+(1.8578*LOG10(C2))+(1.02225*LOG10(D2)))) -> #NUM! | AT3: =POWER(10,(-4.300522+(1.8578*LOG10(C2))+(1.02225*LOG10(D2)))) -> #NUM! | AU3: =POWER(10,(-4.349054+(1.82276*LOG10(C2))+(1.10812*LOG10(D2)))) -> #NUM! | AV3: =POWER(10,(-4.349054+(1.82276*LOG10(C2))+(1.10812*LOG10(D2)))) -> #NUM! | AW3: =POWER(10,(-4.349054+(1.82276*LOG10(C2))+(1.10812*LOG10(D2)))) -> #NUM! | AX3: =POWER(10,(-4.349054+(1.82276*LOG10(C2))+(1.10812*LOG10(D2)))) -> #NUM! | AY3: =POWER(10,(-4.3005226+(1.8578*LOG10(C2))+(1.02225*LOG10(D2)))) -> #NUM! | AZ3: - | BA3: - | BB3: - | BC3: - | BD3: =POWER(10,(-4.310416+(1.82284*LOG10(C2))+(1.05729*LOG10(D2)))) -> #NUM! | BE3: - | BF3: - | BG3: - | BH3: - | BI3: - | BJ3: - | BK3: - | BL3: - | BM3: =POWER(10,(-4.431705+(1.89057*LOG10(C2))+(1.09077*LOG10(D2)))) -> #NUM! | BN3: =POWER(10,(-4.187127+(1.77736*LOG10(C2))+(1.03299*LOG10(D2)))) -> #NUM! | BO3: Southern Coast Region. Hemlock-Fir-Balsam type
A4: 1 | B4: ='Plot (1)'!W14 -> 0 | C4: ='Plot (1)'!X14 -> 0 | D4: ='Plot (1)'!Y14 -> 0 | E4: =E3 -> FALSE | G4: =IF(D4=0,"Not Measured",(IF((B4)=0,"No Species",IF((B4)="Pl",POWER(10,(-4.349054+(1.82276*LOG10(C4))+(1.10812*LOG10(D4)))),IF((B4)="Pli",POWER(10,(-4.349054+(1.82276*LOG10(C4))+(1.10812*LOG10(D4)))),IF((B4)="Cw",POWER(10,(-4.139118+(1.71677*LOG10(C4))+(1.04742*LOG10(D4)))),IF((B4)="Bl",POWER(10,(-4.266202+(1.78296*LOG10(C4))+(1.10382*LOG10(D4)))),IF((B4)="Fd",POWER(10,(-4.319071+(1.81382*LOG10(C4))+(1.04242*LOG10(D4)))),IF((B4)="Hw",POWER(10,(-4.41882+(1.86778*LOG10(C4))+(1.09989*LOG10(D4)))),IF((B4)="Sx",POWER(10,(-4.310416+(1.82284*LOG10(C4))+(1.05729*LOG10(D4)))),IF((B4)="Se",POWER(10,(-4.310416+(1.82284*LOG10(C4))+(1.05729*LOG10(D4)))),IF((B4)="Dr",POWER(10,(-4.431705+(1.89057*LOG10(C4))+(1.09077*LOG10(D4)))),IF((B4)="Pw",POWER(10,(-4.3005226+(1.8578*LOG10(C4))+(1.02225*LOG10(D4)))),IF((B4)="Yc",POWER(10,(-4.187127+(1.77736*LOG10(C4))+(1.03299*LOG10(D4)))),"Unknown Species")))))))))))))) -> Not Measured | I4: 3 | J4: =SUM(G60:G79) -> 0 | K4: =J4*200 -> 0 | O4: Act | P4: Black Cottonwood | R4: DCH | S4: H | U4: C | V4: =POWER(10,(-4.648431+(1.73518*LOG10(C2))+(1.35601*LOG10(D2)))) -> #NUM! | W4: =POWER(10,(-4.648431+(1.73518*LOG10(C2))+(1.35601*LOG10(D2)))) -> #NUM! | X4: =POWER(10,(-4.648431+(1.73518*LOG10(C2))+(1.35601*LOG10(D2)))) -> #NUM! | Y4: =POWER(10,(-4.419728+(1.89476*LOG10(C2))+(1.05373*LOG10(D2)))) -> #NUM! | Z4: =POWER(10,(-4.266202+(1.78296*LOG10(C2))+(1.10382*LOG10(D2)))) -> #NUM! | AA4: =POWER(10,(-4.266202+(1.78296*LOG10(C2))+(1.10382*LOG10(D2)))) -> #NUM! | AB4: =POWER(10,(-4.266202+(1.78296*LOG10(C2))+(1.10382*LOG10(D2)))) -> #NUM! | AC4: =POWER(10,(-4.266202+(1.78296*LOG10(C2))+(1.10382*LOG10(D2)))) -> #NUM! | AD4: =POWER(10,(-4.266202+(1.78296*LOG10(C2))+(1.10382*LOG10(D2)))) -> #NUM! | AE4: =POWER(10,(-4.139118+(1.71677*LOG10(C2))+(1.04742*LOG10(D2)))) -> #NUM! | AF4: =POWER(10,(-4.431705+(1.89057*LOG10(C2))+(1.09077*LOG10(D2)))) -> #NUM! | AG4: =POWER(10,(-4.443142+(1.90956*LOG10(C2))+(1.05205*LOG10(D2)))) -> #NUM! | AH4: =POWER(10,(-4.443142+(1.90956*LOG10(C2))+(1.05205*LOG10(D2)))) -> #NUM! | AI4: =POWER(10,(-4.319071+(1.81382*LOG10(C2))+(1.04242*LOG10(D2)))) -> #NUM! | AJ4: =POWER(10,(-4.319071+(1.81382*LOG10(C2))+(1.04242*LOG10(D2)))) -> #NUM! | AK4: =POWER(10,(-4.319071+(1.81382*LOG10(C2))+(1.04242*LOG10(D2)))) -> #NUM! | AL4: =POWER(10,(-4.41882+(1.86778*LOG10(C2))+(1.09989*LOG10(D2)))) -> #NUM! | AM4: =POWER(10,(-4.41882+(1.86778*LOG10(C2))+(1.09989*LOG10(D2)))) -> #NUM! | AN4: - | AO4: - | AP4: - | AQ4: - | AR4: =POWER(10,(-4.536696+(1.90785*LOG10(C2))+(1.12016*LOG10(D2)))) -> #NUM! | AS4: =POWER(10,(-4.300522+(1.8578*LOG10(C2))+(1.02225*LOG10(D2)))) -> #NUM! | AT4: =POWER(10,(-4.300522+(1.8578*LOG10(C2))+(1.02225*LOG10(D2)))) -> #NUM! | AU4: =POWER(10,(-4.349054+(1.82276*LOG10(C2))+(1.10812*LOG10(D2)))) -> #NUM! | AV4: =POWER(10,(-4.349054+(1.82276*LOG10(C2))+(1.10812*LOG10(D2)))) -> #NUM! | AW4: =POWER(10,(-4.349054+(1.82276*LOG10(C2))+(1.10812*LOG10(D2)))) -> #NUM! | AX4: =POWER(10,(-4.349054+(1.82276*LOG10(C2))+(1.10812*LOG10(D2)))) -> #NUM! | AY4: =POWER(10,(-4.3005226+(1.8578*LOG10(C2))+(1.02225*LOG10(D2)))) -> #NUM! | AZ4: =POWER(10,(-4.482485+(1.95443*LOG10(C2))+(1.01677*LOG10(D2)))) -> #NUM! | BA4: - | BB4: - | BC4: - | BD4: =POWER(10,(-4.310416+(1.82284*LOG10(C2))+(1.05729*LOG10(D2)))) -> #NUM! | BE4: - | BF4: - | BG4: - | BH4: - | BI4: - | BJ4: - | BK4: - | BL4: - | BM4: =POWER(10,(-4.431705+(1.89057*LOG10(C2))+(1.09077*LOG10(D2)))) -> #NUM! | BN4: =POWER(10,(-4.187127+(1.77736*LOG10(C2))+(1.03299*LOG10(D2)))) -> #NUM! | BO4: South Coast Transition Belt. Hemlock-Fir-Balsam type
A5: 1 | B5: ='Plot (1)'!W15 -> 0 | C5: ='Plot (1)'!X15 -> 0 | D5: ='Plot (1)'!Y15 -> 0 | E5: =E4 -> FALSE | G5: =IF(D5=0,"Not Measured",(IF((B5)=0,"No Species",IF((B5)="Pl",POWER(10,(-4.349054+(1.82276*LOG10(C5))+(1.10812*LOG10(D5)))),IF((B5)="Pli",POWER(10,(-4.349054+(1.82276*LOG10(C5))+(1.10812*LOG10(D5)))),IF((B5)="Cw",POWER(10,(-4.139118+(1.71677*LOG10(C5))+(1.04742*LOG10(D5)))),IF((B5)="Bl",POWER(10,(-4.266202+(1.78296*LOG10(C5))+(1.10382*LOG10(D5)))),IF((B5)="Fd",POWER(10,(-4.319071+(1.81382*LOG10(C5))+(1.04242*LOG10(D5)))),IF((B5)="Hw",POWER(10,(-4.41882+(1.86778*LOG10(C5))+(1.09989*LOG10(D5)))),IF((B5)="Sx",POWER(10,(-4.310416+(1.82284*LOG10(C5))+(1.05729*LOG10(D5)))),IF((B5)="Se",POWER(10,(-4.310416+(1.82284*LOG10(C5))+(1.05729*LOG10(D5)))),IF((B5)="Dr",POWER(10,(-4.431705+(1.89057*LOG10(C5))+(1.09077*LOG10(D5)))),IF((B5)="Pw",POWER(10,(-4.3005226+(1.8578*LOG10(C5))+(1.02225*LOG10(D5)))),IF((B5)="Yc",POWER(10,(-4.187127+(1.77736*LOG10(C5))+(1.03299*LOG10(D5)))),"Unknown Species")))))))))))))) -> Not Measured | I5: 4 | J5: =SUM(G89:G117) -> 0 | K5: =J5*200 -> 0 | O5: At | P5: Aspen | R5: DCK | S5: C | U5: D | V5: =POWER(10,(-4.648431+(1.73518*LOG10(C2))+(1.35601*LOG10(D2)))) -> #NUM! | W5: =POWER(10,(-4.648431+(1.73518*LOG10(C2))+(1.35601*LOG10(D2)))) -> #NUM! | X5: =POWER(10,(-4.648431+(1.73518*LOG10(C2))+(1.35601*LOG10(D2)))) -> #NUM! | Y5: =POWER(10,(-4.419728+(1.89476*LOG10(C2))+(1.05373*LOG10(D2)))) -> #NUM! | Z5: =POWER(10,(-4.291919+(1.87293*LOG10(C2))+(0.998274*LOG10(D2)))) -> #NUM! | AA5: =POWER(10,(-4.291919+(1.87293*LOG10(C2))+(0.998274*LOG10(D2)))) -> #NUM! | AB5: =POWER(10,(-4.291919+(1.87293*LOG10(C2))+(0.998274*LOG10(D2)))) -> #NUM! | AC5: =POWER(10,(-4.291919+(1.87293*LOG10(C2))+(0.998274*LOG10(D2)))) -> #NUM! | AD5: =POWER(10,(-4.291919+(1.87293*LOG10(C2))+(0.998274*LOG10(D2)))) -> #NUM! | AE5: =POWER(10,(-4.178431+(1.75995*LOG10(C2))+(1.01908*LOG10(D2)))) -> #NUM! | AF5: - | AG5: =POWER(10,(-4.443142+(1.90956*LOG10(C2))+(1.05205*LOG10(D2)))) -> #NUM! | AH5: =POWER(10,(-4.443142+(1.90956*LOG10(C2))+(1.05205*LOG10(D2)))) -> #NUM! | AI5: =POWER(10,(-4.383102+(1.74294*LOG10(C2))+(1.15641*LOG10(D2)))) -> #NUM! | AJ5: =POWER(10,(-4.383102+(1.74294*LOG10(C2))+(1.15641*LOG10(D2)))) -> #NUM! | AK5: =POWER(10,(-4.383102+(1.74294*LOG10(C2))+(1.15641*LOG10(D2)))) -> #NUM! | AL5: =POWER(10,(-4.41882+(1.86778*LOG10(C2))+(1.09989*LOG10(D2)))) -> #NUM! | AM5: =POWER(10,(-4.394633+(1.9429*LOG10(C2))+(0.990275*LOG10(D2)))) -> #NUM! | AN5: =POWER(10,(-4.350486+(1.7236*LOG10(C2))+(1.13527*LOG10(D2)))) -> #NUM! | AO5: =POWER(10,(-4.350486+(1.7236*LOG10(C2))+(1.13527*LOG10(D2)))) -> #NUM! | AP5: - | AQ5: =POWER(10,(-4.350486+(1.7236*LOG10(C2))+(1.13527*LOG10(D2)))) -> #NUM! | AR5: - | AS5: =POWER(10,(-4.300522+(1.8578*LOG10(C2))+(1.02225*LOG10(D2)))) -> #NUM! | AT5: =POWER(10,(-4.300522+(1.8578*LOG10(C2))+(1.02225*LOG10(D2)))) -> #NUM! | AU5: =POWER(10,(-4.349054+(1.82276*LOG10(C2))+(1.10812*LOG10(D2)))) -> #NUM! | AV5: =POWER(10,(-4.349054+(1.82276*LOG10(C2))+(1.10812*LOG10(D2)))) -> #NUM! | AW5: =POWER(10,(-4.349054+(1.82276*LOG10(C2))+(1.10812*LOG10(D2)))) -> #NUM! | AX5: =POWER(10,(-4.349054+(1.82276*LOG10(C2))+(1.10812*LOG10(D2)))) -> #NUM! | AY5: =POWER(10,(-4.3005226+(1.8578*LOG10(C2))+(1.02225*LOG10(D2)))) -> #NUM! | AZ5: =POWER(10,(-4.482485+(1.95443*LOG10(C2))+(1.01677*LOG10(D2)))) -> #NUM! | BA5: =POWER(10,(-4.294193+(1.85859*LOG10(C2))+(1.00779*LOG10(D2)))) -> #NUM! | BB5: =POWER(10,(-4.294193+(1.85859*LOG10(C2))+(1.00779*LOG10(D2)))) -> #NUM! | BC5: =POWER(10,(-4.294193+(1.85859*LOG10(C2))+(1.00779*LOG10(D2)))) -> #NUM! | BD5: - | BE5: =POWER(10,(-4.294193+(1.85859*LOG10(C2))+(1.00779*LOG10(D2)))) -> #NUM! | BF5: =POWER(10,(-4.294193+(1.85859*LOG10(C2))+(1.00779*LOG10(D2)))) -> #NUM! | BG5: =POWER(10,(-4.294193+(1.85859*LOG10(C2))+(1.00779*LOG10(D2)))) -> #NUM! | BH5: =POWER(10,(-4.294193+(1.85859*LOG10(C2))+(1.00779*LOG10(D2)))) -> #NUM! | BI5: =POWER(10,(-4.294193+(1.85859*LOG10(C2))+(1.00779*LOG10(D2)))) -> #NUM! | BJ5: =POWER(10,(-4.294193+(1.85859*LOG10(C2))+(1.00779*LOG10(D2)))) -> #NUM! | BK5: =POWER(10,(-4.294193+(1.85859*LOG10(C2))+(1.00779*LOG10(D2)))) -> #NUM! | BL5: =POWER(10,(-4.294193+(1.85859*LOG10(C2))+(1.00779*LOG10(D2)))) -> #NUM! | BM5: - | BN5: =POWER(10,(-4.187127+(1.77736*LOG10(C2))+(1.03299*LOG10(D2)))) -> #NUM! | BO5: South Western Interior Dry Belt. Fir-Lodgepole pine-Spruce type
A6: 1 | B6: ='Plot (1)'!W16 -> 0 | C6: ='Plot (1)'!X16 -> 0 | D6: ='Plot (1)'!Y16 -> 0 | E6: =E5 -> FALSE | G6: =IF(D6=0,"Not Measured",(IF((B6)=0,"No Species",IF((B6)="Pl",POWER(10,(-4.349054+(1.82276*LOG10(C6))+(1.10812*LOG10(D6)))),IF((B6)="Pli",POWER(10,(-4.349054+(1.82276*LOG10(C6))+(1.10812*LOG10(D6)))),IF((B6)="Cw",POWER(10,(-4.139118+(1.71677*LOG10(C6))+(1.04742*LOG10(D6)))),IF((B6)="Bl",POWER(10,(-4.266202+(1.78296*LOG10(C6))+(1.10382*LOG10(D6)))),IF((B6)="Fd",POWER(10,(-4.319071+(1.81382*LOG10(C6))+(1.04242*LOG10(D6)))),IF((B6)="Hw",POWER(10,(-4.41882+(1.86778*LOG10(C6))+(1.09989*LOG10(D6)))),IF((B6)="Sx",POWER(10,(-4.310416+(1.82284*LOG10(C6))+(1.05729*LOG10(D6)))),IF((B6)="Se",POWER(10,(-4.310416+(1.82284*LOG10(C6))+(1.05729*LOG10(D6)))),IF((B6)="Dr",POWER(10,(-4.431705+(1.89057*LOG10(C6))+(1.09077*LOG10(D6)))),IF((B6)="Pw",POWER(10,(-4.3005226+(1.8578*LOG10(C6))+(1.02225*LOG10(D6)))),IF((B6)="Yc",POWER(10,(-4.187127+(1.77736*LOG10(C6))+(1.03299*LOG10(D6)))),"Unknown Species")))))))))))))) -> Not Measured | I6: 5 | J6: =SUM(G118:G146) -> 0 | K6: =J6*200 -> 0 | O6: Ba | P6: Amabilis Fir | R6: DCO | S6: G | U6: E | V6: =POWER(10,(-4.648431+(1.73518*LOG10(C2))+(1.35601*LOG10(D2)))) -> #NUM! | W6: =POWER(10,(-4.648431+(1.73518*LOG10(C2))+(1.35601*LOG10(D2)))) -> #NUM! | X6: =POWER(10,(-4.648431+(1.73518*LOG10(C2))+(1.35601*LOG10(D2)))) -> #NUM! | Y6: =POWER(10,(-4.419728+(1.89476*LOG10(C2))+(1.05373*LOG10(D2)))) -> #NUM! | Z6: =POWER(10,(-4.291919+(1.87293*LOG10(C2))+(0.998274*LOG10(D2)))) -> #NUM! | AA6: =POWER(10,(-4.291919+(1.87293*LOG10(C2))+(0.998274*LOG10(D2)))) -> #NUM! | AB6: =POWER(10,(-4.291919+(1.87293*LOG10(C2))+(0.998274*LOG10(D2)))) -> #NUM! | AC6: =POWER(10,(-4.291919+(1.87293*LOG10(C2))+(0.998274*LOG10(D2)))) -> #NUM! | AD6: =POWER(10,(-4.291919+(1.87293*LOG10(C2))+(0.998274*LOG10(D2)))) -> #NUM! | AE6: =POWER(10,(-4.178431+(1.75995*LOG10(C2))+(1.01908*LOG10(D2)))) -> #NUM! | AF6: - | AG6: =POWER(10,(-4.443142+(1.90956*LOG10(C2))+(1.05205*LOG10(D2)))) -> #NUM! | AH6: =POWER(10,(-4.443142+(1.90956*LOG10(C2))+(1.05205*LOG10(D2)))) -> #NUM! | AI6: =POWER(10,(-4.383102+(1.74294*LOG10(C2))+(1.15641*LOG10(D2)))) -> #NUM! | AJ6: =POWER(10,(-4.383102+(1.74294*LOG10(C2))+(1.15641*LOG10(D2)))) -> #NUM! | AK6: =POWER(10,(-4.383102+(1.74294*LOG10(C2))+(1.15641*LOG10(D2)))) -> #NUM! | AL6: =POWER(10,(-4.41882+(1.86778*LOG10(C2))+(1.09989*LOG10(D2)))) -> #NUM! | AM6: =POWER(10,(-4.394633+(1.9429*LOG10(C2))+(0.990275*LOG10(D2)))) -> #NUM! | AN6: =POWER(10,(-4.350486+(1.7236*LOG10(C2))+(1.13527*LOG10(D2)))) -> #NUM! | AO6: =POWER(10,(-4.350486+(1.7236*LOG10(C2))+(1.13527*LOG10(D2)))) -> #NUM! | AP6: - | AQ6: =POWER(10,(-4.350486+(1.7236*LOG10(C2))+(1.13527*LOG10(D2)))) -> #NUM! | AR6: - | AS6: =POWER(10,(-4.300522+(1.8578*LOG10(C2))+(1.02225*LOG10(D2)))) -> #NUM! | AT6: =POWER(10,(-4.300522+(1.8578*LOG10(C2))+(1.02225*LOG10(D2)))) -> #NUM! | AU6: =POWER(10,(-4.349054+(1.82276*LOG10(C2))+(1.10812*LOG10(D2)))) -> #NUM! | AV6: =POWER(10,(-4.349054+(1.82276*LOG10(C2))+(1.10812*LOG10(D2)))) -> #NUM! | AW6: =POWER(10,(-4.349054+(1.82276*LOG10(C2))+(1.10812*LOG10(D2)))) -> #NUM! | AX6: =POWER(10,(-4.349054+(1.82276*LOG10(C2))+(1.10812*LOG10(D2)))) -> #NUM! | AY6: =POWER(10,(-4.3005226+(1.8578*LOG10(C2))+(1.02225*LOG10(D2)))) -> #NUM! | AZ6: =POWER(10,(-4.482485+(1.95443*LOG10(C2))+(1.01677*LOG10(D2)))) -> #NUM! | BA6: =POWER(10,(-4.294193+(1.85859*LOG10(C2))+(1.00779*LOG10(D2)))) -> #NUM! | BB6: =POWER(10,(-4.294193+(1.85859*LOG10(C2))+(1.00779*LOG10(D2)))) -> #NUM! | BC6: =POWER(10,(-4.294193+(1.85859*LOG10(C2))+(1.00779*LOG10(D2)))) -> #NUM! | BD6: - | BE6: =POWER(10,(-4.294193+(1.85859*LOG10(C2))+(1.00779*LOG10(D2)))) -> #NUM! | BF6: =POWER(10,(-4.294193+(1.85859*LOG10(C2))+(1.00779*LOG10(D2)))) -> #NUM! | BG6: =POWER(10,(-4.294193+(1.85859*LOG10(C2))+(1.00779*LOG10(D2)))) -> #NUM! | BH6: =POWER(10,(-4.294193+(1.85859*LOG10(C2))+(1.00779*LOG10(D2)))) -> #NUM! | BI6: =POWER(10,(-4.294193+(1.85859*LOG10(C2))+(1.00779*LOG10(D2)))) -> #NUM! | BJ6: =POWER(10,(-4.294193+(1.85859*LOG10(C2))+(1.00779*LOG10(D2)))) -> #NUM! | BK6: =POWER(10,(-4.294193+(1.85859*LOG10(C2))+(1.00779*LOG10(D2)))) -> #NUM! | BL6: =POWER(10,(-4.294193+(1.85859*LOG10(C2))+(1.00779*LOG10(D2)))) -> #NUM! | BM6: - | BN6: =POWER(10,(-4.187127+(1.77736*LOG10(C2))+(1.03299*LOG10(D2)))) -> #NUM! | BO6: West Kootenay Region. Spruce-Balsam-Cedar-Fir type
A7: 1 | B7: ='Plot (1)'!W17 -> 0 | C7: ='Plot (1)'!X17 -> 0 | D7: ='Plot (1)'!Y17 -> 0 | E7: =E6 -> FALSE | G7: =IF(D7=0,"Not Measured",(IF((B7)=0,"No Species",IF((B7)="Pl",POWER(10,(-4.349054+(1.82276*LOG10(C7))+(1.10812*LOG10(D7)))),IF((B7)="Pli",POWER(10,(-4.349054+(1.82276*LOG10(C7))+(1.10812*LOG10(D7)))),IF((B7)="Cw",POWER(10,(-4.139118+(1.71677*LOG10(C7))+(1.04742*LOG10(D7)))),IF((B7)="Bl",POWER(10,(-4.266202+(1.78296*LOG10(C7))+(1.10382*LOG10(D7)))),IF((B7)="Fd",POWER(10,(-4.319071+(1.81382*LOG10(C7))+(1.04242*LOG10(D7)))),IF((B7)="Hw",POWER(10,(-4.41882+(1.86778*LOG10(C7))+(1.09989*LOG10(D7)))),IF((B7)="Sx",POWER(10,(-4.310416+(1.82284*LOG10(C7))+(1.05729*LOG10(D7)))),IF((B7)="Se",POWER(10,(-4.310416+(1.82284*LOG10(C7))+(1.05729*LOG10(D7)))),IF((B7)="Dr",POWER(10,(-4.431705+(1.89057*LOG10(C7))+(1.09077*LOG10(D7)))),IF((B7)="Pw",POWER(10,(-4.3005226+(1.8578*LOG10(C7))+(1.02225*LOG10(D7)))),IF((B7)="Yc",POWER(10,(-4.187127+(1.77736*LOG10(C7))+(1.03299*LOG10(D7)))),"Unknown Species")))))))))))))) -> Not Measured | I7: 6 | J7: =SUM(G147:G175) -> 0 | K7: =J7*200 -> 0 | O7: Bb | P7: Balsam Fir | R7: DCR | S7: B | U7: F | V7: =POWER(10,(-4.648431+(1.73518*LOG10(C2))+(1.35601*LOG10(D2)))) -> #NUM! | W7: =POWER(10,(-4.648431+(1.73518*LOG10(C2))+(1.35601*LOG10(D2)))) -> #NUM! | X7: =POWER(10,(-4.648431+(1.73518*LOG10(C2))+(1.35601*LOG10(D2)))) -> #NUM! | Y7: =POWER(10,(-4.419728+(1.89476*LOG10(C2))+(1.05373*LOG10(D2)))) -> #NUM! | Z7: =POWER(10,(-4.291919+(1.87293*LOG10(C2))+(0.998274*LOG10(D2)))) -> #NUM! | AA7: =POWER(10,(-4.291919+(1.87293*LOG10(C2))+(0.998274*LOG10(D2)))) -> #NUM! | AB7: =POWER(10,(-4.291919+(1.87293*LOG10(C2))+(0.998274*LOG10(D2)))) -> #NUM! | AC7: =POWER(10,(-4.291919+(1.87293*LOG10(C2))+(0.998274*LOG10(D2)))) -> #NUM! | AD7: =POWER(10,(-4.291919+(1.87293*LOG10(C2))+(0.998274*LOG10(D2)))) -> #NUM! | AE7: =POWER(10,(-4.178431+(1.75995*LOG10(C2))+(1.01908*LOG10(D2)))) -> #NUM! | AF7: - | AG7: =POWER(10,(-4.443142+(1.90956*LOG10(C2))+(1.05205*LOG10(D2)))) -> #NUM! | AH7: =POWER(10,(-4.443142+(1.90956*LOG10(C2))+(1.05205*LOG10(D2)))) -> #NUM! | AI7: =POWER(10,(-4.383102+(1.74294*LOG10(C2))+(1.15641*LOG10(D2)))) -> #NUM! | AJ7: =POWER(10,(-4.383102+(1.74294*LOG10(C2))+(1.15641*LOG10(D2)))) -> #NUM! | AK7: =POWER(10,(-4.383102+(1.74294*LOG10(C2))+(1.15641*LOG10(D2)))) -> #NUM! | AL7: =POWER(10,(-4.41882+(1.86778*LOG10(C2))+(1.09989*LOG10(D2)))) -> #NUM! | AM7: =POWER(10,(-4.394633+(1.9429*LOG10(C2))+(0.990275*LOG10(D2)))) -> #NUM! | AN7: =POWER(10,(-4.350486+(1.7236*LOG10(C2))+(1.13527*LOG10(D2)))) -> #NUM! | AO7: =POWER(10,(-4.350486+(1.7236*LOG10(C2))+(1.13527*LOG10(D2)))) -> #NUM! | AP7: - | AQ7: =POWER(10,(-4.350486+(1.7236*LOG10(C2))+(1.13527*LOG10(D2)))) -> #NUM! | AR7: - | AS7: =POWER(10,(-4.300522+(1.8578*LOG10(C2))+(1.02225*LOG10(D2)))) -> #NUM! | AT7: =POWER(10,(-4.300522+(1.8578*LOG10(C2))+(1.02225*LOG10(D2)))) -> #NUM! | AU7: =POWER(10,(-4.349054+(1.82276*LOG10(C2))+(1.10812*LOG10(D2)))) -> #NUM! | AV7: =POWER(10,(-4.349054+(1.82276*LOG10(C2))+(1.10812*LOG10(D2)))) -> #NUM! | AW7: =POWER(10,(-4.349054+(1.82276*LOG10(C2))+(1.10812*LOG10(D2)))) -> #NUM! | AX7: =POWER(10,(-4.349054+(1.82276*LOG10(C2))+(1.10812*LOG10(D2)))) -> #NUM! | AY7: =POWER(10,(-4.3005226+(1.8578*LOG10(C2))+(1.02225*LOG10(D2)))) -> #NUM! | AZ7: =POWER(10,(-4.482485+(1.95443*LOG10(C2))+(1.01677*LOG10(D2)))) -> #NUM! | BA7: =POWER(10,(-4.294193+(1.85859*LOG10(C2))+(1.00779*LOG10(D2)))) -> #NUM! | BB7: =POWER(10,(-4.294193+(1.85859*LOG10(C2))+(1.00779*LOG10(D2)))) -> #NUM! | BC7: =POWER(10,(-4.294193+(1.85859*LOG10(C2))+(1.00779*LOG10(D2)))) -> #NUM! | BD7: - | BE7: =POWER(10,(-4.294193+(1.85859*LOG10(C2))+(1.00779*LOG10(D2)))) -> #NUM! | BF7: =POWER(10,(-4.294193+(1.85859*LOG10(C2))+(1.00779*LOG10(D2)))) -> #NUM! | BG7: =POWER(10,(-4.294193+(1.85859*LOG10(C2))+(1.00779*LOG10(D2)))) -> #NUM! | BH7: =POWER(10,(-4.294193+(1.85859*LOG10(C2))+(1.00779*LOG10(D2)))) -> #NUM! | BI7: =POWER(10,(-4.294193+(1.85859*LOG10(C2))+(1.00779*LOG10(D2)))) -> #NUM! | BJ7: =POWER(10,(-4.294193+(1.85859*LOG10(C2))+(1.00779*LOG10(D2)))) -> #NUM! | BK7: =POWER(10,(-4.294193+(1.85859*LOG10(C2))+(1.00779*LOG10(D2)))) -> #NUM! | BL7: =POWER(10,(-4.294193+(1.85859*LOG10(C2))+(1.00779*LOG10(D2)))) -> #NUM! | BM7: - | BN7: - | BO7: East Kootenay Region. Spruce-Lodgepole pine-Fir type
A8: 1 | B8: ='Plot (1)'!W18 -> 0 | C8: ='Plot (1)'!X18 -> 0 | D8: ='Plot (1)'!Y18 -> 0 | E8: =E7 -> FALSE | G8: =IF(D8=0,"Not Measured",(IF((B8)=0,"No Species",IF((B8)="Pl",POWER(10,(-4.349054+(1.82276*LOG10(C8))+(1.10812*LOG10(D8)))),IF((B8)="Pli",POWER(10,(-4.349054+(1.82276*LOG10(C8))+(1.10812*LOG10(D8)))),IF((B8)="Cw",POWER(10,(-4.139118+(1.71677*LOG10(C8))+(1.04742*LOG10(D8)))),IF((B8)="Bl",POWER(10,(-4.266202+(1.78296*LOG10(C8))+(1.10382*LOG10(D8)))),IF((B8)="Fd",POWER(10,(-4.319071+(1.81382*LOG10(C8))+(1.04242*LOG10(D8)))),IF((B8)="Hw",POWER(10,(-4.41882+(1.86778*LOG10(C8))+(1.09989*LOG10(D8)))),IF((B8)="Sx",POWER(10,(-4.310416+(1.82284*LOG10(C8))+(1.05729*LOG10(D8)))),IF((B8)="Se",POWER(10,(-4.310416+(1.82284*LOG10(C8))+(1.05729*LOG10(D8)))),IF((B8)="Dr",POWER(10,(-4.431705+(1.89057*LOG10(C8))+(1.09077*LOG10(D8)))),IF((B8)="Pw",POWER(10,(-4.3005226+(1.8578*LOG10(C8))+(1.02225*LOG10(D8)))),IF((B8)="Yc",POWER(10,(-4.187127+(1.77736*LOG10(C8))+(1.03299*LOG10(D8)))),"Unknown Species")))))))))))))) -> Not Measured | I8: 7 | J8: =SUM(G176:G204) -> 0 | K8: =J8*200 -> 0 | O8: Bg | P8: Grand Fir | R8: DCS | S8: D | U8: G | V8: =POWER(10,(-4.648431+(1.73518*LOG10(C2))+(1.35601*LOG10(D2)))) -> #NUM! | W8: =POWER(10,(-4.648431+(1.73518*LOG10(C2))+(1.35601*LOG10(D2)))) -> #NUM! | X8: =POWER(10,(-4.648431+(1.73518*LOG10(C2))+(1.35601*LOG10(D2)))) -> #NUM! | Y8: =POWER(10,(-4.419728+(1.89476*LOG10(C2))+(1.05373*LOG10(D2)))) -> #NUM! | Z8: =POWER(10,(-4.291919+(1.87293*LOG10(C2))+(0.998274*LOG10(D2)))) -> #NUM! | AA8: =POWER(10,(-4.291919+(1.87293*LOG10(C2))+(0.998274*LOG10(D2)))) -> #NUM! | AB8: =POWER(10,(-4.291919+(1.87293*LOG10(C2))+(0.998274*LOG10(D2)))) -> #NUM! | AC8: =POWER(10,(-4.291919+(1.87293*LOG10(C2))+(0.998274*LOG10(D2)))) -> #NUM! | AD8: =POWER(10,(-4.291919+(1.87293*LOG10(C2))+(0.998274*LOG10(D2)))) -> #NUM! | AE8: =POWER(10,(-4.178431+(1.75995*LOG10(C2))+(1.01908*LOG10(D2)))) -> #NUM! | AF8: - | AG8: =POWER(10,(-4.443142+(1.90956*LOG10(C2))+(1.05205*LOG10(D2)))) -> #NUM! | AH8: =POWER(10,(-4.443142+(1.90956*LOG10(C2))+(1.05205*LOG10(D2)))) -> #NUM! | AI8: =POWER(10,(-4.383102+(1.74294*LOG10(C2))+(1.15641*LOG10(D2)))) -> #NUM! | AJ8: =POWER(10,(-4.383102+(1.74294*LOG10(C2))+(1.15641*LOG10(D2)))) -> #NUM! | AK8: =POWER(10,(-4.383102+(1.74294*LOG10(C2))+(1.15641*LOG10(D2)))) -> #NUM! | AL8: =POWER(10,(-4.41882+(1.86778*LOG10(C2))+(1.09989*LOG10(D2)))) -> #NUM! | AM8: =POWER(10,(-4.394633+(1.9429*LOG10(C2))+(0.990275*LOG10(D2)))) -> #NUM! | AN8: =POWER(10,(-4.350486+(1.7236*LOG10(C2))+(1.13527*LOG10(D2)))) -> #NUM! | AO8: =POWER(10,(-4.350486+(1.7236*LOG10(C2))+(1.13527*LOG10(D2)))) -> #NUM! | AP8: - | AQ8: =POWER(10,(-4.350486+(1.7236*LOG10(C2))+(1.13527*LOG10(D2)))) -> #NUM! | AR8: - | AS8: =POWER(10,(-4.300522+(1.8578*LOG10(C2))+(1.02225*LOG10(D2)))) -> #NUM! | AT8: =POWER(10,(-4.300522+(1.8578*LOG10(C2))+(1.02225*LOG10(D2)))) -> #NUM! | AU8: =POWER(10,(-4.349054+(1.82276*LOG10(C2))+(1.10812*LOG10(D2)))) -> #NUM! | AV8: =POWER(10,(-4.349054+(1.82276*LOG10(C2))+(1.10812*LOG10(D2)))) -> #NUM! | AW8: =POWER(10,(-4.349054+(1.82276*LOG10(C2))+(1.10812*LOG10(D2)))) -> #NUM! | AX8: =POWER(10,(-4.349054+(1.82276*LOG10(C2))+(1.10812*LOG10(D2)))) -> #NUM! | AY8: =POWER(10,(-4.3005226+(1.8578*LOG10(C2))+(1.02225*LOG10(D2)))) -> #NUM! | AZ8: =POWER(10,(-4.482485+(1.95443*LOG10(C2))+(1.01677*LOG10(D2)))) -> #NUM! | BA8: =POWER(10,(-4.294193+(1.85859*LOG10(C2))+(1.00779*LOG10(D2)))) -> #NUM! | BB8: =POWER(10,(-4.294193+(1.85859*LOG10(C2))+(1.00779*LOG10(D2)))) -> #NUM! | BC8: =POWER(10,(-4.294193+(1.85859*LOG10(C2))+(1.00779*LOG10(D2)))) -> #NUM! | BD8: - | BE8: =POWER(10,(-4.294193+(1.85859*LOG10(C2))+(1.00779*LOG10(D2)))) -> #NUM! | BF8: =POWER(10,(-4.294193+(1.85859*LOG10(C2))+(1.00779*LOG10(D2)))) -> #NUM! | BG8: =POWER(10,(-4.294193+(1.85859*LOG10(C2))+(1.00779*LOG10(D2)))) -> #NUM! | BH8: =POWER(10,(-4.294193+(1.85859*LOG10(C2))+(1.00779*LOG10(D2)))) -> #NUM! | BI8: =POWER(10,(-4.294193+(1.85859*LOG10(C2))+(1.00779*LOG10(D2)))) -> #NUM! | BJ8: =POWER(10,(-4.294193+(1.85859*LOG10(C2))+(1.00779*LOG10(D2)))) -> #NUM! | BK8: =POWER(10,(-4.294193+(1.85859*LOG10(C2))+(1.00779*LOG10(D2)))) -> #NUM! | BL8: =POWER(10,(-4.294193+(1.85859*LOG10(C2))+(1.00779*LOG10(D2)))) -> #NUM! | BM8: - | BN8: =POWER(10,(-4.187127+(1.77736*LOG10(C2))+(1.03299*LOG10(D2)))) -> #NUM! | BO8: Central Columbia Region, Interior Wet Belt. Spruce-Cedar-Hemlock-Fir type
A9: 1 | B9: ='Plot (1)'!W19 -> 0 | C9: ='Plot (1)'!X19 -> 0 | D9: ='Plot (1)'!Y19 -> 0 | E9: =E8 -> FALSE | G9: =IF(D9=0,"Not Measured",(IF((B9)=0,"No Species",IF((B9)="Pl",POWER(10,(-4.349054+(1.82276*LOG10(C9))+(1.10812*LOG10(D9)))),IF((B9)="Pli",POWER(10,(-4.349054+(1.82276*LOG10(C9))+(1.10812*LOG10(D9)))),IF((B9)="Cw",POWER(10,(-4.139118+(1.71677*LOG10(C9))+(1.04742*LOG10(D9)))),IF((B9)="Bl",POWER(10,(-4.266202+(1.78296*LOG10(C9))+(1.10382*LOG10(D9)))),IF((B9)="Fd",POWER(10,(-4.319071+(1.81382*LOG10(C9))+(1.04242*LOG10(D9)))),IF((B9)="Hw",POWER(10,(-4.41882+(1.86778*LOG10(C9))+(1.09989*LOG10(D9)))),IF((B9)="Sx",POWER(10,(-4.310416+(1.82284*LOG10(C9))+(1.05729*LOG10(D9)))),IF((B9)="Se",POWER(10,(-4.310416+(1.82284*LOG10(C9))+(1.05729*LOG10(D9)))),IF((B9)="Dr",POWER(10,(-4.431705+(1.89057*LOG10(C9))+(1.09077*LOG10(D9)))),IF((B9)="Pw",POWER(10,(-4.3005226+(1.8578*LOG10(C9))+(1.02225*LOG10(D9)))),IF((B9)="Yc",POWER(10,(-4.187127+(1.77736*LOG10(C9))+(1.03299*LOG10(D9)))),"Unknown Species")))))))))))))) -> Not Measured | I9: 8 | J9: =SUM(G205:G233) -> 0 | K9: =J9*200 -> 0 | O9: Bl | P9: Subalpine Fir | R9: DFN | S9: L | U9: H | V9: =POWER(10,(-4.648431+(1.73518*LOG10(C2))+(1.35601*LOG10(D2)))) -> #NUM! | W9: =POWER(10,(-4.648431+(1.73518*LOG10(C2))+(1.35601*LOG10(D2)))) -> #NUM! | X9: =POWER(10,(-4.648431+(1.73518*LOG10(C2))+(1.35601*LOG10(D2)))) -> #NUM! | Y9: =POWER(10,(-4.419728+(1.89476*LOG10(C2))+(1.05373*LOG10(D2)))) -> #NUM! | Z9: =POWER(10,(-4.291919+(1.87293*LOG10(C2))+(0.998274*LOG10(D2)))) -> #NUM! | AA9: =POWER(10,(-4.291919+(1.87293*LOG10(C2))+(0.998274*LOG10(D2)))) -> #NUM! | AB9: =POWER(10,(-4.291919+(1.87293*LOG10(C2))+(0.998274*LOG10(D2)))) -> #NUM! | AC9: =POWER(10,(-4.291919+(1.87293*LOG10(C2))+(0.998274*LOG10(D2)))) -> #NUM! | AD9: =POWER(10,(-4.291919+(1.87293*LOG10(C2))+(0.998274*LOG10(D2)))) -> #NUM! | AE9: =POWER(10,(-4.178431+(1.75995*LOG10(C2))+(1.01908*LOG10(D2)))) -> #NUM! | AF9: - | AG9: =POWER(10,(-4.443142+(1.90956*LOG10(C2))+(1.05205*LOG10(D2)))) -> #NUM! | AH9: =POWER(10,(-4.443142+(1.90956*LOG10(C2))+(1.05205*LOG10(D2)))) -> #NUM! | AI9: =POWER(10,(-4.383102+(1.74294*LOG10(C2))+(1.15641*LOG10(D2)))) -> #NUM! | AJ9: =POWER(10,(-4.383102+(1.74294*LOG10(C2))+(1.15641*LOG10(D2)))) -> #NUM! | AK9: =POWER(10,(-4.383102+(1.74294*LOG10(C2))+(1.15641*LOG10(D2)))) -> #NUM! | AL9: =POWER(10,(-4.41882+(1.86778*LOG10(C2))+(1.09989*LOG10(D2)))) -> #NUM! | AM9: =POWER(10,(-4.394633+(1.9429*LOG10(C2))+(0.990275*LOG10(D2)))) -> #NUM! | AN9: =POWER(10,(-4.350486+(1.7236*LOG10(C2))+(1.13527*LOG10(D2)))) -> #NUM! | AO9: =POWER(10,(-4.350486+(1.7236*LOG10(C2))+(1.13527*LOG10(D2)))) -> #NUM! | AP9: - | AQ9: =POWER(10,(-4.350486+(1.7236*LOG10(C2))+(1.13527*LOG10(D2)))) -> #NUM! | AR9: - | AS9: =POWER(10,(-4.300522+(1.8578*LOG10(C2))+(1.02225*LOG10(D2)))) -> #NUM! | AT9: =POWER(10,(-4.300522+(1.8578*LOG10(C2))+(1.02225*LOG10(D2)))) -> #NUM! | AU9: =POWER(10,(-4.349054+(1.82276*LOG10(C2))+(1.10812*LOG10(D2)))) -> #NUM! | AV9: =POWER(10,(-4.349054+(1.82276*LOG10(C2))+(1.10812*LOG10(D2)))) -> #NUM! | AW9: =POWER(10,(-4.349054+(1.82276*LOG10(C2))+(1.10812*LOG10(D2)))) -> #NUM! | AX9: =POWER(10,(-4.349054+(1.82276*LOG10(C2))+(1.10812*LOG10(D2)))) -> #NUM! | AY9: =POWER(10,(-4.3005226+(1.8578*LOG10(C2))+(1.02225*LOG10(D2)))) -> #NUM! | AZ9: - | BA9: =POWER(10,(-4.294193+(1.85859*LOG10(C2))+(1.00779*LOG10(D2)))) -> #NUM! | BB9: =POWER(10,(-4.294193+(1.85859*LOG10(C2))+(1.00779*LOG10(D2)))) -> #NUM! | BC9: =POWER(10,(-4.294193+(1.85859*LOG10(C2))+(1.00779*LOG10(D2)))) -> #NUM! | BD9: - | BE9: =POWER(10,(-4.294193+(1.85859*LOG10(C2))+(1.00779*LOG10(D2)))) -> #NUM! | BF9: =POWER(10,(-4.294193+(1.85859*LOG10(C2))+(1.00779*LOG10(D2)))) -> #NUM! | BG9: =POWER(10,(-4.294193+(1.85859*LOG10(C2))+(1.00779*LOG10(D2)))) -> #NUM! | BH9: =POWER(10,(-4.294193+(1.85859*LOG10(C2))+(1.00779*LOG10(D2)))) -> #NUM! | BI9: =POWER(10,(-4.294193+(1.85859*LOG10(C2))+(1.00779*LOG10(D2)))) -> #NUM! | BJ9: =POWER(10,(-4.294193+(1.85859*LOG10(C2))+(1.00779*LOG10(D2)))) -> #NUM! | BK9: =POWER(10,(-4.294193+(1.85859*LOG10(C2))+(1.00779*LOG10(D2)))) -> #NUM! | BL9: =POWER(10,(-4.294193+(1.85859*LOG10(C2))+(1.00779*LOG10(D2)))) -> #NUM! | BM9: - | BN9: - | BO9: Nechako, Fraser Plateau Region. Lodgepole pine-Fir-Spruce type
A10: 1 | B10: ='Plot (1)'!W20 -> 0 | C10: ='Plot (1)'!X20 -> 0 | D10: ='Plot (1)'!Y20 -> 0 | E10: =E9 -> FALSE | G10: =IF(D10=0,"Not Measured",(IF((B10)=0,"No Species",IF((B10)="Pl",POWER(10,(-4.349054+(1.82276*LOG10(C10))+(1.10812*LOG10(D10)))),IF((B10)="Pli",POWER(10,(-4.349054+(1.82276*LOG10(C10))+(1.10812*LOG10(D10)))),IF((B10)="Cw",POWER(10,(-4.139118+(1.71677*LOG10(C10))+(1.04742*LOG10(D10)))),IF((B10)="Bl",POWER(10,(-4.266202+(1.78296*LOG10(C10))+(1.10382*LOG10(D10)))),IF((B10)="Fd",POWER(10,(-4.319071+(1.81382*LOG10(C10))+(1.04242*LOG10(D10)))),IF((B10)="Hw",POWER(10,(-4.41882+(1.86778*LOG10(C10))+(1.09989*LOG10(D10)))),IF((B10)="Sx",POWER(10,(-4.310416+(1.82284*LOG10(C10))+(1.05729*LOG10(D10)))),IF((B10)="Se",POWER(10,(-4.310416+(1.82284*LOG10(C10))+(1.05729*LOG10(D10)))),IF((B10)="Dr",POWER(10,(-4.431705+(1.89057*LOG10(C10))+(1.09077*LOG10(D10)))),IF((B10)="Pw",POWER(10,(-4.3005226+(1.8578*LOG10(C10))+(1.02225*LOG10(D10)))),IF((B10)="Yc",POWER(10,(-4.187127+(1.77736*LOG10(C10))+(1.03299*LOG10(D10)))),"Unknown Species")))))))))))))) -> Not Measured | I10: 9 | J10: =SUM(G234:G262) -> 0 | K10: =J10*200 -> 0 | O10: Bn | P10: Nobel Fir | R10: DHW | S10: G | U10: I | V10: =POWER(10,(-4.648431+(1.73518*LOG10(C2))+(1.35601*LOG10(D2)))) -> #NUM! | W10: =POWER(10,(-4.648431+(1.73518*LOG10(C2))+(1.35601*LOG10(D2)))) -> #NUM! | X10: =POWER(10,(-4.648431+(1.73518*LOG10(C2))+(1.35601*LOG10(D2)))) -> #NUM! | Y10: =POWER(10,(-4.419728+(1.89476*LOG10(C2))+(1.05373*LOG10(D2)))) -> #NUM! | Z10: =POWER(10,(-4.291919+(1.87293*LOG10(C2))+(0.998274*LOG10(D2)))) -> #NUM! | AA10: =POWER(10,(-4.291919+(1.87293*LOG10(C2))+(0.998274*LOG10(D2)))) -> #NUM! | AB10: =POWER(10,(-4.291919+(1.87293*LOG10(C2))+(0.998274*LOG10(D2)))) -> #NUM! | AC10: =POWER(10,(-4.291919+(1.87293*LOG10(C2))+(0.998274*LOG10(D2)))) -> #NUM! | AD10: =POWER(10,(-4.291919+(1.87293*LOG10(C2))+(0.998274*LOG10(D2)))) -> #NUM! | AE10: =POWER(10,(-4.178431+(1.75995*LOG10(C2))+(1.01908*LOG10(D2)))) -> #NUM! | AF10: - | AG10: =POWER(10,(-4.443142+(1.90956*LOG10(C2))+(1.05205*LOG10(D2)))) -> #NUM! | AH10: =POWER(10,(-4.443142+(1.90956*LOG10(C2))+(1.05205*LOG10(D2)))) -> #NUM! | AI10: =POWER(10,(-4.383102+(1.74294*LOG10(C2))+(1.15641*LOG10(D2)))) -> #NUM! | AJ10: =POWER(10,(-4.383102+(1.74294*LOG10(C2))+(1.15641*LOG10(D2)))) -> #NUM! | AK10: =POWER(10,(-4.383102+(1.74294*LOG10(C2))+(1.15641*LOG10(D2)))) -> #NUM! | AL10: =POWER(10,(-4.41882+(1.86778*LOG10(C2))+(1.09989*LOG10(D2)))) -> #NUM! | AM10: =POWER(10,(-4.394633+(1.9429*LOG10(C2))+(0.990275*LOG10(D2)))) -> #NUM! | AN10: =POWER(10,(-4.350486+(1.7236*LOG10(C2))+(1.13527*LOG10(D2)))) -> #NUM! | AO10: =POWER(10,(-4.350486+(1.7236*LOG10(C2))+(1.13527*LOG10(D2)))) -> #NUM! | AP10: - | AQ10: =POWER(10,(-4.350486+(1.7236*LOG10(C2))+(1.13527*LOG10(D2)))) -> #NUM! | AR10: - | AS10: =POWER(10,(-4.300522+(1.8578*LOG10(C2))+(1.02225*LOG10(D2)))) -> #NUM! | AT10: =POWER(10,(-4.300522+(1.8578*LOG10(C2))+(1.02225*LOG10(D2)))) -> #NUM! | AU10: =POWER(10,(-4.349054+(1.82276*LOG10(C2))+(1.10812*LOG10(D2)))) -> #NUM! | AV10: =POWER(10,(-4.349054+(1.82276*LOG10(C2))+(1.10812*LOG10(D2)))) -> #NUM! | AW10: =POWER(10,(-4.349054+(1.82276*LOG10(C2))+(1.10812*LOG10(D2)))) -> #NUM! | AX10: =POWER(10,(-4.349054+(1.82276*LOG10(C2))+(1.10812*LOG10(D2)))) -> #NUM! | AY10: - | AZ10: - | BA10: =POWER(10,(-4.294193+(1.85859*LOG10(C2))+(1.00779*LOG10(D2)))) -> #NUM! | BB10: =POWER(10,(-4.294193+(1.85859*LOG10(C2))+(1.00779*LOG10(D2)))) -> #NUM! | BC10: =POWER(10,(-4.294193+(1.85859*LOG10(C2))+(1.00779*LOG10(D2)))) -> #NUM! | BD10: - | BE10: =POWER(10,(-4.294193+(1.85859*LOG10(C2))+(1.00779*LOG10(D2)))) -> #NUM! | BF10: =POWER(10,(-4.294193+(1.85859*LOG10(C2))+(1.00779*LOG10(D2)))) -> #NUM! | BG10: =POWER(10,(-4.294193+(1.85859*LOG10(C2))+(1.00779*LOG10(D2)))) -> #NUM! | BH10: =POWER(10,(-4.294193+(1.85859*LOG10(C2))+(1.00779*LOG10(D2)))) -> #NUM! | BI10: =POWER(10,(-4.294193+(1.85859*LOG10(C2))+(1.00779*LOG10(D2)))) -> #NUM! | BJ10: =POWER(10,(-4.294193+(1.85859*LOG10(C2))+(1.00779*LOG10(D2)))) -> #NUM! | BK10: =POWER(10,(-4.294193+(1.85859*LOG10(C2))+(1.00779*LOG10(D2)))) -> #NUM! | BL10: =POWER(10,(-4.294193+(1.85859*LOG10(C2))+(1.00779*LOG10(D2)))) -> #NUM! | BM10: - | BN10: - | BO10: Central Interior Region. Lodgepole pine-Spruce-Balsam type
