Workbook
Name BEC: '[1]Validation Lists'!$F$2:$F$230
Name BEC: '[2]Validation Lists'!$F$2:$F$230
Name BEC: 'Validation Lists'!$F$2:$F$230
Name Day: '[1]Validation Lists'!$C$2:$C$32
Name Day: '[2]Validation Lists'!$C$2:$C$32
Name Day: 'Validation Lists'!$C$2:$C$32
Name declared_etc: #REF!
Name District: '[1]Validation Lists'!$D$2:$D$30
Name District: '[2]Validation Lists'!$D$2:$D$30
Name District: 'Validation Lists'!$D$2:$D$30
Name Month: '[1]Validation Lists'!$B$2:$B$13
Name Month: '[2]Validation Lists'!$B$2:$B$13
Name Month: 'Validation Lists'!$B$2:$B$13
Name Part3: #REF!
Name PEST: #REF!
Name Species: '[1]Validation Lists'!$G$2:$G$111
Name Species: '[2]Validation Lists'!$G$2:$G$111
Name Species: 'Validation Lists'!#REF!
Name TreeSpecies: 'Validation Lists'!$G$2:$G$46
Name TSA: '[1]Validation Lists'!$E$2:$E$38
Name TSA: '[2]Validation Lists'!$E$2:$E$38
Name TSA: 'Validation Lists'!$E$2:$E$38
Name UTM: '[1]Validation Lists'!$H$2:$H$6
Name UTM: '[2]Validation Lists'!$H$2:$H$6
Name UTM: 'Validation Lists'!$H$2:$H$6
Name Year: '[1]Validation Lists'!$A$2:$A$23
Name Year: '[2]Validation Lists'!$A$2:$A$23
Name Year: 'Validation Lists'!$A$2:$A$23

Sheet Plot (1)
G1: STAND DEVELOPMENT MONITORING FIELD CARD | N1: SURVEYOR NAME(S) | X1: YEAR | Y1: MONTH | Z1: DAY | AA1: PAGE | AC1: OF
AA2: 1 | AC2: 10
A3: MAPSHEET - OPENING NO. | H3: POLYGON | J3: LOCATION | U3: DISTRICT | X3: TSA | AA3: BEC
A5: POINT OF COMMENCEMENT / BEARING & DISTANCE TO THIS PLOT | U5: UTM ZONE | W5: EASTING | AA5: NORTHING
A7: PLOT NO. (3.99m) | F7: MITD (ORIG) | H7: M-VALUE (ORIG) | J7: FOREST HEALTH DAMAGE AGENTS | T7: PREF./ACC. | V7: PREFERRED SPP (ORIG)
A8: 1
A9: TREE SPP | C9: Layer | D9: TOTAL TREES | E9: TOTAL CON. | F9: DEAD TREES | G9: DEAD CON. | H9: WS | I9: FG | J9: LIVE | K9: DEAD | L9: LIVE | M9: DEAD | N9: LIVE | O9: DEAD | P9: LIVE | Q9: DEAD | R9: LIVE | S9: DEAD | T9: WS | U9: FG | V9: ACCEPTABLE SPP(ORIG)
C10: TOTALS> | D10: =SUM(D11:D40) -> 0 | E10: =SUM(E11:E40) -> 0 | F10: =SUM(F11:F40) -> 0 | G10: =SUM(G11:G40) -> 0 | H10: =SUM(H11:H40) -> 0 | I10: =SUM(I11:I40) -> 0 | J10: =SUM(J11:J40) -> 0 | K10: =SUM(K11:K40) -> 0 | ... U10: =SUM(U11:U40) -> 0 | V10: DATA VOLUME TREE | AA10: GROWTH INTERCEPT SAMPLE (5.64m)
C11: 1 | V11: L/D | W11: SSP | X11: DBH | Y11: HT | Z11: FHF
C12: 2 | AA12: SPP
C13: 3 | AA13: DBH
C14: 1 | AA14: TOT HT
C15: 2 | AA15: AGE@1.3M
C16: 3 | AA16: SITE INDEX
C17: 1 | AA17: NOTES
C18: 2
C19: 3
C20: 1
C21: 2
C22: 3
C23: 1
C24: 2
C25: 3
C26: 1
C27: 2
C28: 3
C29: 1
... C40: 3
A41: ACCESS NOTES: | T41: INVENTORY LABEL | Z41: Minor Spp. | AD41: CR CL
T42: Ldg Spp | W42: 2 nd Spp
T43: % | U43: Age | V43: Ht(m) | W43: % | X43: Age | Y43: Ht(m) | Z43: % | AA43: % | AB43: % | AC43: % | AD43: %

Sheet Plot (2)
G1: STAND DEVELOPMENT MONITORING FIELD CARD | N1: SURVEYOR NAME(S) | X1: YEAR | Y1: MONTH | Z1: DAY | AA1: PAGE | AC1: OF
N2: ='Plot (1)'!N2:W2 -> 0 | X2: ='Plot (1)'!X2 -> 0 | Y2: ='Plot (1)'!Y2 -> 0 | Z2: ='Plot (1)'!Z2 -> 0 | AA2: 2 | AC2: 10
A3: MAPSHEET - OPENING NO. | H3: POLYGON | J3: LOCATION | U3: DISTRICT | X3: TSA | AA3: BEC
A4: ='Plot (1)'!A4:G4 -> 0 | H4: ='Plot (1)'!H4:I4 -> 0 | J4: ='Plot (1)'!J4:T4 -> 0 | U4: ='Plot (1)'!U4:W4 -> 0 | X4: ='Plot (1)'!X4:Z4 -> 0 | AA4: ='Plot (1)'!AA4:AD4 -> 0
A5: POINT OF COMMENCEMENT / BEARING & DISTANCE TO THIS PLOT | U5: UTM ZONE | W5: EASTING | AA5: NORTHING
U6: ='Plot (1)'!U6:V6 -> 0
A7: PLOT NO. (3.99m) | F7: MITD (ORIG) | H7: M-VALUE (ORIG) | J7: FOREST HEALTH DAMAGE AGENTS | T7: PREF./ACC. | V7: PREFERRED SPP (ORIG) | Z7: ='Plot (1)'!Z7:AD8 -> 0
A8: 2 | F8: ='Plot (1)'!F8:G8 -> 0 | H8: ='Plot (1)'!H8:I8 -> 0
A9: TREE SPP | C9: Layer | D9: TOTAL TREES | E9: TOTAL CON. | F9: DEAD TREES | G9: DEAD CON. | H9: WS | I9: FG | J9: LIVE | K9: DEAD | L9: LIVE | M9: DEAD | N9: LIVE | O9: DEAD | P9: LIVE | Q9: DEAD | R9: LIVE | S9: DEAD | T9: WS | U9: FG | V9: ACCEPTABLE SPP(ORIG) | Z9: ='Plot (1)'!Z9:AD9 -> 0
C10: TOTALS> | D10: =SUM(D11:D40) -> 0 | E10: =SUM(E11:E40) -> 0 | F10: =SUM(F11:F40) -> 0 | G10: =SUM(G11:G40) -> 0 | H10: =SUM(H11:H40) -> 0 | I10: =SUM(I11:I40) -> 0 | J10: =SUM(J11:J40) -> 0 | K10: =SUM(K11:K40) -> 0 | ... U10: =SUM(U11:U40) -> 0 | V10: DATA VOLUME TREE | AA10: GROWTH INTERCEPT SAMPLE (5.64m)
C11: 1 | V11: L/D | W11: SSP | X11: DBH | Y11: HT | Z11: FHF
C12: 2 | AA12: SPP
C13: 3 | AA13: DBH
C14: 1 | AA14: TOT HT
C15: 2 | AA15: AGE@1.3M
C16: 3 | AA16: SITE INDEX
C17: 1 | AA17: NOTES
C18: 2
C19: 3
C20: 1
C21: 2
C22: 3
C23: 1
C24: 2
C25: 3
C26: 1
C27: 2
C28: 3
C29: 1
... C40: 3
A41: ACCESS NOTES: | T41: INVENTORY LABEL | Z41: Minor Spp. | AD41: CR CL
T42: Ldg Spp | W42: 2 nd Spp
T43: % | U43: Age | V43: Ht(m) | W43: % | X43: Age | Y43: Ht(m) | Z43: % | AA43: % | AB43: % | AC43: % | AD43: %

Sheet Plot (3)
G1: STAND DEVELOPMENT MONITORING FIELD CARD | N1: SURVEYOR NAME(S) | X1: YEAR | Y1: MONTH | Z1: DAY | AA1: PAGE | AC1: OF
N2: ='Plot (1)'!N2:W2 -> 0 | X2: ='Plot (1)'!X2 -> 0 | Y2: ='Plot (1)'!Y2 -> 0 | Z2: ='Plot (1)'!Z2 -> 0 | AA2: 3 | AC2: 10
A3: MAPSHEET - OPENING NO. | H3: POLYGON | J3: LOCATION | U3: DISTRICT | X3: TSA | AA3: BEC
A4: ='Plot (1)'!A4:G4 -> 0 | H4: ='Plot (1)'!H4:I4 -> 0 | J4: ='Plot (1)'!J4:T4 -> 0 | U4: ='Plot (1)'!U4:W4 -> 0 | X4: ='Plot (1)'!X4:Z4 -> 0 | AA4: ='Plot (1)'!AA4:AD4 -> 0
A5: POINT OF COMMENCEMENT / BEARING & DISTANCE TO THIS PLOT | U5: UTM ZONE | W5: EASTING | AA5: NORTHING
U6: ='Plot (1)'!U6:V6 -> 0
A7: PLOT NO. (3.99m) | F7: MITD (ORIG) | H7: M-VALUE (ORIG) | J7: FOREST HEALTH DAMAGE AGENTS | T7: PREF./ACC. | V7: PREFERRED SPP (ORIG) | Z7: ='Plot (1)'!Z7:AD8 -> 0
A8: 3 | F8: ='Plot (1)'!F8:G8 -> 0 | H8: ='Plot (1)'!H8:I8 -> 0
A9: TREE SPP | C9: Layer | D9: TOTAL TREES | E9: TOTAL CON. | F9: DEAD TREES | G9: DEAD CON. | H9: WS | I9: FG | J9: LIVE | K9: DEAD | L9: LIVE | M9: DEAD | N9: LIVE | O9: DEAD | P9: LIVE | Q9: DEAD | R9: LIVE | S9: DEAD | T9: WS | U9: FG | V9: ACCEPTABLE SPP(ORIG) | Z9: ='Plot (1)'!Z9:AD9 -> 0
C10: TOTALS> | D10: =SUM(D11:D40) -> 0 | E10: =SUM(E11:E40) -> 0 | F10: =SUM(F11:F40) -> 0 | G10: =SUM(G11:G40) -> 0 | H10: =SUM(H11:H40) -> 0 | I10: =SUM(I11:I40) -> 0 | J10: =SUM(J11:J40) -> 0 | K10: =SUM(K11:K40) -> 0 | ... U10: =SUM(U11:U40) -> 0 | V10: DATA VOLUME TREE | AA10: GROWTH INTERCEPT SAMPLE (5.64m)
C11: 1 | V11: L/D | W11: SSP | X11: DBH | Y11: HT | Z11: FHF
C12: 2 | AA12: SPP
C13: 3 | AA13: DBH
C14: 1 | AA14: TOT HT
C15: 2 | AA15: AGE@1.3M
C16: 3 | AA16: SITE INDEX
C17: 1 | AA17: NOTES
C18: 2
C19: 3
C20: 1
C21: 2
C22: 3
C23: 1
C24: 2
C25: 3
C26: 1
C27: 2
C28: 3
C29: 1
... C40: 3
A41: ACCESS NOTES: | T41: INVENTORY LABEL | Z41: Minor Spp. | AD41: CR CL
T42: Ldg Spp | W42: 2 nd Spp
T43: % | U43: Age | V43: Ht(m) | W43: % | X43: Age | Y43: Ht(m) | Z43: % | AA43: % | AB43: % | AC43: % | AD43: %

Sheet Plot (4)
G1: STAND DEVELOPMENT MONITORING FIELD CARD | N1: SURVEYOR NAME(S) | X1: YEAR | Y1: MONTH | Z1: DAY | AA1: PAGE | AC1: OF
N2: ='Plot (1)'!N2:W2 -> 0 | X2: ='Plot (1)'!X2 -> 0 | Y2: ='Plot (1)'!Y2 -> 0 | Z2: ='Plot (1)'!Z2 -> 0 | AA2: 4 | AC2: 10
A3: MAPSHEET - OPENING NO. | H3: POLYGON | J3: LOCATION | U3: DISTRICT | X3: TSA | AA3: BEC
A4: ='Plot (1)'!A4:G4 -> 0 | H4: ='Plot (1)'!H4:I4 -> 0 | J4: ='Plot (1)'!J4:T4 -> 0 | U4: ='Plot (1)'!U4:W4 -> 0 | X4: ='Plot (1)'!X4:Z4 -> 0 | AA4: ='Plot (1)'!AA4:AD4 -> 0
A5: POINT OF COMMENCEMENT / BEARING & DISTANCE TO THIS PLOT | U5: UTM ZONE | W5: EASTING | AA5: NORTHING
U6: ='Plot (1)'!U6:V6 -> 0
A7: PLOT NO. (3.99m) | F7: MITD (ORIG) | H7: M-VALUE (ORIG) | J7: FOREST HEALTH DAMAGE AGENTS | T7: PREF./ACC. | V7: PREFERRED SPP (ORIG) | Z7: ='Plot (1)'!Z7:AD8 -> 0
A8: 4 | F8: ='Plot (1)'!F8:G8 -> 0 | H8: ='Plot (1)'!H8:I8 -> 0
A9: TREE SPP | C9: Layer | D9: TOTAL TREES | E9: TOTAL CON. | F9: DEAD TREES | G9: DEAD CON. | H9: WS | I9: FG | J9: LIVE | K9: DEAD | L9: LIVE | M9: DEAD | N9: LIVE | O9: DEAD | P9: LIVE | Q9: DEAD | R9: LIVE | S9: DEAD | T9: WS | U9: FG | V9: ACCEPTABLE SPP(ORIG) | Z9: ='Plot (1)'!Z9:AD9 -> 0
C10: TOTALS> | D10: =SUM(D11:D40) -> 0 | E10: =SUM(E11:E40) -> 0 | F10: =SUM(F11:F40) -> 0 | G10: =SUM(G11:G40) -> 0 | H10: =SUM(H11:H40) -> 0 | I10: =SUM(I11:I40) -> 0 | J10: =SUM(J11:J40) -> 0 | K10: =SUM(K11:K40) -> 0 | ... U10: =SUM(U11:U40) -> 0 | V10: DATA VOLUME TREE | AA10: GROWTH INTERCEPT SAMPLE (5.64m)
C11: 1 | V11: L/D | W11: SSP | X11: DBH | Y11: HT | Z11: FHF
C12: 2 | AA12: SPP
C13: 3 | AA13: DBH
C14: 1 | AA14: TOT HT
C15: 2 | AA15: AGE@1.3M
C16: 3 | AA16: SITE INDEX
C17: 1 | AA17: NOTES
C18: 2
C19: 3
C20: 1
C21: 2
C22: 3
C23: 1
C24: 2
C25: 3
C26: 1
C27: 2
C28: 3
C29: 1
... C40: 3
A41: ACCESS NOTES: | T41: INVENTORY LABEL | Z41: Minor Spp. | AD41: CR CL
T42: Ldg Spp | W42: 2 nd Spp
T43: % | U43: Age | V43: Ht(m) | W43: % | X43: Age | Y43: Ht(m) | Z43: % | AA43: % | AB43: % | AC43: % | AD43: %

Sheet Plot (5)
G1: STAND DEVELOPMENT MONITORING FIELD CARD | N1: SURVEYOR NAME(S) | X1: YEAR | Y1: MONTH | Z1: DAY | AA1: PAGE | AC1: OF
N2: ='Plot (1)'!N2:W2 -> 0 | X2: ='Plot (1)'!X2 -> 0 | Y2: ='Plot (1)'!Y2 -> 0 | Z2: ='Plot (1)'!Z2 -> 0 | AA2: 5 | AC2: 10
A3: MAPSHEET - OPENING NO. | H3: POLYGON | J3: LOCATION | U3: DISTRICT | X3: TSA | AA3: BEC
A4: ='Plot (1)'!A4:G4 -> 0 | H4: ='Plot (1)'!H4:I4 -> 0 | J4: ='Plot (1)'!J4:T4 -> 0 | U4: ='Plot (1)'!U4:W4 -> 0 | X4: ='Plot (1)'!X4:Z4 -> 0 | AA4: ='Plot (1)'!AA4:AD4 -> 0
A5: POINT OF COMMENCEMENT / BEARING & DISTANCE TO THIS PLOT | U5: UTM ZONE | W5: EASTING | AA5: NORTHING
U6: ='Plot (1)'!U6:V6 -> 0
A7: PLOT NO. (3.99m) | F7: MITD (ORIG) | H7: M-VALUE (ORIG) | J7: FOREST HEALTH DAMAGE AGENTS | T7: PREF./ACC. | V7: PREFERRED SPP (ORIG) | Z7: ='Plot (1)'!Z7:AD8 -> 0
A8: 5 | F8: ='Plot (1)'!F8:G8 -> 0 | H8: ='Plot (1)'!H8:I8 -> 0
A9: TREE SPP | C9: Layer | D9: TOTAL TREES | E9: TOTAL CON. | F9: DEAD TREES | G9: DEAD CON. | H9: WS | I9: FG | J9: LIVE | K9: DEAD | L9: LIVE | M9: DEAD | N9: LIVE | O9: DEAD | P9: LIVE | Q9: DEAD | R9: LIVE | S9: DEAD | T9: WS | U9: FG | V9: ACCEPTABLE SPP(ORIG) | Z9: ='Plot (1)'!Z9:AD9 -> 0
C10: TOTALS> | D10: =SUM(D11:D40) -> 0 | E10: =SUM(E11:E40) -> 0 | F10: =SUM(F11:F40) -> 0 | G10: =SUM(G11:G40) -> 0 | H10: =SUM(H11:H40) -> 0 | I10: =SUM(I11:I40) -> 0 | J10: =SUM(J11:J40) -> 0 | K10: =SUM(K11:K40) -> 0 | ... U10: =SUM(U11:U40) -> 0 | V10: DATA VOLUME TREE | AA10: GROWTH INTERCEPT SAMPLE (5.64m)
C11: 1 | V11: L/D | W11: SSP | X11: DBH | Y11: HT | Z11: FHF
C12: 2 | AA12: SPP
C13: 3 | AA13: DBH
C14: 1 | AA14: TOT HT
C15: 2 | AA15: AGE@1.3M
C16: 3 | AA16: SITE INDEX
C17: 1 | AA17: NOTES
C18: 2
C19: 3
C20: 1
C21: 2
C22: 3
C23: 1
C24: 2
C25: 3
C26: 1
C27: 2
C28: 3
C29: 1
... C40: 3
A41: ACCESS NOTES: | T41: INVENTORY LABEL | Z41: Minor Spp. | AD41: CR CL
T42: Ldg Spp | W42: 2 nd Spp
T43: % | U43: Age | V43: Ht(m) | W43: % | X43: Age | Y43: Ht(m) | Z43: % | AA43: % | AB43: % | AC43: % | AD43: %

Sheet Plot (6)
G1: STAND DEVELOPMENT MONITORING FIELD CARD | N1: SURVEYOR NAME(S) | X1: YEAR | Y1: MONTH | Z1: DAY | AA1: PAGE | AC1: OF
N2: ='Plot (1)'!N2:W2 -> 0 | X2: ='Plot (1)'!X2 -> 0 | Y2: ='Plot (1)'!Y2 -> 0 | Z2: ='Plot (1)'!Z2 -> 0 | AA2: 6 | AC2: 10
A3: MAPSHEET - OPENING NO. | H3: POLYGON | J3: LOCATION | U3: DISTRICT | X3: TSA | AA3: BEC
A4: ='Plot (1)'!A4:G4 -> 0 | H4: ='Plot (1)'!H4:I4 -> 0 | J4: ='Plot (1)'!J4:T4 -> 0 | U4: ='Plot (1)'!U4:W4 -> 0 | X4: ='Plot (1)'!X4:Z4 -> 0 | AA4: ='Plot (1)'!AA4:AD4 -> 0
A5: POINT OF COMMENCEMENT / BEARING & DISTANCE TO THIS PLOT | U5: UTM ZONE | W5: EASTING | AA5: NORTHING
U6: ='Plot (1)'!U6:V6 -> 0
A7: PLOT NO. (3.99m) | F7: MITD (ORIG) | H7: M-VALUE (ORIG) | J7: FOREST HEALTH DAMAGE AGENTS | T7: PREF./ACC. | V7: PREFERRED SPP (ORIG) | Z7: ='Plot (1)'!Z7:AD8 -> 0
A8: 6 | F8: ='Plot (1)'!F8:G8 -> 0 | H8: ='Plot (1)'!H8:I8 -> 0
A9: TREE SPP | C9: Layer | D9: TOTAL TREES | E9: TOTAL CON. | F9: DEAD TREES | G9: DEAD CON. | H9: WS | I9: FG | J9: LIVE | K9: DEAD | L9: LIVE | M9: DEAD | N9: LIVE | O9: DEAD | P9: LIVE | Q9: DEAD | R9: LIVE | S9: DEAD | T9: WS | U9: FG | V9: ACCEPTABLE SPP(ORIG) | Z9: ='Plot (1)'!Z9:AD9 -> 0
C10: TOTALS> | D10: =SUM(D11:D40) -> 0 | E10: =SUM(E11:E40) -> 0 | F10: =SUM(F11:F40) -> 0 | G10: =SUM(G11:G40) -> 0 | H10: =SUM(H11:H40) -> 0 | I10: =SUM(I11:I40) -> 0 | J10: =SUM(J11:J40) -> 0 | K10: =SUM(K11:K40) -> 0 | ... U10: =SUM(U11:U40) -> 0 | V10: DATA VOLUME TREE | AA10: GROWTH INTERCEPT SAMPLE (5.64m)
C11: 1 | V11: L/D | W11: SSP | X11: DBH | Y11: HT | Z11: FHF
C12: 2 | AA12: SPP
C13: 3 | AA13: DBH
C14: 1 | AA14: TOT HT
C15: 2 | AA15: AGE@1.3M
C16: 3 | AA16: SITE INDEX
C17: 1 | AA17: NOTES
C18: 2
C19: 3
C20: 1
C21: 2
C22: 3
C23: 1
C24: 2
C25: 3
C26: 1
C27: 2
C28: 3
C29: 1
... C40: 3
A41: ACCESS NOTES: | T41: INVENTORY LABEL | Z41: Minor Spp. | AD41: CR CL
T42: Ldg Spp | W42: 2 nd Spp
T43: % | U43: Age | V43: Ht(m) | W43: % | X43: Age | Y43: Ht(m) | Z43: % | AA43: % | AB43: % | AC43: % | AD43: %

Sheet Plot (7)
G1: STAND DEVELOPMENT MONITORING FIELD CARD | N1: SURVEYOR NAME(S) | X1: YEAR | Y1: MONTH | Z1: DAY | AA1: PAGE | AC1: OF
N2: ='Plot (1)'!N2:W2 -> 0 | X2: ='Plot (1)'!X2 -> 0 | Y2: ='Plot (1)'!Y2 -> 0 | Z2: ='Plot (1)'!Z2 -> 0 | AA2: 7 | AC2: 10
A3: MAPSHEET - OPENING NO. | H3: POLYGON | J3: LOCATION | U3: DISTRICT | X3: TSA | AA3: BEC
A4: ='Plot (1)'!A4:G4 -> 0 | H4: ='Plot (1)'!H4:I4 -> 0 | J4: ='Plot (1)'!J4:T4 -> 0 | U4: ='Plot (1)'!U4:W4 -> 0 | X4: ='Plot (1)'!X4:Z4 -> 0 | AA4: ='Plot (1)'!AA4:AD4 -> 0
A5: POINT OF COMMENCEMENT / BEARING & DISTANCE TO THIS PLOT | U5: UTM ZONE | W5: EASTING | AA5: NORTHING
U6: ='Plot (1)'!U6:V6 -> 0
A7: PLOT NO. (3.99m) | F7: MITD (ORIG) | H7: M-VALUE (ORIG) | J7: FOREST HEALTH DAMAGE AGENTS | T7: PREF./ACC. | V7: PREFERRED SPP (ORIG) | Z7: ='Plot (1)'!Z7:AD8 -> 0
A8: 7 | F8: ='Plot (1)'!F8:G8 -> 0 | H8: ='Plot (1)'!H8:I8 -> 0
A9: TREE SPP | C9: Layer | D9: TOTAL TREES | E9: TOTAL CON. | F9: DEAD TREES | G9: DEAD CON. | H9: WS | I9: FG | J9: LIVE | K9: DEAD | L9: LIVE | M9: DEAD | N9: LIVE | O9: DEAD | P9: LIVE | Q9: DEAD | R9: LIVE | S9: DEAD | T9: WS | U9: FG | V9: ACCEPTABLE SPP(ORIG) | Z9: ='Plot (1)'!Z9:AD9 -> 0
C10: TOTALS> | D10: =SUM(D11:D40) -> 0 | E10: =SUM(E11:E40) -> 0 | F10: =SUM(F11:F40) -> 0 | G10: =SUM(G11:G40) -> 0 | H10: =SUM(H11:H40) -> 0 | I10: =SUM(I11:I40) -> 0 | J10: =SUM(J11:J40) -> 0 | K10: =SUM(K11:K40) -> 0 | ... U10: =SUM(U11:U40) -> 0 | V10: DATA VOLUME TREE | AA10: GROWTH INTERCEPT SAMPLE (5.64m)
C11: 1 | V11: L/D | W11: SSP | X11: DBH | Y11: HT | Z11: FHF
C12: 2 | AA12: SPP
C13: 3 | AA13: DBH
C14: 1 | AA14: TOT HT
C15: 2 | AA15: AGE@1.3M
C16: 3 | AA16: SITE INDEX
C17: 1 | AA17: NOTES
C18: 2
C19: 3
C20: 1
C21: 2
C22: 3
C23: 1
C24: 2
C25: 3
C26: 1
C27: 2
C28: 3
C29: 1
... C40: 3
A41: ACCESS NOTES: | T41: INVENTORY LABEL | Z41: Minor Spp. | AD41: CR CL
T42: Ldg Spp | W42: 2 nd Spp
T43: % | U43: Age | V43: Ht(m) | W43: % | X43: Age | Y43: Ht(m) | Z43: % | AA43: % | AB43: % | AC43: % | AD43: %

Sheet Plot (8)
G1: STAND DEVELOPMENT MONITORING FIELD CARD | N1: SURVEYOR NAME(S) | X1: YEAR | Y1: MONTH | Z1: DAY | AA1: PAGE | AC1: OF
N2: ='Plot (1)'!N2:W2 -> 0 | X2: ='Plot (1)'!X2 -> 0 | Y2: ='Plot (1)'!Y2 -> 0 | Z2: ='Plot (1)'!Z2 -> 0 | AA2: 8 | AC2: 10
A3: MAPSHEET - OPENING NO. | H3: POLYGON | J3: LOCATION | U3: DISTRICT | X3: TSA | AA3: BEC
A4: ='Plot (1)'!A4:G4 -> 0 | H4: ='Plot (1)'!H4:I4 -> 0 | J4: ='Plot (1)'!J4:T4 -> 0 | U4: ='Plot (1)'!U4:W4 -> 0 | X4: ='Plot (1)'!X4:Z4 -> 0 | AA4: ='Plot (1)'!AA4:AD4 -> 0
A5: POINT OF COMMENCEMENT / BEARING & DISTANCE TO THIS PLOT | U5: UTM ZONE | W5: EASTING | AA5: NORTHING
U6: ='Plot (1)'!U6:V6 -> 0
A7: PLOT NO. (3.99m) | F7: MITD (ORIG) | H7: M-VALUE (ORIG) | J7: FOREST HEALTH DAMAGE AGENTS | T7: PREF./ACC. | V7: PREFERRED SPP (ORIG) | Z7: ='Plot (1)'!Z7:AD8 -> 0
A8: 8 | F8: ='Plot (1)'!F8:G8 -> 0 | H8: ='Plot (1)'!H8:I8 -> 0
A9: TREE SPP | C9: Layer | D9: TOTAL TREES | E9: TOTAL CON. | F9: DEAD TREES | G9: DEAD CON. | H9: WS | I9: FG | J9: LIVE | K9: DEAD | L9: LIVE | M9: DEAD | N9: LIVE | O9: DEAD | P9: LIVE | Q9: DEAD | R9: LIVE | S9: DEAD | T9: WS | U9: FG | V9: ACCEPTABLE SPP(ORIG) | Z9: ='Plot (1)'!Z9:AD9 -> 0
C10: TOTALS> | D10: =SUM(D11:D40) -> 0 | E10: =SUM(E11:E40) -> 0 | F10: =SUM(F11:F40) -> 0 | G10: =SUM(G11:G40) -> 0 | H10: =SUM(H11:H40) -> 0 | I10: =SUM(I11:I40) -> 0 | J10: =SUM(J11:J40) -> 0 | K10: =SUM(K11:K40) -> 0 | ... U10: =SUM(U11:U40) -> 0 | V10: DATA VOLUME TREE | AA10: GROWTH INTERCEPT SAMPLE (5.64m)
C11: 1 | V11: L/D | W11: SSP | X11: DBH | Y11: HT | Z11: FHF
C12: 2 | AA12: SPP
C13: 3 | AA13: DBH
C14: 1 | AA14: TOT HT
C15: 2 | AA15: AGE@1.3M
C16: 3 | AA16: SITE INDEX
C17: 1 | AA17: NOTES
C18: 2
C19: 3
C20: 1
C21: 2
C22: 3
C23: 1
C24: 2
C25: 3
C26: 1
C27: 2
C28: 3
C29: 1
... C40: 3
A41: ACCESS NOTES: | T41: INVENTORY LABEL | Z41: Minor Spp. | AD41: CR CL
T42: Ldg Spp | W42: 2 nd Spp
T43: % | U43: Age | V43: Ht(m) | W43: % | X43: Age | Y43: Ht(m) | Z43: % | AA43: % | AB43: % | AC43: % | AD43: %

Sheet Plot (9)
G1: STAND DEVELOPMENT MONITORING FIELD CARD | N1: SURVEYOR NAME(S) | X1: YEAR | Y1: MONTH | Z1: DAY | AA1: PAGE | AC1: OF
N2: ='Plot (1)'!N2:W2 -> 0 | X2: ='Plot (1)'!X2 -> 0 | Y2: ='Plot (1)'!Y2 -> 0 | Z2: ='Plot (1)'!Z2 -> 0 | AA2: 9 | AC2: 10
A3: MAPSHEET - OPENING NO. | H3: POLYGON | J3: LOCATION | U3: DISTRICT | X3: TSA | AA3: BEC
A4: ='Plot (1)'!A4:G4 -> 0 | H4: ='Plot (1)'!H4:I4 -> 0 | J4: ='Plot (1)'!J4:T4 -> 0 | U4: ='Plot (1)'!U4:W4 -> 0 | X4: ='Plot (1)'!X4:Z4 -> 0 | AA4: ='Plot (1)'!AA4:AD4 -> 0
A5: POINT OF COMMENCEMENT / BEARING & DISTANCE TO THIS PLOT | U5: UTM ZONE | W5: EASTING | AA5: NORTHING
U6: ='Plot (1)'!U6:V6 -> 0
A7: PLOT NO. (3.99m) | F7: MITD (ORIG) | H7: M-VALUE (ORIG) | J7: FOREST HEALTH DAMAGE AGENTS | T7: PREF./ACC. | V7: PREFERRED SPP (ORIG) | Z7: ='Plot (1)'!Z7:AD8 -> 0
A8: 9 | F8: ='Plot (1)'!F8:G8 -> 0 | H8: ='Plot (1)'!H8:I8 -> 0
A9: TREE SPP | C9: Layer | D9: TOTAL TREES | E9: TOTAL CON. | F9: DEAD TREES | G9: DEAD CON. | H9: WS | I9: FG | J9: LIVE | K9: DEAD | L9: LIVE | M9: DEAD | N9: LIVE | O9: DEAD | P9: LIVE | Q9: DEAD | R9: LIVE | S9: DEAD | T9: WS | U9: FG | V9: ACCEPTABLE SPP(ORIG) | Z9: ='Plot (1)'!Z9:AD9 -> 0
C10: TOTALS> | D10: =SUM(D11:D40) -> 0 | E10: =SUM(E11:E40) -> 0 | F10: =SUM(F11:F40) -> 0 | G10: =SUM(G11:G40) -> 0 | H10: =SUM(H11:H40) -> 0 | I10: =SUM(I11:I40) -> 0 | J10: =SUM(J11:J40) -> 0 | K10: =SUM(K11:K40) -> 0 | ... U10: =SUM(U11:U40) -> 0 | V10: DATA VOLUME TREE | AA10: GROWTH INTERCEPT SAMPLE (5.64m)
C11: 1 | V11: L/D | W11: SSP | X11: DBH | Y11: HT | Z11: FHF
C12: 2 | AA12: SPP
C13: 3 | AA13: DBH
C14: 1 | AA14: TOT HT
C15: 2 | AA15: AGE@1.3M
C16: 3 | AA16: SITE INDEX
C17: 1 | AA17: NOTES
C18: 2
C19: 3
C20: 1
C21: 2
C22: 3
C23: 1
C24: 2
C25: 3
C26: 1
C27: 2
C28: 3
C29: 1
... C40: 3
A41: ACCESS NOTES: | T41: INVENTORY LABEL | Z41: Minor Spp. | AD41: CR CL
T42: Ldg Spp | W42: 2 nd Spp
T43: % | U43: Age | V43: Ht(m) | W43: % | X43: Age | Y43: Ht(m) | Z43: % | AA43: % | AB43: % | AC43: % | AD43: %

Sheet Plot (10)
G1: STAND DEVELOPMENT MONITORING FIELD CARD | N1: SURVEYOR NAME(S) | X1: YEAR | Y1: MONTH | Z1: DAY | AA1: PAGE | AC1: OF
N2: ='Plot (1)'!N2:W2 -> 0 | X2: ='Plot (1)'!X2 -> 0 | Y2: ='Plot (1)'!Y2 -> 0 | Z2: ='Plot (1)'!Z2 -> 0 | AA2: 10 | AC2: 10
A3: MAPSHEET - OPENING NO. | H3: POLYGON | J3: LOCATION | U3: DISTRICT | X3: TSA | AA3: BEC
A4: ='Plot (1)'!A4:G4 -> 0 | H4: ='Plot (1)'!H4:I4 -> 0 | J4: ='Plot (1)'!J4:T4 -> 0 | U4: ='Plot (1)'!U4:W4 -> 0 | X4: ='Plot (1)'!X4:Z4 -> 0 | AA4: ='Plot (1)'!AA4:AD4 -> 0
A5: POINT OF COMMENCEMENT / BEARING & DISTANCE TO THIS PLOT | U5: UTM ZONE | W5: EASTING | AA5: NORTHING
U6: ='Plot (1)'!U6:V6 -> 0
A7: PLOT NO. (3.99m) | F7: MITD (ORIG) | H7: M-VALUE (ORIG) | J7: FOREST HEALTH DAMAGE AGENTS | T7: PREF./ACC. | V7: PREFERRED SPP (ORIG) | Z7: ='Plot (1)'!Z7:AD8 -> 0
A8: 10 | F8: ='Plot (1)'!F8:G8 -> 0 | H8: ='Plot (1)'!H8:I8 -> 0
A9: TREE SPP | C9: Layer | D9: TOTAL TREES | E9: TOTAL CON. | F9: DEAD TREES | G9: DEAD CON. | H9: WS | I9: FG | J9: LIVE | K9: DEAD | L9: LIVE | M9: DEAD | N9: LIVE | O9: DEAD | P9: LIVE | Q9: DEAD | R9: LIVE | S9: DEAD | T9: WS | U9: FG | V9: ACCEPTABLE SPP(ORIG) | Z9: ='Plot (1)'!Z9:AD9 -> 0
C10: TOTALS> | D10: =SUM(D11:D40) -> 0 | E10: =SUM(E11:E40) -> 0 | F10: =SUM(F11:F40) -> 0 | G10: =SUM(G11:G40) -> 0 | H10: =SUM(H11:H40) -> 0 | I10: =SUM(I11:I40) -> 0 | J10: =SUM(J11:J40) -> 0 | K10: =SUM(K11:K40) -> 0 | ... U10: =SUM(U11:U40) -> 0 | V10: DATA VOLUME TREE | AA10: GROWTH INTERCEPT SAMPLE (5.64m)
C11: 1 | V11: L/D | W11: SSP | X11: DBH | Y11: HT | Z11: FHF
C12: 2 | AA12: SPP
C13: 3 | AA13: DBH
C14: 1 | AA14: TOT HT
C15: 2 | AA15: AGE@1.3M
C16: 3 | AA16: SITE INDEX
C17: 1 | AA17: NOTES
C18: 2
C19: 3
C20: 1
C21: 2 | AF21: Once you are finished entering your plot data, select the "Data" tab at the top of the page and select "Refresh All" to update the following tabs.
C22: 3
C23: 1
C24: 2
C25: 3
C26: 1
C27: 2
C28: 3
C29: 1
C30: 2
C31: 3
C32: 1
C33: 2
... C40: 3
A41: ACCESS NOTES: | T41: INVENTORY LABEL | Z41: Minor Spp. | AD41: CR CL
T42: Ldg Spp | W42: 2 nd Spp
T43: % | U43: Age | V43: Ht(m) | W43: % | X43: Age | Y43: Ht(m) | Z43: % | AA43: % | AB43: % | AC43: % | AD43: %

Sheet Quick Plot Summary
B2: MAPSHEET - OPENING NO. | G2: POLYGON
B3: =+'Plot (1)'!A4:G4 -> 0 | G3: =+'Plot (1)'!H4 -> 0
B4: PLOT | C4: TOTAL TREES | D4: TOTAL CON. | E4: DEAD TREES | F4: DEAD CON. | G4: WS | H4: FG
B5: Plot 1 | C5: =IF(CELL("type",('Plot (1)'!D$10))="b","Blank Cell",IF(CELL("type",('Plot (1)'!D$10))="v",IF(('Plot (1)'!D$10)=SUM('Plot (1)'!D$11:D$40),('Plot (1)'!D$10),"Addition or Text Error"))) -> 0 | D5: =IF(CELL("type",('Plot (1)'!E$10))="b","Blank Cell",IF(CELL("type",('Plot (1)'!E$10))="v",IF(('Plot (1)'!E$10)=SUM('Plot (1)'!E$11:E$40),('Plot (1)'!E$10),"Addition or Text Error"))) -> 0 | E5: =IF(CELL("type",('Plot (1)'!F$10))="b","Blank Cell",IF(CELL("type",('Plot (1)'!F$10))="v",IF(('Plot (1)'!F$10)=SUM('Plot (1)'!F$11:F$40),('Plot (1)'!F$10),"Addition or Text Error"))) -> 0 | F5: =IF(CELL("type",('Plot (1)'!G$10))="b","Blank Cell",IF(CELL("type",('Plot (1)'!G$10))="v",IF(('Plot (1)'!G$10)=SUM('Plot (1)'!G$11:G$40),('Plot (1)'!G$10),"Addition or Text Error"))) -> 0 | G5: =IF(CELL("type",('Plot (1)'!H$10))="b","Blank Cell",IF(CELL("type",('Plot (1)'!H$10))="v",IF(('Plot (1)'!H$10)=SUM('Plot (1)'!H$11:H$40),('Plot (1)'!H$10),"Addition or Text Error"))) -> 0 | H5: =IF(CELL("type",('Plot (1)'!I$10))="b","Blank Cell",IF(CELL("type",('Plot (1)'!I$10))="v",IF(('Plot (1)'!I$10)=SUM('Plot (1)'!I$11:I$40),('Plot (1)'!I$10),"Addition or Text Error"))) -> 0
B6: Plot 2 | C6: =IF(CELL("type",('Plot (2)'!D$10))="b","Blank Cell",IF(CELL("type",('Plot (2)'!D$10))="v",IF(('Plot (2)'!D$10)=SUM('Plot (2)'!D$11:D$40),('Plot (2)'!D$10),"Addition or Text Error"))) -> 0 | D6: =IF(CELL("type",('Plot (2)'!E$10))="b","Blank Cell",IF(CELL("type",('Plot (2)'!E$10))="v",IF(('Plot (2)'!E$10)=SUM('Plot (2)'!E$11:E$40),('Plot (2)'!E$10),"Addition or Text Error"))) -> 0 | E6: =IF(CELL("type",('Plot (2)'!F$10))="b","Blank Cell",IF(CELL("type",('Plot (2)'!F$10))="v",IF(('Plot (2)'!F$10)=SUM('Plot (2)'!F$11:F$40),('Plot (2)'!F$10),"Addition or Text Error"))) -> 0 | F6: =IF(CELL("type",('Plot (2)'!G$10))="b","Blank Cell",IF(CELL("type",('Plot (2)'!G$10))="v",IF(('Plot (2)'!G$10)=SUM('Plot (2)'!G$11:G$40),('Plot (2)'!G$10),"Addition or Text Error"))) -> 0 | G6: =IF(CELL("type",('Plot (2)'!H$10))="b","Blank Cell",IF(CELL("type",('Plot (2)'!H$10))="v",IF(('Plot (2)'!H$10)=SUM('Plot (2)'!H$11:H$40),('Plot (2)'!H$10),"Addition or Text Error"))) -> 0 | H6: =IF(CELL("type",('Plot (2)'!I$10))="b","Blank Cell",IF(CELL("type",('Plot (2)'!I$10))="v",IF(('Plot (2)'!I$10)=SUM('Plot (2)'!I$11:I$40),('Plot (2)'!I$10),"Addition or Text Error"))) -> 0
B7: Plot 3 | C7: =IF(CELL("type",('Plot (3)'!D$10))="b","Blank Cell",IF(CELL("type",('Plot (3)'!D$10))="v",IF(('Plot (3)'!D$10)=SUM('Plot (3)'!D$11:D$40),('Plot (3)'!D$10),"Addition or Text Error"))) -> 0 | D7: =IF(CELL("type",('Plot (3)'!E$10))="b","Blank Cell",IF(CELL("type",('Plot (3)'!E$10))="v",IF(('Plot (3)'!E$10)=SUM('Plot (3)'!E$11:E$40),('Plot (3)'!E$10),"Addition or Text Error"))) -> 0 | E7: =IF(CELL("type",('Plot (3)'!F$10))="b","Blank Cell",IF(CELL("type",('Plot (3)'!F$10))="v",IF(('Plot (3)'!F$10)=SUM('Plot (3)'!F$11:F$40),('Plot (3)'!F$10),"Addition or Text Error"))) -> 0 | F7: =IF(CELL("type",('Plot (3)'!G$10))="b","Blank Cell",IF(CELL("type",('Plot (3)'!G$10))="v",IF(('Plot (3)'!G$10)=SUM('Plot (3)'!G$11:G$40),('Plot (3)'!G$10),"Addition or Text Error"))) -> 0 | G7: =IF(CELL("type",('Plot (3)'!H$10))="b","Blank Cell",IF(CELL("type",('Plot (3)'!H$10))="v",IF(('Plot (3)'!H$10)=SUM('Plot (3)'!H$11:H$40),('Plot (3)'!H$10),"Addition or Text Error"))) -> 0 | H7: =IF(CELL("type",('Plot (3)'!I$10))="b","Blank Cell",IF(CELL("type",('Plot (3)'!I$10))="v",IF(('Plot (3)'!I$10)=SUM('Plot (3)'!I$11:I$40),('Plot (3)'!I$10),"Addition or Text Error"))) -> 0
B8: Plot 4 | C8: =IF(CELL("type",('Plot (4)'!D$10))="b","Blank Cell",IF(CELL("type",('Plot (4)'!D$10))="v",IF(('Plot (4)'!D$10)=SUM('Plot (4)'!D$11:D$40),('Plot (4)'!D$10),"Addition or Text Error"))) -> 0 | D8: =IF(CELL("type",('Plot (4)'!E$10))="b","Blank Cell",IF(CELL("type",('Plot (4)'!E$10))="v",IF(('Plot (4)'!E$10)=SUM('Plot (4)'!E$11:E$40),('Plot (4)'!E$10),"Addition or Text Error"))) -> 0 | E8: =IF(CELL("type",('Plot (4)'!F$10))="b","Blank Cell",IF(CELL("type",('Plot (4)'!F$10))="v",IF(('Plot (4)'!F$10)=SUM('Plot (4)'!F$11:F$40),('Plot (4)'!F$10),"Addition or Text Error"))) -> 0 | F8: =IF(CELL("type",('Plot (4)'!G$10))="b","Blank Cell",IF(CELL("type",('Plot (4)'!G$10))="v",IF(('Plot (4)'!G$10)=SUM('Plot (4)'!G$11:G$40),('Plot (4)'!G$10),"Addition or Text Error"))) -> 0 | G8: =IF(CELL("type",('Plot (4)'!H$10))="b","Blank Cell",IF(CELL("type",('Plot (4)'!H$10))="v",IF(('Plot (4)'!H$10)=SUM('Plot (4)'!H$11:H$40),('Plot (4)'!H$10),"Addition or Text Error"))) -> 0 | H8: =IF(CELL("type",('Plot (4)'!I$10))="b","Blank Cell",IF(CELL("type",('Plot (4)'!I$10))="v",IF(('Plot (4)'!I$10)=SUM('Plot (4)'!I$11:I$40),('Plot (4)'!I$10),"Addition or Text Error"))) -> 0
B9: Plot 5 | C9: =IF(CELL("type",('Plot (5)'!D$10))="b","Blank Cell",IF(CELL("type",('Plot (5)'!D$10))="v",IF(('Plot (5)'!D$10)=SUM('Plot (5)'!D$11:D$40),('Plot (5)'!D$10),"Addition or Text Error"))) -> 0 | D9: =IF(CELL("type",('Plot (5)'!E$10))="b","Blank Cell",IF(CELL("type",('Plot (5)'!E$10))="v",IF(('Plot (5)'!E$10)=SUM('Plot (5)'!E$11:E$40),('Plot (5)'!E$10),"Addition or Text Error"))) -> 0 | E9: =IF(CELL("type",('Plot (5)'!F$10))="b","Blank Cell",IF(CELL("type",('Plot (5)'!F$10))="v",IF(('Plot (5)'!F$10)=SUM('Plot (5)'!F$11:F$40),('Plot (5)'!F$10),"Addition or Text Error"))) -> 0 | F9: =IF(CELL("type",('Plot (5)'!G$10))="b","Blank Cell",IF(CELL("type",('Plot (5)'!G$10))="v",IF(('Plot (5)'!G$10)=SUM('Plot (5)'!G$11:G$40),('Plot (5)'!G$10),"Addition or Text Error"))) -> 0 | G9: =IF(CELL("type",('Plot (5)'!H$10))="b","Blank Cell",IF(CELL("type",('Plot (5)'!H$10))="v",IF(('Plot (5)'!H$10)=SUM('Plot (5)'!H$11:H$40),('Plot (5)'!H$10),"Addition or Text Error"))) -> 0 | H9: =IF(CELL("type",('Plot (5)'!I$10))="b","Blank Cell",IF(CELL("type",('Plot (5)'!I$10))="v",IF(('Plot (5)'!I$10)=SUM('Plot (5)'!I$11:I$40),('Plot (5)'!I$10),"Addition or Text Error"))) -> 0 | K9: The " Quick Plot Summary" tab is automated. It DOES NOT require any input.
B10: Plot 6 | C10: =IF(CELL("type",('Plot (6)'!D$10))="b","Blank Cell",IF(CELL("type",('Plot (6)'!D$10))="v",IF(('Plot (6)'!D$10)=SUM('Plot (6)'!D$11:D$40),('Plot (6)'!D$10),"Addition or Text Error"))) -> 0 | D10: =IF(CELL("type",('Plot (6)'!E$10))="b","Blank Cell",IF(CELL("type",('Plot (6)'!E$10))="v",IF(('Plot (6)'!E$10)=SUM('Plot (6)'!E$11:E$40),('Plot (6)'!E$10),"Addition or Text Error"))) -> 0 | E10: =IF(CELL("type",('Plot (6)'!F$10))="b","Blank Cell",IF(CELL("type",('Plot (6)'!F$10))="v",IF(('Plot (6)'!F$10)=SUM('Plot (6)'!F$11:F$40),('Plot (6)'!F$10),"Addition or Text Error"))) -> 0 | F10: =IF(CELL("type",('Plot (6)'!G$10))="b","Blank Cell",IF(CELL("type",('Plot (6)'!G$10))="v",IF(('Plot (6)'!G$10)=SUM('Plot (6)'!G$11:G$40),('Plot (6)'!G$10),"Addition or Text Error"))) -> 0 | G10: =IF(CELL("type",('Plot (6)'!H$10))="b","Blank Cell",IF(CELL("type",('Plot (6)'!H$10))="v",IF(('Plot (6)'!H$10)=SUM('Plot (6)'!H$11:H$40),('Plot (6)'!H$10),"Addition or Text Error"))) -> 0 | H10: =IF(CELL("type",('Plot (6)'!I$10))="b","Blank Cell",IF(CELL("type",('Plot (6)'!I$10))="v",IF(('Plot (6)'!I$10)=SUM('Plot (6)'!I$11:I$40),('Plot (6)'!I$10),"Addition or Text Error"))) -> 0
B11: Plot 7 | C11: =IF(CELL("type",('Plot (7)'!D$10))="b","Blank Cell",IF(CELL("type",('Plot (7)'!D$10))="v",IF(('Plot (7)'!D$10)=SUM('Plot (7)'!D$11:D$40),('Plot (7)'!D$10),"Addition or Text Error"))) -> 0 | D11: =IF(CELL("type",('Plot (7)'!E$10))="b","Blank Cell",IF(CELL("type",('Plot (7)'!E$10))="v",IF(('Plot (7)'!E$10)=SUM('Plot (7)'!E$11:E$40),('Plot (7)'!E$10),"Addition or Text Error"))) -> 0 | E11: =IF(CELL("type",('Plot (7)'!F$10))="b","Blank Cell",IF(CELL("type",('Plot (7)'!F$10))="v",IF(('Plot (7)'!F$10)=SUM('Plot (7)'!F$11:F$40),('Plot (7)'!F$10),"Addition or Text Error"))) -> 0 | F11: =IF(CELL("type",('Plot (7)'!G$10))="b","Blank Cell",IF(CELL("type",('Plot (7)'!G$10))="v",IF(('Plot (7)'!G$10)=SUM('Plot (7)'!G$11:G$40),('Plot (7)'!G$10),"Addition or Text Error"))) -> 0 | G11: =IF(CELL("type",('Plot (7)'!H$10))="b","Blank Cell",IF(CELL("type",('Plot (7)'!H$10))="v",IF(('Plot (7)'!H$10)=SUM('Plot (7)'!H$11:H$40),('Plot (7)'!H$10),"Addition or Text Error"))) -> 0 | H11: =IF(CELL("type",('Plot (7)'!I$10))="b","Blank Cell",IF(CELL("type",('Plot (7)'!I$10))="v",IF(('Plot (7)'!I$10)=SUM('Plot (7)'!I$11:I$40),('Plot (7)'!I$10),"Addition or Text Error"))) -> 0
B12: Plot 8 | C12: =IF(CELL("type",('Plot (8)'!D$10))="b","Blank Cell",IF(CELL("type",('Plot (8)'!D$10))="v",IF(('Plot (8)'!D$10)=SUM('Plot (8)'!D$11:D$40),('Plot (8)'!D$10),"Addition or Text Error"))) -> 0 | D12: =IF(CELL("type",('Plot (8)'!E$10))="b","Blank Cell",IF(CELL("type",('Plot (8)'!E$10))="v",IF(('Plot (8)'!E$10)=SUM('Plot (8)'!E$11:E$324),('Plot (8)'!E$10),"Addition or Text Error"))) -> 0 | E12: =IF(CELL("type",('Plot (8)'!F$10))="b","Blank Cell",IF(CELL("type",('Plot (8)'!F$10))="v",IF(('Plot (8)'!F$10)=SUM('Plot (8)'!F$11:F$40),('Plot (8)'!F$10),"Addition or Text Error"))) -> 0 | F12: =IF(CELL("type",('Plot (8)'!G$10))="b","Blank Cell",IF(CELL("type",('Plot (8)'!G$10))="v",IF(('Plot (8)'!G$10)=SUM('Plot (8)'!G$11:G$40),('Plot (8)'!G$10),"Addition or Text Error"))) -> 0 | G12: =IF(CELL("type",('Plot (8)'!H$10))="b","Blank Cell",IF(CELL("type",('Plot (8)'!H$10))="v",IF(('Plot (8)'!H$10)=SUM('Plot (8)'!H$11:H$40),('Plot (8)'!H$10),"Addition or Text Error"))) -> 0 | H12: =IF(CELL("type",('Plot (8)'!I$10))="b","Blank Cell",IF(CELL("type",('Plot (8)'!I$10))="v",IF(('Plot (8)'!I$10)=SUM('Plot (8)'!I$11:I$40),('Plot (8)'!I$10),"Addition or Text Error"))) -> 0
B13: Plot 9 | C13: =IF(CELL("type",('Plot (9)'!D$10))="b","Blank Cell",IF(CELL("type",('Plot (9)'!D$10))="v",IF(('Plot (9)'!D$10)=SUM('Plot (9)'!D$11:D$40),('Plot (9)'!D$10),"Addition or Text Error"))) -> 0 | D13: =IF(CELL("type",('Plot (9)'!E$10))="b","Blank Cell",IF(CELL("type",('Plot (9)'!E$10))="v",IF(('Plot (9)'!E$10)=SUM('Plot (9)'!E$11:E$40),('Plot (9)'!E$10),"Addition or Text Error"))) -> 0 | E13: =IF(CELL("type",('Plot (9)'!F$10))="b","Blank Cell",IF(CELL("type",('Plot (9)'!F$10))="v",IF(('Plot (9)'!F$10)=SUM('Plot (9)'!F$11:F$40),('Plot (9)'!F$10),"Addition or Text Error"))) -> 0 | F13: =IF(CELL("type",('Plot (9)'!G$10))="b","Blank Cell",IF(CELL("type",('Plot (9)'!G$10))="v",IF(('Plot (9)'!G$10)=SUM('Plot (9)'!G$11:G$40),('Plot (9)'!G$10),"Addition or Text Error"))) -> 0 | G13: =IF(CELL("type",('Plot (9)'!H$10))="b","Blank Cell",IF(CELL("type",('Plot (9)'!H$10))="v",IF(('Plot (9)'!H$10)=SUM('Plot (9)'!H$11:H$40),('Plot (9)'!H$10),"Addition or Text Error"))) -> 0 | H13: =IF(CELL("type",('Plot (9)'!I$10))="b","Blank Cell",IF(CELL("type",('Plot (9)'!I$10))="v",IF(('Plot (9)'!I$10)=SUM('Plot (9)'!I$11:I$40),('Plot (9)'!I$10),"Addition or Text Error"))) -> 0
B14: Plot 10 | C14: =IF(CELL("type",('Plot (10)'!D$10))="b","Blank Cell",IF(CELL("type",('Plot (10)'!D$10))="v",IF(('Plot (10)'!D$10)=SUM('Plot (10)'!D$11:D$40),('Plot (10)'!D$10),"Addition or Text Error"))) -> 0 | D14: =IF(CELL("type",('Plot (10)'!E$10))="b","Blank Cell",IF(CELL("type",('Plot (10)'!E$10))="v",IF(('Plot (10)'!E$10)=SUM('Plot (10)'!E$11:E$40),('Plot (10)'!E$10),"Addition or Text Error"))) -> 0 | E14: =IF(CELL("type",('Plot (10)'!F$10))="b","Blank Cell",IF(CELL("type",('Plot (10)'!F$10))="v",IF(('Plot (10)'!F$10)=SUM('Plot (10)'!F$11:F$40),('Plot (10)'!F$10),"Addition or Text Error"))) -> 0 | F14: =IF(CELL("type",('Plot (10)'!G$10))="b","Blank Cell",IF(CELL("type",('Plot (10)'!G$10))="v",IF(('Plot (10)'!G$10)=SUM('Plot (10)'!G$11:G$40),('Plot (10)'!G$10),"Addition or Text Error"))) -> 0 | G14: =IF(CELL("type",('Plot (10)'!H$10))="b","Blank Cell",IF(CELL("type",('Plot (10)'!H$10))="v",IF(('Plot (10)'!H$10)=SUM('Plot (10)'!H$11:H$40),('Plot (10)'!H$10),"Addition or Text Error"))) -> 0 | H14: =IF(CELL("type",('Plot (10)'!I$10))="b","Blank Cell",IF(CELL("type",('Plot (10)'!I$10))="v",IF(('Plot (10)'!I$10)=SUM('Plot (10)'!I$11:I$40),('Plot (10)'!I$10),"Addition or Text Error"))) -> 0
B15: TOTALS | C15: =+C5+C6+C7+C8+C9+C10+C11+C12+C13+C14 -> 0 | D15: =+D5+D6+D7+D8+D9+D10+D11+D12+D13+D14 -> 0 | E15: =+E5+E6+E7+E8+E9+E10+E11+E12+E13+E14 -> 0 | F15: =+F5+F6+F7+F8+F9+F10+F11+F12+F13+F14 -> 0 | G15: =+G5+G6+G7+G8+G9+G10+G11+G12+G13+G14 -> 0 | H15: =+H5+H6+H7+H8+H9+H10+H11+H12+H13+H14 -> 0
E17: Total Conifers/ha | G17: =D15*200/10 -> 0
E18: Well Spaced/ha | G18: =G15*200/10 -> 0
E19: Free Growing/ha | G19: =H15*200/10 -> 0
E20: Damage Live/ha | G20: ='FH Agent Summary'!C116*200/10 -> 0
E21: Damaged Dead/ha | G21: ='FH Agent Summary'!D116*200/10 -> 0

Sheet SDM BLOCK SUMMARY
A1: District | B1: MAPSHEET | C1: POLYGON | D1: GROUP E = Early (Declared '87-'94) L = Late (Declared '95 - '01) | E1: Gross Area (ha) | F1: Date (year) Planted | G1: Silv. Treatments | H1: BEC | I1: WS @ Declaration | J1: WS Current | K1: WS (M) Current | L1: FG @ Declaration | M1: FG Current | N1: FG (M) Current | O1: SI @ Declaration | P1: SI @ Current | Q1: SIBEC Current | R1: Total Healthy Trees | S1: Forest Health Factor 1 | T1: % Total Trees Affected by FHF 1 | U1: Forest Health Factor 2 | V1: % Total Trees Affected by FHF 2 | W1: Forest Health Factor 3 | X1: % Total Trees Affected by FHF 3 | Y1: Forest Health Factor 4 | Z1: % Total Trees Affected by FHF 4 | AA1: Forest Health Factor 5 | AB1: % Total Trees Affected by FHF 5 | AC1: Forest Health Factor 6 | AD1: % Total Trees Affected by FHF 6 | AE1: Forest Health Factor 7 | AF1: % Total Trees Affected by FHF 7 | AG1: Forest Health Factor 8 | AH1: % Total Trees Affected by FHF 8 | AI1: Forest Health Factor 9 | AJ1: % Total Trees Affected by FHF 9 | AK1: Forest Health Factor 10 | AL1: % Total Trees Affected by FHF 10 | AM1: Total Affected Trees (including dead)/ha | AN1: 1 Inv. Leading Spp. @ declaration | AO1: % Leading Spp 1 @ declaration | AP1: 2 Inv. Leading Spp. @ declaration | AQ1: % Leading Spp 2 @ declaration | AR1: 1 Inv. Leading Spp. Current | AS1: % Leading Spp 1 Current | AT1: 2 Inv. Leading Spp. Current | AU1: % Leading Spp 2 Current | AV1: Current measured gross vol/ha (m3) | AW1: Year Logged | AX1: Year Declared FG | AY1: Current Age | AZ1: WS sph LCL @ Cl .90 (M) | BA1: FG sph LCL @ Cl .90 (M) | BB1: WS sph LCL @ Cl .90 | BC1: FG sph LCL @ Cl .90 | BD1: Avg DBH (current) measured (cm) (Quadratic Mean) | BE1: MAX DBH (current) measured (cm) (Quadratic Mean - Top 10) | BF1: Total Trees/ha @ declaration | BG1: Total Trees/ha (Current) ALL | BH1: Total Trees /ha (Current) LAYER 1 | BI1: Total Trees /ha (Current) LAYER 2 | BJ1: Total Trees /ha (Current) LAYER 3
A2: ='Plot (1)'!U4 -> 0 | B2: ='Plot (1)'!A4 -> 0 | C2: ='Plot (1)'!H4 -> 0 | H2: ='Plot (1)'!AA4 -> 0 | J2: ='Quick Plot Summary'!G18 -> 0 | K2: ='LCL Calculator'!F14 -> 0 | M2: ='Quick Plot Summary'!G19 -> 0 | N2: ='LCL Calculator'!H14 -> 0 | P2: =AVERAGE('Plot (1)'!AC16:AD16,'Plot (2)'!AC16:AD16,'Plot (3)'!AC16:AD16,'Plot (4)'!AC16:AD16,'Plot (5)'!AC16:AD16,'Plot (6)'!AC16:AD16,'Plot (7)'!AC16:AD16,'Plot (8)'!AC16:AD16,'Plot (9)'!AC16:AD16,'Plot (10)'!AC16:AD16) -> #DIV/0! | R2: =BG2-AM2 -> 0 | S2: ='FH Agent Summary'!AR4 -> (blank) | T2: =((('FH Agent Summary'!AZ4)/10)*200)/BG2 -> #DIV/0! | U2: ='FH Agent Summary'!AR5 -> N/A | V2: =((('FH Agent Summary'!AZ5)/10)*200)/BG2 -> #DIV/0! | W2: ='FH Agent Summary'!AR6 -> 0 | X2: =((('FH Agent Summary'!AZ6)/10)*200)/BG2 -> #DIV/0! | Y2: ='FH Agent Summary'!AR7 -> 0 | Z2: =((('FH Agent Summary'!AZ7)/10)*200)/BG2 -> #DIV/0! | AA2: ='FH Agent Summary'!AR8 -> 0 | AB2: =((('FH Agent Summary'!AZ8)/10)*200)/BG2 -> #DIV/0! | AC2: ='FH Agent Summary'!AR9 -> 0 | AD2: =((('FH Agent Summary'!AZ9)/10)*200)/BG2 -> #DIV/0! | AE2: ='FH Agent Summary'!AR13 -> 0 | AF2: =((('FH Agent Summary'!AZ13)/10)*200)/BG2 -> #DIV/0! | AG2: ='FH Agent Summary'!AR14 -> 0 | AH2: =((('FH Agent Summary'!AZ14)/10)*200)/BG2 -> #DIV/0! | AI2: ='FH Agent Summary'!AR15 -> 0 | AJ2: =((('FH Agent Summary'!AZ15)/10)*200)/BG2 -> #DIV/0! | AK2: ='FH Agent Summary'!AR16 -> 0 | AL2: =((('FH Agent Summary'!AZ16)/10)*200)/BG2 -> #DIV/0! | AM2: ='Quick Plot Summary'!G20+'Quick Plot Summary'!G21 -> 0 | AR2: ='Inventory Summary'!E15 -> 0 | AS2: ='Inventory Summary'!F15 -> 0 | AT2: ='Inventory Summary'!E16 -> 0 | AU2: ='Inventory Summary'!F16 -> 0 | AV2: ='Volume Calculator'!K13 -> 0 | AZ2: ='LCL Calculator'!P13 -> 0 | BA2: ='LCL Calculator'!AA13 -> 0 | BB2: ='LCL Calculator'!P27 -> 0 | BC2: ='LCL Calculator'!AA27 -> 0 | BD2: ='Quadratic Mean Calculator'!G5 -> #DIV/0! | BE2: ='Quadratic Mean Calculator'!H5 -> 0 | BG2: =(('Quick Plot Summary'!C15)*200)/10 -> 0 | BH2: =((('Plot (1)'!D11+'Plot (1)'!D14+'Plot (1)'!D17+'Plot (1)'!D20+'Plot (1)'!D23+'Plot (1)'!D26+'Plot (1)'!D29+'Plot (1)'!D32+'Plot (1)'!D35+'Plot (1)'!D38)+('Plot (2)'!D11+'Plot (2)'!D14+'Plot (2)'!D17+'Plot (2)'!D20+'Plot (2)'!D23+'Plot (2)'!D26+'Plot (2)'!D29+'Plot (2)'!D32+'Plot (2)'!D35+'Plot (2)'!D38)+('Plot (3)'!D11+'Plot (3)'!D14+'Plot (3)'!D17+'Plot (3)'!D20+'Plot (3)'!D23+'Plot (3)'!D26+'Plot (3)'!D29+'Plot (3)'!D32+'Plot (3)'!D35+'Plot (3)'!D38)+('Plot (4)'!D11+'Plot (4)'!D14+'Plot (4)'!D17+'Plot (4)'!D20+'Plot (4)'!D23+'Plot (4)'!D26+'Plot (4)'!D29+'Plot (4)'!D32+'Plot (4)'!D35+'Plot (4)'!D38)+('Plot (5)'!D11+'Plot (5)'!D14+'Plot (5)'!D17+'Plot (5)'!D20+'Plot (5)'!D23+'Plot (5)'!D26+'Plot (5)'!D29+'Plot (5)'!D32+'Plot (5)'!D35+'Plot (5)'!D38)+('Plot (6)'!D11+'Plot (6)'!D14+'Plot (6)'!D17+'Plot (6)'!D20+'Plot (6)'!D23+'Plot (6)'!D26+'Plot (6)'!D29+'Plot (6)'!D32+'Plot (6)'!D35+'Plot (6)'!D38)+('Plot (7)'!D11+'Plot (7)'!D14+'Plot (7)'!D17+'Plot (7)'!D20+'Plot (7)'!D23+'Plot (7)'!D26+'Plot (7)'!D29+'Plot (7)'!D32+'Plot (7)'!D35+'Plot (7)'!D38)+('Plot (8)'!D11+'Plot (8)'!D14+'Plot (8)'!D17+'Plot (8)'!D20+'Plot (8)'!D23+'Plot (8)'!D26+'Plot (8)'!D29+'Plot (8)'!D32+'Plot (8)'!D35+'Plot (8)'!D38)+('Plot (9)'!D11+'Plot (9)'!D14+'Plot (9)'!D17+'Plot (9)'!D20+'Plot (9)'!D23+'Plot (9)'!D26+'Plot (9)'!D29+'Plot (9)'!D32+'Plot (9)'!D35+'Plot (9)'!D38)+('Plot (10)'!D11+'Plot (10)'!D14+'Plot (10)'!D17+'Plot (10)'!D20+'Plot (10)'!D23+'Plot (10)'!D26+'Plot (10)'!D29+'Plot (10)'!D32+'Plot (10)'!D35+'Plot (10)'!D38))*200)/10 -> 0 | BI2: =((('Plot (1)'!D12+'Plot (1)'!D15+'Plot (1)'!D18+'Plot (1)'!D20+'Plot (1)'!D24+'Plot (1)'!D27+'Plot (1)'!D30+'Plot (1)'!D33+'Plot (1)'!D36+'Plot (1)'!D39)+('Plot (2)'!D12+'Plot (2)'!D15+'Plot (2)'!D18+'Plot (2)'!D20+'Plot (2)'!D24+'Plot (2)'!D27+'Plot (2)'!D30+'Plot (2)'!D33+'Plot (2)'!D36+'Plot (2)'!D39)+('Plot (3)'!D12+'Plot (3)'!D15+'Plot (3)'!D18+'Plot (3)'!D20+'Plot (3)'!D24+'Plot (3)'!D27+'Plot (3)'!D30+'Plot (3)'!D33+'Plot (3)'!D36+'Plot (3)'!D39)+('Plot (4)'!D12+'Plot (4)'!D15+'Plot (4)'!D18+'Plot (4)'!D20+'Plot (4)'!D24+'Plot (4)'!D27+'Plot (4)'!D30+'Plot (4)'!D33+'Plot (4)'!D36+'Plot (4)'!D39)+('Plot (5)'!D12+'Plot (5)'!D15+'Plot (5)'!D18+'Plot (5)'!D20+'Plot (5)'!D24+'Plot (5)'!D27+'Plot (5)'!D30+'Plot (5)'!D33+'Plot (5)'!D36+'Plot (5)'!D39)+('Plot (6)'!D12+'Plot (6)'!D15+'Plot (6)'!D18+'Plot (6)'!D20+'Plot (6)'!D24+'Plot (6)'!D27+'Plot (6)'!D30+'Plot (6)'!D33+'Plot (6)'!D36+'Plot (6)'!D39)+('Plot (7)'!D12+'Plot (7)'!D15+'Plot (7)'!D18+'Plot (7)'!D20+'Plot (7)'!D24+'Plot (7)'!D27+'Plot (7)'!D30+'Plot (7)'!D33+'Plot (7)'!D36+'Plot (7)'!D39)+('Plot (8)'!D12+'Plot (8)'!D15+'Plot (8)'!D18+'Plot (8)'!D20+'Plot (8)'!D24+'Plot (8)'!D27+'Plot (8)'!D30+'Plot (8)'!D33+'Plot (8)'!D36+'Plot (8)'!D39)+('Plot (9)'!D12+'Plot (9)'!D15+'Plot (9)'!D18+'Plot (9)'!D20+'Plot (9)'!D24+'Plot (9)'!D27+'Plot (9)'!D30+'Plot (9)'!D33+'Plot (9)'!D36+'Plot (9)'!D39)+('Plot (10)'!D12+'Plot (10)'!D15+'Plot (10)'!D18+'Plot (10)'!D20+'Plot (10)'!D24+'Plot (10)'!D27+'Plot (10)'!D30+'Plot (10)'!D33+'Plot (10)'!D36+'Plot (10)'!D39))*200)/10 -> 0 | BJ2: =((('Plot (1)'!D13+'Plot (1)'!D16+'Plot (1)'!D19+'Plot (1)'!D20+'Plot (1)'!D25+'Plot (1)'!D28+'Plot (1)'!D31+'Plot (1)'!D34+'Plot (1)'!D37+'Plot (1)'!D40)+('Plot (2)'!D13+'Plot (2)'!D16+'Plot (2)'!D19+'Plot (2)'!D20+'Plot (2)'!D25+'Plot (2)'!D28+'Plot (2)'!D31+'Plot (2)'!D34+'Plot (2)'!D37+'Plot (2)'!D40)+('Plot (3)'!D13+'Plot (3)'!D16+'Plot (3)'!D19+'Plot (3)'!D20+'Plot (3)'!D25+'Plot (3)'!D28+'Plot (3)'!D31+'Plot (3)'!D34+'Plot (3)'!D37+'Plot (3)'!D40)+('Plot (4)'!D13+'Plot (4)'!D16+'Plot (4)'!D19+'Plot (4)'!D20+'Plot (4)'!D25+'Plot (4)'!D28+'Plot (4)'!D31+'Plot (4)'!D34+'Plot (4)'!D37+'Plot (4)'!D40)+('Plot (5)'!D13+'Plot (5)'!D16+'Plot (5)'!D19+'Plot (5)'!D20+'Plot (5)'!D25+'Plot (5)'!D28+'Plot (5)'!D31+'Plot (5)'!D34+'Plot (5)'!D37+'Plot (5)'!D40)+('Plot (6)'!D13+'Plot (6)'!D16+'Plot (6)'!D19+'Plot (6)'!D20+'Plot (6)'!D25+'Plot (6)'!D28+'Plot (6)'!D31+'Plot (6)'!D34+'Plot (6)'!D37+'Plot (6)'!D40)+('Plot (7)'!D13+'Plot (7)'!D16+'Plot (7)'!D19+'Plot (7)'!D20+'Plot (7)'!D25+'Plot (7)'!D28+'Plot (7)'!D31+'Plot (7)'!D34+'Plot (7)'!D37+'Plot (7)'!D40)+('Plot (8)'!D13+'Plot (8)'!D16+'Plot (8)'!D19+'Plot (8)'!D20+'Plot (8)'!D25+'Plot (8)'!D28+'Plot (8)'!D31+'Plot (8)'!D34+'Plot (8)'!D37+'Plot (8)'!D40)+('Plot (9)'!D13+'Plot (9)'!D16+'Plot (9)'!D19+'Plot (9)'!D20+'Plot (9)'!D25+'Plot (9)'!D28+'Plot (9)'!D31+'Plot (9)'!D34+'Plot (9)'!D37+'Plot (9)'!D40)+('Plot (10)'!D13+'Plot (10)'!D16+'Plot (10)'!D19+'Plot (10)'!D20+'Plot (10)'!D25+'Plot (10)'!D28+'Plot (10)'!D31+'Plot (10)'!D34+'Plot (10)'!D37+'Plot (10)'!D40))*200)/10 -> 0
C6: The SDM BLOCK SUMMARY tab requires input ONLY in the columns with GREEN headings - this data will come from the original opening file survey.
C7: The columns with GREY headings are auto-filled directly from the Plot Cards. The columns with BLUE headings are auto-calculated from plot data.

Sheet FH Agent Summary
A1: PLOT | B1: TREE SPP | C1: LIVE LAYER 1 | D1: DEAD LAYER 1 | E1: LIVE LAYER 2 | F1: DEAD LAYER 2 | G1: LIVE LAYER 3 | H1: DEAD LAYER 3 | I1: LIVE LAYER 1 | J1: DEAD LAYER 1 | K1: LIVE LAYER 2 | L1: DEAD LAYER 2 | M1: LIVE LAYER 3 | N1: DEAD LAYER 3 | O1: LIVE LAYER 1 | P1: DEAD LAYER 1 | Q1: LIVE LAYER 2 | R1: DEAD LAYER 2 | S1: LIVE LAYER 3 | T1: DEAD LAYER 3 | U1: LIVE LAYER 1 | V1: DEAD LAYER 1 | W1: LIVE LAYER 2 | X1: DEAD LAYER 2 | Y1: LIVE LAYER 3 | Z1: DEAD LAYER 3 | AA1: LIVE LAYER 1 | AB1: DEAD LAYER 1 | AC1: LIVE LAYER 2 | AD1: DEAD LAYER 2 | AE1: LIVE LAYER 3 | AF1: DEAD LAYER 3 | AH1: PLOT | AI1: FOREST HEALTH DAMAGE AGENTS | AJ1: LIVE LAYER 1 | AK1: DEAD LAYER 1 | AL1: LIVE LAYER 2 | AM1: DEAD LAYER 2 | AN1: LIVE LAYER 3 | AO1: DEAD LAYER 3 | AP1: Total Trees | AR1: The "FH Agent Summary" tab does not require any input. It DOES require the user to "refresh" the sheet after new data entry (Data Menu > Refresh All)
A2: 1 | B2: FOREST HEALTH DAMAGE AGENTS | C2: =IF(CELL("type",('Plot (1)'!$J$8))="b","N/A",'Plot (1)'!$J$8) -> N/A | I2: =IF(CELL("type",('Plot (1)'!$L$8))="b","N/A",'Plot (1)'!$L$8) -> N/A | O2: =IF(CELL("type",('Plot (1)'!$N$8))="b","N/A",'Plot (1)'!$N$8) -> N/A | U2: =IF(CELL("type",('Plot (1)'!$P$8))="b","N/A",'Plot (1)'!$P$8) -> N/A | AA2: =IF(CELL("type",('Plot (1)'!$R$8))="b","N/A",'Plot (1)'!$R$8) -> N/A | AH2: 1 | AI2: =+C2 -> N/A | AJ2: =+SUM(C3:C12) -> 0 | AK2: =+SUM(D3:D12) -> 0 | AL2: =+SUM(E3:E12) -> 0 | AM2: =+SUM(F3:F12) -> 0 | AN2: =+SUM(G3:G12) -> 0 | AO2: =+SUM(H3:H12) -> 0 | AP2: =SUM(AJ2:AO2) -> 0 | AS2: Values | AZ2: ROW | BA2: <-- NEEDED for auto-filling in SDM Summary
A3: 1 | B3: =+'Plot (1)'!A$11 -> 0 | C3: ='Plot (1)'!J11 -> 0 | D3: ='Plot (1)'!K11 -> 0 | E3: ='Plot (1)'!J12 -> 0 | F3: ='Plot (1)'!K12 -> 0 | G3: ='Plot (1)'!J13 -> 0 | H3: ='Plot (1)'!K13 -> 0 | I3: ='Plot (1)'!L11 -> 0 | J3: ='Plot (1)'!M11 -> 0 | K3: ='Plot (1)'!L12 -> 0 | L3: ='Plot (1)'!M12 -> 0 | M3: ='Plot (1)'!L13 -> 0 | N3: ='Plot (1)'!M13 -> 0 | O3: ='Plot (1)'!N11 -> 0 | P3: ='Plot (1)'!O11 -> 0 | Q3: ='Plot (1)'!N12 -> 0 | R3: ='Plot (1)'!O12 -> 0 | S3: ='Plot (1)'!N13 -> 0 | T3: ='Plot (1)'!O13 -> 0 | U3: ='Plot (1)'!P11 -> 0 | V3: ='Plot (1)'!Q11 -> 0 | W3: ='Plot (1)'!P12 -> 0 | X3: ='Plot (1)'!Q12 -> 0 | Y3: ='Plot (1)'!P13 -> 0 | Z3: ='Plot (1)'!Q13 -> 0 | AA3: ='Plot (1)'!R11 -> 0 | AB3: ='Plot (1)'!S11 -> 0 | AC3: ='Plot (1)'!R12 -> 0 | AD3: ='Plot (1)'!S12 -> 0 | AE3: ='Plot (1)'!R13 -> 0 | AF3: ='Plot (1)'!S13 -> 0 | AH3: 1 | AI3: =+I2 -> N/A | AJ3: =+SUM(I3:I12) -> 0 | AK3: =+SUM(J3:J12) -> 0 | AL3: =+SUM(K3:K12) -> 0 | AM3: =+SUM(L3:L12) -> 0 | AN3: =+SUM(M3:M12) -> 0 | AO3: =+SUM(N3:N12) -> 0 | AP3: =SUM(AJ3:AO3) -> 0 | AR3: Row Labels | AS3: Sum of LIVE LAYER 1 | AT3: Sum of DEAD LAYER 1 | AU3: Sum of LIVE LAYER 2 | AV3: Sum of DEAD LAYER 2 | AW3: Sum of LIVE LAYER 3 | AX3: Sum of DEAD LAYER 3 | AY3: Sum of Total Trees | AZ3: SUM | BA3: (only the top 10 are listed, because there are
A4: 1 | B4: =+'Plot (1)'!A$14 -> 0 | C4: ='Plot (1)'!J14 -> 0 | D4: ='Plot (1)'!K14 -> 0 | E4: ='Plot (1)'!J15 -> 0 | F4: ='Plot (1)'!K15 -> 0 | G4: ='Plot (1)'!J16 -> 0 | H4: ='Plot (1)'!K16 -> 0 | I4: ='Plot (1)'!L14 -> 0 | J4: ='Plot (1)'!M14 -> 0 | K4: ='Plot (1)'!L15 -> 0 | L4: ='Plot (1)'!M15 -> 0 | M4: ='Plot (1)'!L16 -> 0 | N4: ='Plot (1)'!M16 -> 0 | O4: ='Plot (1)'!N14 -> 0 | P4: ='Plot (1)'!O14 -> 0 | Q4: ='Plot (1)'!N15 -> 0 | R4: ='Plot (1)'!O15 -> 0 | S4: ='Plot (1)'!N16 -> 0 | T4: ='Plot (1)'!O16 -> 0 | U4: ='Plot (1)'!P14 -> 0 | V4: ='Plot (1)'!Q14 -> 0 | W4: ='Plot (1)'!P15 -> 0 | X4: ='Plot (1)'!Q15 -> 0 | Y4: ='Plot (1)'!P16 -> 0 | Z4: ='Plot (1)'!Q16 -> 0 | AA4: ='Plot (1)'!R14 -> 0 | AB4: ='Plot (1)'!S14 -> 0 | AC4: ='Plot (1)'!R15 -> 0 | AD4: ='Plot (1)'!S15 -> 0 | AE4: ='Plot (1)'!R16 -> 0 | AF4: ='Plot (1)'!S16 -> 0 | AH4: 1 | AI4: =+O2 -> N/A | AJ4: =+SUM(O3:O12) -> 0 | AK4: =+SUM(P3:P12) -> 0 | AL4: =+SUM(Q3:Q12) -> 0 | AM4: =+SUM(R3:R12) -> 0 | AN4: =+SUM(S3:S12) -> 0 | AO4: =+SUM(T3:T12) -> 0 | AP4: =SUM(AJ4:AO4) -> 0 | AR4: (blank) | AZ4: =SUM(AS4:AX4) -> 0 | BA4: only 10 spaces in the Master Summary for
A5: 1 | B5: =+'Plot (1)'!A$17 -> 0 | C5: ='Plot (1)'!J17 -> 0 | D5: ='Plot (1)'!K17 -> 0 | E5: ='Plot (1)'!J18 -> 0 | F5: ='Plot (1)'!K18 -> 0 | G5: ='Plot (1)'!J19 -> 0 | H5: ='Plot (1)'!K19 -> 0 | I5: ='Plot (1)'!L17 -> 0 | J5: ='Plot (1)'!M17 -> 0 | K5: ='Plot (1)'!L18 -> 0 | L5: ='Plot (1)'!M18 -> 0 | M5: ='Plot (1)'!L19 -> 0 | N5: ='Plot (1)'!M19 -> 0 | O5: ='Plot (1)'!N17 -> 0 | P5: ='Plot (1)'!O17 -> 0 | Q5: ='Plot (1)'!N18 -> 0 | R5: ='Plot (1)'!O18 -> 0 | S5: ='Plot (1)'!N19 -> 0 | T5: ='Plot (1)'!O19 -> 0 | U5: ='Plot (1)'!P17 -> 0 | V5: ='Plot (1)'!Q17 -> 0 | W5: ='Plot (1)'!P18 -> 0 | X5: ='Plot (1)'!Q18 -> 0 | Y5: ='Plot (1)'!P19 -> 0 | Z5: ='Plot (1)'!Q19 -> 0 | AA5: ='Plot (1)'!R17 -> 0 | AB5: ='Plot (1)'!S17 -> 0 | AC5: ='Plot (1)'!R18 -> 0 | AD5: ='Plot (1)'!S18 -> 0 | AE5: ='Plot (1)'!R19 -> 0 | AF5: ='Plot (1)'!S19 -> 0 | AH5: 1 | AI5: =+U2 -> N/A | AJ5: =+SUM(U3:U12) -> 0 | AK5: =+SUM(V3:V12) -> 0 | AL5: =+SUM(W3:W12) -> 0 | AM5: =+SUM(X3:X12) -> 0 | AN5: =+SUM(Y3:Y12) -> 0 | AO5: =+SUM(Z3:Z12) -> 0 | AP5: =SUM(AJ5:AO5) -> 0 | AR5: N/A | AS5: 0 | AT5: 0 | AU5: 0 | AV5: 0 | AW5: 0 | AX5: 0 | AY5: 0 | AZ5: =SUM(AS5:AX5) -> 0 | BA5: Forest Health Factors to be reported).
A6: 1 | B6: =+'Plot (1)'!A$20 -> 0 | C6: ='Plot (1)'!J20 -> 0 | D6: ='Plot (1)'!K20 -> 0 | E6: ='Plot (1)'!J21 -> 0 | F6: ='Plot (1)'!K21 -> 0 | G6: ='Plot (1)'!J22 -> 0 | H6: ='Plot (1)'!K22 -> 0 | I6: ='Plot (1)'!L20 -> 0 | J6: ='Plot (1)'!M20 -> 0 | K6: ='Plot (1)'!L21 -> 0 | L6: ='Plot (1)'!M21 -> 0 | M6: ='Plot (1)'!L22 -> 0 | N6: ='Plot (1)'!M22 -> 0 | O6: ='Plot (1)'!N20 -> 0 | P6: ='Plot (1)'!O20 -> 0 | Q6: ='Plot (1)'!N21 -> 0 | R6: ='Plot (1)'!O21 -> 0 | S6: ='Plot (1)'!N22 -> 0 | T6: ='Plot (1)'!O22 -> 0 | U6: ='Plot (1)'!P20 -> 0 | V6: ='Plot (1)'!Q20 -> 0 | W6: ='Plot (1)'!P21 -> 0 | X6: ='Plot (1)'!Q21 -> 0 | Y6: ='Plot (1)'!P22 -> 0 | Z6: ='Plot (1)'!Q22 -> 0 | AA6: ='Plot (1)'!R20 -> 0 | AB6: ='Plot (1)'!S20 -> 0 | AC6: ='Plot (1)'!R21 -> 0 | AD6: ='Plot (1)'!S21 -> 0 | AE6: ='Plot (1)'!R22 -> 0 | AF6: ='Plot (1)'!S22 -> 0 | AH6: 1 | AI6: =+AA2 -> N/A | AJ6: =+SUM(AA3:AA12) -> 0 | AK6: =+SUM(AB3:AB12) -> 0 | AL6: =+SUM(AC3:AC12) -> 0 | AM6: =+SUM(AD3:AD12) -> 0 | AN6: =+SUM(AE3:AE12) -> 0 | AO6: =+SUM(AF3:AF12) -> 0 | AP6: =SUM(AJ6:AO6) -> 0 | AZ6: =SUM(AS6:AX6) -> 0
A7: 1 | B7: =+'Plot (1)'!A$23 -> 0 | C7: ='Plot (1)'!J23 -> 0 | D7: ='Plot (1)'!K23 -> 0 | E7: ='Plot (1)'!J24 -> 0 | F7: ='Plot (1)'!K24 -> 0 | G7: ='Plot (1)'!J25 -> 0 | H7: ='Plot (1)'!K25 -> 0 | I7: ='Plot (1)'!L23 -> 0 | J7: ='Plot (1)'!M23 -> 0 | K7: ='Plot (1)'!L24 -> 0 | L7: ='Plot (1)'!M24 -> 0 | M7: ='Plot (1)'!L25 -> 0 | N7: ='Plot (1)'!M25 -> 0 | O7: ='Plot (1)'!N23 -> 0 | P7: ='Plot (1)'!O23 -> 0 | Q7: ='Plot (1)'!N24 -> 0 | R7: ='Plot (1)'!O24 -> 0 | S7: ='Plot (1)'!N25 -> 0 | T7: ='Plot (1)'!O25 -> 0 | U7: ='Plot (1)'!P23 -> 0 | V7: ='Plot (1)'!Q23 -> 0 | W7: ='Plot (1)'!P24 -> 0 | X7: ='Plot (1)'!Q24 -> 0 | Y7: ='Plot (1)'!P25 -> 0 | Z7: ='Plot (1)'!Q25 -> 0 | AA7: ='Plot (1)'!R23 -> 0 | AB7: ='Plot (1)'!S23 -> 0 | AC7: ='Plot (1)'!R24 -> 0 | AD7: ='Plot (1)'!S24 -> 0 | AE7: ='Plot (1)'!R25 -> 0 | AF7: ='Plot (1)'!S25 -> 0 | AH7: 2 | AI7: =+C13 -> N/A | AJ7: =+SUM(C14:C23) -> 0 | AK7: =+SUM(D14:D23) -> 0 | AL7: =+SUM(E14:E23) -> 0 | AM7: =+SUM(F14:F23) -> 0 | AN7: =+SUM(G14:G23) -> 0 | AO7: =+SUM(H14:H23) -> 0 | AP7: =SUM(AJ7:AO7) -> 0 | AZ7: =SUM(AS7:AX7) -> 0
A8: 1 | B8: =+'Plot (1)'!A$26 -> 0 | C8: ='Plot (1)'!J26 -> 0 | D8: ='Plot (1)'!K26 -> 0 | E8: ='Plot (1)'!J27 -> 0 | F8: ='Plot (1)'!K27 -> 0 | G8: ='Plot (1)'!J28 -> 0 | H8: ='Plot (1)'!K28 -> 0 | I8: ='Plot (1)'!L26 -> 0 | J8: ='Plot (1)'!M26 -> 0 | K8: ='Plot (1)'!L27 -> 0 | L8: ='Plot (1)'!M27 -> 0 | M8: ='Plot (1)'!L28 -> 0 | N8: ='Plot (1)'!M28 -> 0 | O8: ='Plot (1)'!N26 -> 0 | P8: ='Plot (1)'!O26 -> 0 | Q8: ='Plot (1)'!N27 -> 0 | R8: ='Plot (1)'!O27 -> 0 | S8: ='Plot (1)'!N28 -> 0 | T8: ='Plot (1)'!O28 -> 0 | U8: ='Plot (1)'!P26 -> 0 | V8: ='Plot (1)'!Q26 -> 0 | W8: ='Plot (1)'!P27 -> 0 | X8: ='Plot (1)'!Q27 -> 0 | Y8: ='Plot (1)'!P28 -> 0 | Z8: ='Plot (1)'!Q28 -> 0 | AA8: ='Plot (1)'!R26 -> 0 | AB8: ='Plot (1)'!S26 -> 0 | AC8: ='Plot (1)'!R27 -> 0 | AD8: ='Plot (1)'!S27 -> 0 | AE8: ='Plot (1)'!R28 -> 0 | AF8: ='Plot (1)'!S28 -> 0 | AH8: 2 | AI8: =+I13 -> N/A | AJ8: =+SUM(I14:I23) -> 0 | AK8: =+SUM(J14:J23) -> 0 | AL8: =+SUM(K14:K23) -> 0 | AM8: =+SUM(L14:L23) -> 0 | AN8: =+SUM(M14:M23) -> 0 | AO8: =+SUM(N14:N23) -> 0 | AP8: =SUM(AJ8:AO8) -> 0 | AZ8: =SUM(AS8:AX8) -> 0
A9: 1 | B9: =+'Plot (1)'!A$29 -> 0 | C9: ='Plot (1)'!J29 -> 0 | D9: ='Plot (1)'!K29 -> 0 | E9: ='Plot (1)'!J30 -> 0 | F9: ='Plot (1)'!K30 -> 0 | G9: ='Plot (1)'!J31 -> 0 | H9: ='Plot (1)'!K31 -> 0 | I9: ='Plot (1)'!L29 -> 0 | J9: ='Plot (1)'!M29 -> 0 | K9: ='Plot (1)'!L30 -> 0 | L9: ='Plot (1)'!M30 -> 0 | M9: ='Plot (1)'!L31 -> 0 | N9: ='Plot (1)'!M31 -> 0 | O9: ='Plot (1)'!N29 -> 0 | P9: ='Plot (1)'!O29 -> 0 | Q9: ='Plot (1)'!N30 -> 0 | R9: ='Plot (1)'!O30 -> 0 | S9: ='Plot (1)'!N31 -> 0 | T9: ='Plot (1)'!O31 -> 0 | U9: ='Plot (1)'!P29 -> 0 | V9: ='Plot (1)'!Q29 -> 0 | W9: ='Plot (1)'!P30 -> 0 | X9: ='Plot (1)'!Q30 -> 0 | Y9: ='Plot (1)'!P31 -> 0 | Z9: ='Plot (1)'!Q31 -> 0 | AA9: ='Plot (1)'!R29 -> 0 | AB9: ='Plot (1)'!S29 -> 0 | AC9: ='Plot (1)'!R30 -> 0 | AD9: ='Plot (1)'!S30 -> 0 | AE9: ='Plot (1)'!R31 -> 0 | AF9: ='Plot (1)'!S31 -> 0 | AH9: 2 | AI9: =+O13 -> N/A | AJ9: =+SUM(O14:O23) -> 0 | AK9: =+SUM(P14:P23) -> 0 | AL9: =+SUM(Q14:Q23) -> 0 | AM9: =+SUM(R14:R23) -> 0 | AN9: =+SUM(S14:S23) -> 0 | AO9: =+SUM(T14:T23) -> 0 | AP9: =SUM(AJ9:AO9) -> 0 | AZ9: =SUM(AS9:AX9) -> 0
A10: 1 | B10: =+'Plot (1)'!A$32 -> 0 | C10: ='Plot (1)'!J32 -> 0 | D10: ='Plot (1)'!K32 -> 0 | E10: ='Plot (1)'!J33 -> 0 | F10: ='Plot (1)'!K33 -> 0 | G10: ='Plot (1)'!J34 -> 0 | H10: ='Plot (1)'!K34 -> 0 | I10: ='Plot (1)'!L32 -> 0 | J10: ='Plot (1)'!M32 -> 0 | K10: ='Plot (1)'!L33 -> 0 | L10: ='Plot (1)'!M33 -> 0 | M10: ='Plot (1)'!L34 -> 0 | N10: ='Plot (1)'!M34 -> 0 | O10: ='Plot (1)'!N32 -> 0 | P10: ='Plot (1)'!O32 -> 0 | Q10: ='Plot (1)'!N33 -> 0 | R10: ='Plot (1)'!O33 -> 0 | S10: ='Plot (1)'!N34 -> 0 | T10: ='Plot (1)'!O34 -> 0 | U10: ='Plot (1)'!P32 -> 0 | V10: ='Plot (1)'!Q32 -> 0 | W10: ='Plot (1)'!P33 -> 0 | X10: ='Plot (1)'!Q33 -> 0 | Y10: ='Plot (1)'!P34 -> 0 | Z10: ='Plot (1)'!Q34 -> 0 | AA10: ='Plot (1)'!R32 -> 0 | AB10: ='Plot (1)'!S32 -> 0 | AC10: ='Plot (1)'!R33 -> 0 | AD10: ='Plot (1)'!S33 -> 0 | AE10: ='Plot (1)'!R34 -> 0 | AF10: ='Plot (1)'!S34 -> 0 | AH10: 2 | AI10: =+U13 -> N/A | AJ10: =+SUM(U14:U23) -> 0 | AK10: =+SUM(V14:V23) -> 0 | AL10: =+SUM(W14:W23) -> 0 | AM10: =+SUM(X14:X23) -> 0 | AN10: =+SUM(Y14:Y23) -> 0 | AO10: =+SUM(Z14:Z23) -> 0 | AP10: =SUM(AJ10:AO10) -> 0 | AZ10: =SUM(AS10:AX10) -> 0
A11: 1 | B11: =+'Plot (1)'!A$35 -> 0 | C11: ='Plot (1)'!J35 -> 0 | D11: ='Plot (1)'!K35 -> 0 | E11: ='Plot (1)'!J36 -> 0 | F11: ='Plot (1)'!K36 -> 0 | G11: ='Plot (1)'!J37 -> 0 | H11: ='Plot (1)'!K37 -> 0 | I11: ='Plot (1)'!L35 -> 0 | J11: ='Plot (1)'!M35 -> 0 | K11: ='Plot (1)'!L36 -> 0 | L11: ='Plot (1)'!M36 -> 0 | M11: ='Plot (1)'!L37 -> 0 | N11: ='Plot (1)'!M37 -> 0 | O11: ='Plot (1)'!N35 -> 0 | P11: ='Plot (1)'!O35 -> 0 | Q11: ='Plot (1)'!N36 -> 0 | R11: ='Plot (1)'!O36 -> 0 | S11: ='Plot (1)'!N37 -> 0 | T11: ='Plot (1)'!O37 -> 0 | U11: ='Plot (1)'!P35 -> 0 | V11: ='Plot (1)'!Q35 -> 0 | W11: ='Plot (1)'!P36 -> 0 | X11: ='Plot (1)'!Q36 -> 0 | Y11: ='Plot (1)'!P37 -> 0 | Z11: ='Plot (1)'!Q37 -> 0 | AA11: ='Plot (1)'!R35 -> 0 | AB11: ='Plot (1)'!S35 -> 0 | AC11: ='Plot (1)'!R36 -> 0 | AD11: ='Plot (1)'!S36 -> 0 | AE11: ='Plot (1)'!R37 -> 0 | AF11: ='Plot (1)'!S37 -> 0 | AH11: 2 | AI11: =+AA13 -> N/A | AJ11: =+SUM(AA14:AA23) -> 0 | AK11: =+SUM(AB14:AB23) -> 0 | AL11: =+SUM(AC14:AC23) -> 0 | AM11: =+SUM(AD14:AD23) -> 0 | AN11: =+SUM(AE14:AE23) -> 0 | AO11: =+SUM(AF14:AF23) -> 0 | AP11: =SUM(AJ11:AO11) -> 0 | AZ11: =SUM(AS11:AX11) -> 0
A12: 1 | B12: =+'Plot (1)'!A$38 -> 0 | C12: ='Plot (1)'!J38 -> 0 | D12: ='Plot (1)'!K38 -> 0 | E12: ='Plot (1)'!J39 -> 0 | F12: ='Plot (1)'!K39 -> 0 | G12: ='Plot (1)'!J40 -> 0 | H12: ='Plot (1)'!K40 -> 0 | I12: ='Plot (1)'!L38 -> 0 | J12: ='Plot (1)'!M38 -> 0 | K12: ='Plot (1)'!L39 -> 0 | L12: ='Plot (1)'!M39 -> 0 | M12: ='Plot (1)'!L40 -> 0 | N12: ='Plot (1)'!M40 -> 0 | O12: ='Plot (1)'!N38 -> 0 | P12: ='Plot (1)'!O38 -> 0 | Q12: ='Plot (1)'!N39 -> 0 | R12: ='Plot (1)'!O39 -> 0 | S12: ='Plot (1)'!N40 -> 0 | T12: ='Plot (1)'!O40 -> 0 | U12: ='Plot (1)'!P38 -> 0 | V12: ='Plot (1)'!Q38 -> 0 | W12: ='Plot (1)'!P39 -> 0 | X12: ='Plot (1)'!Q39 -> 0 | Y12: ='Plot (1)'!P40 -> 0 | Z12: ='Plot (1)'!Q40 -> 0 | AA12: ='Plot (1)'!R38 -> 0 | AB12: ='Plot (1)'!S38 -> 0 | AC12: ='Plot (1)'!R39 -> 0 | AD12: ='Plot (1)'!S39 -> 0 | AE12: ='Plot (1)'!R40 -> 0 | AF12: ='Plot (1)'!S40 -> 0 | AH12: 3 | AI12: =+C24 -> N/A | AJ12: =+SUM(C25:C34) -> 0 | AK12: =+SUM(D25:D34) -> 0 | AL12: =+SUM(E25:E34) -> 0 | AM12: =+SUM(F25:F34) -> 0 | AN12: =+SUM(G25:G34) -> 0 | AO12: =+SUM(H25:H34) -> 0 | AP12: =SUM(AJ12:AO12) -> 0 | AZ12: =SUM(AS12:AX12) -> 0
A13: 2 | B13: FOREST HEALTH DAMAGE AGENTS | C13: =IF(CELL("type",('Plot (2)'!$J$8))="b","N/A",'Plot (2)'!$J$8) -> N/A | I13: =IF(CELL("type",('Plot (2)'!$L$8))="b","N/A",'Plot (2)'!$L$8) -> N/A | O13: =IF(CELL("type",('Plot (2)'!$N$8))="b","N/A",'Plot (2)'!$N$8) -> N/A | U13: =IF(CELL("type",('Plot (2)'!$P$8))="b","N/A",'Plot (2)'!$P$8) -> N/A | AA13: =IF(CELL("type",('Plot (2)'!$R$8))="b","N/A",'Plot (2)'!$R$8) -> N/A | AH13: 3 | AI13: =+I24 -> N/A | AJ13: =+SUM(I25:I34) -> 0 | AK13: =+SUM(J25:J34) -> 0 | AL13: =+SUM(K25:K34) -> 0 | AM13: =+SUM(L25:L34) -> 0 | AN13: =+SUM(M25:M34) -> 0 | AO13: =+SUM(N25:N34) -> 0 | AP13: =SUM(AJ13:AO13) -> 0 | AZ13: =SUM(AS13:AX13) -> 0
A14: 2 | B14: =+'Plot (2)'!A$11 -> 0 | C14: ='Plot (2)'!$J$11 -> 0 | D14: ='Plot (2)'!$K$11 -> 0 | E14: ='Plot (2)'!$J$12 -> 0 | F14: ='Plot (2)'!$K$12 -> 0 | G14: ='Plot (2)'!$J$13 -> 0 | H14: ='Plot (2)'!$K$13 -> 0 | I14: ='Plot (2)'!$L$11 -> 0 | J14: ='Plot (2)'!$M$11 -> 0 | K14: ='Plot (2)'!$L$12 -> 0 | L14: ='Plot (2)'!$M$12 -> 0 | M14: ='Plot (2)'!$L$13 -> 0 | N14: ='Plot (2)'!$M$13 -> 0 | O14: ='Plot (2)'!$N$11 -> 0 | P14: ='Plot (2)'!$O$11 -> 0 | Q14: ='Plot (2)'!$N$12 -> 0 | R14: ='Plot (2)'!$O$12 -> 0 | S14: ='Plot (2)'!$N$13 -> 0 | T14: ='Plot (2)'!$O$13 -> 0 | U14: ='Plot (2)'!$P$11 -> 0 | V14: ='Plot (2)'!$Q$11 -> 0 | W14: ='Plot (2)'!$P$12 -> 0 | X14: ='Plot (2)'!$Q$12 -> 0 | Y14: ='Plot (2)'!$P$13 -> 0 | Z14: ='Plot (2)'!$Q$13 -> 0 | AA14: ='Plot (2)'!$R$11 -> 0 | AB14: ='Plot (2)'!$S$11 -> 0 | AC14: ='Plot (2)'!$R$12 -> 0 | AD14: ='Plot (2)'!$S$12 -> 0 | AE14: ='Plot (2)'!$R$13 -> 0 | AF14: ='Plot (2)'!$S$13 -> 0 | AH14: 3 | AI14: =+O24 -> N/A | AJ14: =+SUM(O25:O34) -> 0 | AK14: =+SUM(P25:P34) -> 0 | AL14: =+SUM(Q25:Q34) -> 0 | AM14: =+SUM(R25:R34) -> 0 | AN14: =+SUM(S25:S34) -> 0 | AO14: =+SUM(T25:T34) -> 0 | AP14: =SUM(AJ14:AO14) -> 0 | AZ14: =SUM(AS14:AX14) -> 0
A15: 2 | B15: =+'Plot (2)'!A$14 -> 0 | C15: ='Plot (2)'!$J$14 -> 0 | D15: ='Plot (2)'!$K$14 -> 0 | E15: ='Plot (2)'!$J$15 -> 0 | F15: ='Plot (2)'!$K$15 -> 0 | G15: ='Plot (2)'!$J$16 -> 0 | H15: ='Plot (2)'!$K$16 -> 0 | I15: ='Plot (2)'!$L$14 -> 0 | J15: ='Plot (2)'!$M$14 -> 0 | K15: ='Plot (2)'!$L$15 -> 0 | L15: ='Plot (2)'!$M$15 -> 0 | M15: ='Plot (2)'!$L$16 -> 0 | N15: ='Plot (2)'!$M$16 -> 0 | O15: ='Plot (2)'!$N$14 -> 0 | P15: ='Plot (2)'!$O$14 -> 0 | Q15: ='Plot (2)'!$N$15 -> 0 | R15: ='Plot (2)'!$O$15 -> 0 | S15: ='Plot (2)'!$N$16 -> 0 | T15: ='Plot (2)'!$O$16 -> 0 | U15: ='Plot (2)'!$P$14 -> 0 | V15: ='Plot (2)'!$Q$14 -> 0 | W15: ='Plot (2)'!$P$15 -> 0 | X15: ='Plot (2)'!$Q$15 -> 0 | Y15: ='Plot (2)'!$P$16 -> 0 | Z15: ='Plot (2)'!$Q$16 -> 0 | AA15: ='Plot (2)'!$R$14 -> 0 | AB15: ='Plot (2)'!$S$14 -> 0 | AC15: ='Plot (2)'!$R$15 -> 0 | AD15: ='Plot (2)'!$S$15 -> 0 | AE15: ='Plot (2)'!$R$16 -> 0 | AF15: ='Plot (2)'!$S$16 -> 0 | AH15: 3 | AI15: =+U24 -> N/A | AJ15: =+SUM(U25:U34) -> 0 | AK15: =+SUM(V25:V34) -> 0 | AL15: =+SUM(W25:W34) -> 0 | AM15: =+SUM(X25:X34) -> 0 | AN15: =+SUM(Y25:Y34) -> 0 | AO15: =+SUM(Z25:Z34) -> 0 | AP15: =SUM(AJ15:AO15) -> 0 | AZ15: =SUM(AS15:AX15) -> 0
